BEGIN:VCALENDAR
VERSION:2.0
PRODID:-//Mybergen.com - ECPv6.15.20//NONSGML v1.0//EN
CALSCALE:GREGORIAN
METHOD:PUBLISH
X-ORIGINAL-URL:https://www.mybergen.com
X-WR-CALDESC:Events for Mybergen.com
REFRESH-INTERVAL;VALUE=DURATION:PT1H
X-Robots-Tag:noindex
X-PUBLISHED-TTL:PT1H
BEGIN:VTIMEZONE
TZID:America/New_York
BEGIN:DAYLIGHT
TZOFFSETFROM:-0500
TZOFFSETTO:-0400
TZNAME:EDT
DTSTART:20250309T070000
END:DAYLIGHT
BEGIN:STANDARD
TZOFFSETFROM:-0400
TZOFFSETTO:-0500
TZNAME:EST
DTSTART:20251102T060000
END:STANDARD
BEGIN:DAYLIGHT
TZOFFSETFROM:-0500
TZOFFSETTO:-0400
TZNAME:EDT
DTSTART:20260308T070000
END:DAYLIGHT
BEGIN:STANDARD
TZOFFSETFROM:-0400
TZOFFSETTO:-0500
TZNAME:EST
DTSTART:20261101T060000
END:STANDARD
BEGIN:DAYLIGHT
TZOFFSETFROM:-0500
TZOFFSETTO:-0400
TZNAME:EDT
DTSTART:20270314T070000
END:DAYLIGHT
BEGIN:STANDARD
TZOFFSETFROM:-0400
TZOFFSETTO:-0500
TZNAME:EST
DTSTART:20271107T060000
END:STANDARD
END:VTIMEZONE
BEGIN:VEVENT
DTSTART;TZID=America/New_York:20260428T190000
DTEND;TZID=America/New_York:20260428T200000
DTSTAMP:20260420T093733
CREATED:20260419T194123Z
LAST-MODIFIED:20260419T194123Z
UID:10025531-1777402800-1777406400@www.mybergen.com
SUMMARY:Wayne Democratic Club presents: The Hidden Network Behind the NJ School Board Battles
DESCRIPTION:The Wayne NJ Democratic Club is pleased to announce the featured speaker for our April 28\, 2026 club meeting: Michael Gottesman—retired attorney\, Wayne resident\, Founder of the New Jersey Public Education Coalition (NJPEC)\, Community Liaison for Defense of Democracy\, Director of Communication for the Energizing Young Voters initiative and a longtime public education advocate.\n\n\n \n\n\nProgram title: The Hidden Network Behind the New Jersey School Board Battles: A look at the national\, state\, and local attacks on public education.\n\n\n \n\n\nThis presentation takes you behind the scenes to identify the organizations\, strategies\, and funding pipelines behind a coordinated effort to de-fund and destabilize public education\, while injecting religious and political ideology into our schools.\n\n\n \n\n\nMr. Gottesman will discuss how the Wayne Board of Education\, and other boards throughout New Jersey\, are already being influenced by outside groups\, and what that influence could mean for students\, families\, and our community.\n\n\n \n\n\nHe will also discuss why it is imperative that you consider a run for your local board of education now and what free training and resources are available for you as a candidate to assist you in your campaign.\n\n\n \n\n\nDate/Time: Tuesday\, April 28\, 2026 • 7:00 PMLocation: Wayne Township Public Library\, 461 Valley Road\, Wayne\, NJ\n\n\n \n\n\nAll are welcome.
URL:https://www.mybergen.com/events/wayne-democratic-club-presents-the-hidden-network-behind-the-nj-school-board-battles/
LOCATION:Wayne Public Library\, 461 Valley Road\, Wayne\, NJ\, 07470\, United States
CATEGORIES:Event
ATTACH;FMTTYPE=image/jpeg:https://www.mybergen.com/wp-content/uploads/2026/04/portrait_a__instagram_feed_4x5_1080x1350.jpg
ORGANIZER;CN="Wayne Democratic Club":MAILTO:waynedemclub@gmail.com
END:VEVENT
END:VCALENDAR