BEGIN:VCALENDAR
VERSION:2.0
PRODID:-//Mybergen.com - ECPv6.15.20//NONSGML v1.0//EN
CALSCALE:GREGORIAN
METHOD:PUBLISH
X-ORIGINAL-URL:https://www.mybergen.com
X-WR-CALDESC:Events for Mybergen.com
REFRESH-INTERVAL;VALUE=DURATION:PT1H
X-Robots-Tag:noindex
X-PUBLISHED-TTL:PT1H
BEGIN:VTIMEZONE
TZID:America/New_York
BEGIN:DAYLIGHT
TZOFFSETFROM:-0500
TZOFFSETTO:-0400
TZNAME:EDT
DTSTART:20250309T070000
END:DAYLIGHT
BEGIN:STANDARD
TZOFFSETFROM:-0400
TZOFFSETTO:-0500
TZNAME:EST
DTSTART:20251102T060000
END:STANDARD
BEGIN:DAYLIGHT
TZOFFSETFROM:-0500
TZOFFSETTO:-0400
TZNAME:EDT
DTSTART:20260308T070000
END:DAYLIGHT
BEGIN:STANDARD
TZOFFSETFROM:-0400
TZOFFSETTO:-0500
TZNAME:EST
DTSTART:20261101T060000
END:STANDARD
BEGIN:DAYLIGHT
TZOFFSETFROM:-0500
TZOFFSETTO:-0400
TZNAME:EDT
DTSTART:20270314T070000
END:DAYLIGHT
BEGIN:STANDARD
TZOFFSETFROM:-0400
TZOFFSETTO:-0500
TZNAME:EST
DTSTART:20271107T060000
END:STANDARD
END:VTIMEZONE
BEGIN:VEVENT
DTSTART;TZID=America/New_York:20260425T100000
DTEND;TZID=America/New_York:20260425T100000
DTSTAMP:20260423T080429
CREATED:20260421T141135Z
LAST-MODIFIED:20260421T141135Z
UID:10025532-1777111200-1777111200@www.mybergen.com
SUMMARY:Free Willy (1995) at Barrymore Film Center in Fort Lee
DESCRIPTION:
URL:https://www.mybergen.com/events/free-willy-1995-at-barrymore-film-center-in-fort-lee/
LOCATION:Barrymore Film Center\, 153 Main Street\, Fort Lee\, New Jersey
END:VEVENT
BEGIN:VEVENT
DTSTART;TZID=America/New_York:20260425T150000
DTEND;TZID=America/New_York:20260425T150000
DTSTAMP:20260423T080429
CREATED:20260421T141137Z
LAST-MODIFIED:20260421T141137Z
UID:10025534-1777129200-1777129200@www.mybergen.com
SUMMARY:Queen Kelly (1929) with Live Music by Makia Matsumura at Barrymore Film Center in Fort Lee
DESCRIPTION:
URL:https://www.mybergen.com/events/queen-kelly-1929-with-live-music-by-makia-matsumura-at-barrymore-film-center-in-fort-lee/
LOCATION:Barrymore Film Center\, 153 Main Street\, Fort Lee\, New Jersey
END:VEVENT
BEGIN:VEVENT
DTSTART;TZID=America/New_York:20260426T100000
DTEND;TZID=America/New_York:20260426T100000
DTSTAMP:20260423T080429
CREATED:20260421T141136Z
LAST-MODIFIED:20260421T141136Z
UID:10025533-1777197600-1777197600@www.mybergen.com
SUMMARY:Free Willy (1995) at Barrymore Film Center in Fort Lee
DESCRIPTION:
URL:https://www.mybergen.com/events/free-willy-1995-at-barrymore-film-center-in-fort-lee-2/
LOCATION:Barrymore Film Center\, 153 Main Street\, Fort Lee\, New Jersey
END:VEVENT
BEGIN:VEVENT
DTSTART;TZID=America/New_York:20260426T130000
DTEND;TZID=America/New_York:20260426T130000
DTSTAMP:20260423T080429
CREATED:20260421T141138Z
LAST-MODIFIED:20260421T141138Z
UID:10025535-1777208400-1777208400@www.mybergen.com
SUMMARY:Fantasy Life (2025) at Barrymore Film Center in Fort Lee
DESCRIPTION:
URL:https://www.mybergen.com/events/fantasy-life-2025-at-barrymore-film-center-in-fort-lee/
LOCATION:Barrymore Film Center\, 153 Main Street\, Fort Lee\, New Jersey
END:VEVENT
BEGIN:VEVENT
DTSTART;TZID=America/New_York:20260426T160000
DTEND;TZID=America/New_York:20260426T160000
DTSTAMP:20260423T080429
CREATED:20260421T141138Z
LAST-MODIFIED:20260421T141138Z
UID:10025536-1777219200-1777219200@www.mybergen.com
SUMMARY:All That Jazz (1979) at Barrymore Film Center in Fort Lee
DESCRIPTION:
URL:https://www.mybergen.com/events/all-that-jazz-1979-at-barrymore-film-center-in-fort-lee/
LOCATION:Barrymore Film Center\, 153 Main Street\, Fort Lee\, New Jersey
END:VEVENT
BEGIN:VEVENT
DTSTART;TZID=America/New_York:20260426T193000
DTEND;TZID=America/New_York:20260426T193000
DTSTAMP:20260423T080429
CREATED:20260421T141142Z
LAST-MODIFIED:20260421T141142Z
UID:10025537-1777231800-1777231800@www.mybergen.com
SUMMARY:Fantasy Life (2025) at Barrymore Film Center in Fort Lee
DESCRIPTION:
URL:https://www.mybergen.com/events/fantasy-life-2025-at-barrymore-film-center-in-fort-lee-2/
LOCATION:Barrymore Film Center\, 153 Main Street\, Fort Lee\, New Jersey
END:VEVENT
BEGIN:VEVENT
DTSTART;TZID=America/New_York:20260429T193000
DTEND;TZID=America/New_York:20260429T193000
DTSTAMP:20260423T080429
CREATED:20260421T141142Z
LAST-MODIFIED:20260421T141142Z
UID:10025538-1777491000-1777491000@www.mybergen.com
SUMMARY:The President’s Cake (2025) at Barrymore Film Center in Fort Lee
DESCRIPTION:
URL:https://www.mybergen.com/events/the-presidents-cake-2025-at-barrymore-film-center-in-fort-lee/
LOCATION:Barrymore Film Center\, 153 Main Street\, Fort Lee\, New Jersey
END:VEVENT
BEGIN:VEVENT
DTSTART;TZID=America/New_York:20260430T193000
DTEND;TZID=America/New_York:20260430T193000
DTSTAMP:20260423T080429
CREATED:20260421T141143Z
LAST-MODIFIED:20260421T141143Z
UID:10025539-1777577400-1777577400@www.mybergen.com
SUMMARY:The King’s Warden (2026) at Barrymore Film Center in Fort Lee
DESCRIPTION:
URL:https://www.mybergen.com/events/the-kings-warden-2026-at-barrymore-film-center-in-fort-lee/
LOCATION:Barrymore Film Center\, 153 Main Street\, Fort Lee\, New Jersey
END:VEVENT
BEGIN:VEVENT
DTSTART;TZID=America/New_York:20260501T193000
DTEND;TZID=America/New_York:20260501T193000
DTSTAMP:20260423T080429
CREATED:20260421T141143Z
LAST-MODIFIED:20260421T141143Z
UID:10025540-1777663800-1777663800@www.mybergen.com
SUMMARY:The President’s Cake (2025) at Barrymore Film Center in Fort Lee
DESCRIPTION:
URL:https://www.mybergen.com/events/the-presidents-cake-2025-at-barrymore-film-center-in-fort-lee-2/
LOCATION:Barrymore Film Center\, 153 Main Street\, Fort Lee\, New Jersey
END:VEVENT
BEGIN:VEVENT
DTSTART;TZID=America/New_York:20260502T100000
DTEND;TZID=America/New_York:20260502T100000
DTSTAMP:20260423T080429
CREATED:20260421T141144Z
LAST-MODIFIED:20260421T141144Z
UID:10025541-1777716000-1777716000@www.mybergen.com
SUMMARY:Zootopia (2016) at Barrymore Film Center in Fort Lee
DESCRIPTION:
URL:https://www.mybergen.com/events/zootopia-2016-at-barrymore-film-center-in-fort-lee/
LOCATION:Barrymore Film Center\, 153 Main Street\, Fort Lee\, New Jersey
END:VEVENT
BEGIN:VEVENT
DTSTART;TZID=America/New_York:20260502T140000
DTEND;TZID=America/New_York:20260502T140000
DTSTAMP:20260423T080429
CREATED:20260421T141346Z
LAST-MODIFIED:20260421T141346Z
UID:10025542-1777730400-1777730400@www.mybergen.com
SUMMARY:HipHop Connections at Barrymore Film Center in Fort Lee
DESCRIPTION:
URL:https://www.mybergen.com/events/hiphop-connections-at-barrymore-film-center-in-fort-lee/
LOCATION:Barrymore Film Center\, 153 Main Street\, Fort Lee\, New Jersey
END:VEVENT
BEGIN:VEVENT
DTSTART;TZID=America/New_York:20260502T170000
DTEND;TZID=America/New_York:20260502T170000
DTSTAMP:20260423T080429
CREATED:20260421T141347Z
LAST-MODIFIED:20260421T141347Z
UID:10025543-1777741200-1777741200@www.mybergen.com
SUMMARY:Donnie Darko (2001) at Barrymore Film Center in Fort Lee
DESCRIPTION:
URL:https://www.mybergen.com/events/donnie-darko-2001-at-barrymore-film-center-in-fort-lee/
LOCATION:Barrymore Film Center\, 153 Main Street\, Fort Lee\, New Jersey
END:VEVENT
BEGIN:VEVENT
DTSTART;TZID=America/New_York:20260502T200000
DTEND;TZID=America/New_York:20260502T200000
DTSTAMP:20260423T080429
CREATED:20260421T141348Z
LAST-MODIFIED:20260421T141348Z
UID:10025544-1777752000-1777752000@www.mybergen.com
SUMMARY:The King’s Warden (2026) Barrymore Film Center in Fort Lee
DESCRIPTION:
URL:https://www.mybergen.com/events/the-kings-warden-2026-barrymore-film-center-in-fort-lee/
LOCATION:Barrymore Film Center\, 153 Main Street\, Fort Lee\, New Jersey
END:VEVENT
BEGIN:VEVENT
DTSTART;TZID=America/New_York:20260503T100000
DTEND;TZID=America/New_York:20260503T100000
DTSTAMP:20260423T080429
CREATED:20260421T141348Z
LAST-MODIFIED:20260421T141348Z
UID:10025545-1777802400-1777802400@www.mybergen.com
SUMMARY:Zootopia (2016) at Barrymore Film Center in Fort Lee
DESCRIPTION:
URL:https://www.mybergen.com/events/zootopia-2016-at-barrymore-film-center-in-fort-lee-2/
LOCATION:Barrymore Film Center\, 153 Main Street\, Fort Lee\, New Jersey
END:VEVENT
BEGIN:VEVENT
DTSTART;TZID=America/New_York:20260503T130000
DTEND;TZID=America/New_York:20260503T130000
DTSTAMP:20260423T080429
CREATED:20260421T141349Z
LAST-MODIFIED:20260421T141349Z
UID:10025546-1777813200-1777813200@www.mybergen.com
SUMMARY:The King’s Warden (2026) Barrymore Film Center in Fort Lee
DESCRIPTION:
URL:https://www.mybergen.com/events/the-kings-warden-2026-barrymore-film-center-in-fort-lee-2/
LOCATION:Barrymore Film Center\, 153 Main Street\, Fort Lee\, New Jersey
END:VEVENT
BEGIN:VEVENT
DTSTART;TZID=America/New_York:20260503T193000
DTEND;TZID=America/New_York:20260503T193000
DTSTAMP:20260423T080429
CREATED:20260421T141547Z
LAST-MODIFIED:20260421T141547Z
UID:10025547-1777836600-1777836600@www.mybergen.com
SUMMARY:The President’s Cake (2025) at Barrymore Film Center in Fort Lee
DESCRIPTION:
URL:https://www.mybergen.com/events/the-presidents-cake-2025-at-barrymore-film-center-in-fort-lee-3/
LOCATION:Barrymore Film Center\, 153 Main Street\, Fort Lee\, New Jersey
END:VEVENT
BEGIN:VEVENT
DTSTART;TZID=America/New_York:20260504T160000
DTEND;TZID=America/New_York:20260504T160000
DTSTAMP:20260423T080429
CREATED:20260421T141548Z
LAST-MODIFIED:20260421T141548Z
UID:10025548-1777910400-1777910400@www.mybergen.com
SUMMARY:Film Noir with Foster Hirsch: Night and the City (1950) at Barrymore Film Center in Fort Lee
DESCRIPTION:
URL:https://www.mybergen.com/events/film-noir-with-foster-hirsch-night-and-the-city-1950-at-barrymore-film-center-in-fort-lee/
LOCATION:Barrymore Film Center\, 153 Main Street\, Fort Lee\, New Jersey
END:VEVENT
BEGIN:VEVENT
DTSTART;TZID=America/New_York:20260504T193000
DTEND;TZID=America/New_York:20260504T193000
DTSTAMP:20260423T080429
CREATED:20260421T141549Z
LAST-MODIFIED:20260421T141549Z
UID:10025549-1777923000-1777923000@www.mybergen.com
SUMMARY:Star Wars: Episode IV - A New Hope (1977) at Barrymore Film Center in Fort Lee
DESCRIPTION:
URL:https://www.mybergen.com/events/star-wars-episode-iv-a-new-hope-1977-at-barrymore-film-center-in-fort-lee-3/
LOCATION:Barrymore Film Center\, 153 Main Street\, Fort Lee\, New Jersey
END:VEVENT
BEGIN:VEVENT
DTSTART;TZID=America/New_York:20260506T193000
DTEND;TZID=America/New_York:20260506T193000
DTSTAMP:20260423T080429
CREATED:20260421T141549Z
LAST-MODIFIED:20260421T141549Z
UID:10025550-1778095800-1778095800@www.mybergen.com
SUMMARY:Memories of Murder (2003) at Barrymore Film Center in Fort Lee
DESCRIPTION:
URL:https://www.mybergen.com/events/memories-of-murder-2003-at-barrymore-film-center-in-fort-lee/
LOCATION:Barrymore Film Center\, 153 Main Street\, Fort Lee\, New Jersey
END:VEVENT
BEGIN:VEVENT
DTSTART;TZID=America/New_York:20260508T193000
DTEND;TZID=America/New_York:20260508T193000
DTSTAMP:20260423T080429
CREATED:20260421T141550Z
LAST-MODIFIED:20260421T141550Z
UID:10025551-1778268600-1778268600@www.mybergen.com
SUMMARY:Ann Talman: Elizabeth Taylor and The Shadow of Her Smile at Barrymore Film Center in Fort Lee
DESCRIPTION:
URL:https://www.mybergen.com/events/ann-talman-elizabeth-taylor-and-the-shadow-of-her-smile-at-barrymore-film-center-in-fort-lee/
LOCATION:Barrymore Film Center\, 153 Main Street\, Fort Lee\, New Jersey
END:VEVENT
BEGIN:VEVENT
DTSTART;TZID=America/New_York:20260509T100000
DTEND;TZID=America/New_York:20260509T100000
DTSTAMP:20260423T080429
CREATED:20260421T141749Z
LAST-MODIFIED:20260421T141749Z
UID:10025552-1778320800-1778320800@www.mybergen.com
SUMMARY:National Velvet (1944) at Barrymore Film Center in Fort Lee
DESCRIPTION:
URL:https://www.mybergen.com/events/national-velvet-1944-at-barrymore-film-center-in-fort-lee/
LOCATION:Barrymore Film Center\, 153 Main Street\, Fort Lee\, New Jersey
END:VEVENT
BEGIN:VEVENT
DTSTART;TZID=America/New_York:20260509T193000
DTEND;TZID=America/New_York:20260509T193000
DTSTAMP:20260423T080429
CREATED:20260421T141750Z
LAST-MODIFIED:20260421T141750Z
UID:10025554-1778355000-1778355000@www.mybergen.com
SUMMARY:Mariachi Real De Mexic at Barrymore Film Center in Fort Lee
DESCRIPTION:
URL:https://www.mybergen.com/events/mariachi-real-de-mexic-at-barrymore-film-center-in-fort-lee/
LOCATION:Barrymore Film Center\, 153 Main Street\, Fort Lee\, New Jersey
END:VEVENT
BEGIN:VEVENT
DTSTART;TZID=America/New_York:20260510T100000
DTEND;TZID=America/New_York:20260510T100000
DTSTAMP:20260423T080429
CREATED:20260421T141750Z
LAST-MODIFIED:20260421T141750Z
UID:10025553-1778407200-1778407200@www.mybergen.com
SUMMARY:National Velvet (1944) at Barrymore Film Center in Fort Lee
DESCRIPTION:
URL:https://www.mybergen.com/events/national-velvet-1944-at-barrymore-film-center-in-fort-lee-2/
LOCATION:Barrymore Film Center\, 153 Main Street\, Fort Lee\, New Jersey
END:VEVENT
BEGIN:VEVENT
DTSTART;TZID=America/New_York:20260510T163000
DTEND;TZID=America/New_York:20260510T163000
DTSTAMP:20260423T080429
CREATED:20260421T141751Z
LAST-MODIFIED:20260421T141751Z
UID:10025555-1778430600-1778430600@www.mybergen.com
SUMMARY:Terms of Endearment (1983) at Barrymore Film Center in Fort Lee
DESCRIPTION:
URL:https://www.mybergen.com/events/terms-of-endearment-1983-at-barrymore-film-center-in-fort-lee/
LOCATION:Barrymore Film Center\, 153 Main Street\, Fort Lee\, New Jersey
END:VEVENT
BEGIN:VEVENT
DTSTART;TZID=America/New_York:20260513T110000
DTEND;TZID=America/New_York:20260513T110000
DTSTAMP:20260423T080429
CREATED:20260421T141752Z
LAST-MODIFIED:20260421T141752Z
UID:10025556-1778670000-1778670000@www.mybergen.com
SUMMARY:The Man Who Would Be King (1975) at Barrymore Film Center in Fort Lee
DESCRIPTION:
URL:https://www.mybergen.com/events/the-man-who-would-be-king-1975-at-barrymore-film-center-in-fort-lee/
LOCATION:Barrymore Film Center\, 153 Main Street\, Fort Lee\, New Jersey
END:VEVENT
BEGIN:VEVENT
DTSTART;TZID=America/New_York:20260514T193000
DTEND;TZID=America/New_York:20260514T193000
DTSTAMP:20260423T080429
CREATED:20260421T141949Z
LAST-MODIFIED:20260421T141949Z
UID:10025557-1778787000-1778787000@www.mybergen.com
SUMMARY:Frank London’s Klezmer Brass Allstars at Barrymore Film Center in Fort Lee
DESCRIPTION:
URL:https://www.mybergen.com/events/frank-londons-klezmer-brass-allstars-at-barrymore-film-center-in-fort-lee/
LOCATION:Barrymore Film Center\, 153 Main Street\, Fort Lee\, New Jersey
END:VEVENT
BEGIN:VEVENT
DTSTART;TZID=America/New_York:20260523T190000
DTEND;TZID=America/New_York:20260523T190000
DTSTAMP:20260423T080429
CREATED:20260421T141950Z
LAST-MODIFIED:20260421T141950Z
UID:10025558-1779562800-1779562800@www.mybergen.com
SUMMARY:The Goddess (1934)  and Live Music Performance by Gary Lucas and Feifei Yang at Barrymore Film Center in Fort Lee
DESCRIPTION:
URL:https://www.mybergen.com/events/the-goddess-1934-and-live-music-performance-by-gary-lucas-and-feifei-yang-at-barrymore-film-center-in-fort-lee/
LOCATION:Barrymore Film Center\, 153 Main Street\, Fort Lee\, New Jersey
END:VEVENT
END:VCALENDAR