BEGIN:VCALENDAR
VERSION:2.0
PRODID:-//Mybergen.com - ECPv6.15.20//NONSGML v1.0//EN
CALSCALE:GREGORIAN
METHOD:PUBLISH
X-WR-CALNAME:Mybergen.com
X-ORIGINAL-URL:https://www.mybergen.com
X-WR-CALDESC:Events for Mybergen.com
REFRESH-INTERVAL;VALUE=DURATION:PT1H
X-Robots-Tag:noindex
X-PUBLISHED-TTL:PT1H
BEGIN:VTIMEZONE
TZID:America/New_York
BEGIN:DAYLIGHT
TZOFFSETFROM:-0500
TZOFFSETTO:-0400
TZNAME:EDT
DTSTART:20250309T070000
END:DAYLIGHT
BEGIN:STANDARD
TZOFFSETFROM:-0400
TZOFFSETTO:-0500
TZNAME:EST
DTSTART:20251102T060000
END:STANDARD
BEGIN:DAYLIGHT
TZOFFSETFROM:-0500
TZOFFSETTO:-0400
TZNAME:EDT
DTSTART:20260308T070000
END:DAYLIGHT
BEGIN:STANDARD
TZOFFSETFROM:-0400
TZOFFSETTO:-0500
TZNAME:EST
DTSTART:20261101T060000
END:STANDARD
BEGIN:DAYLIGHT
TZOFFSETFROM:-0500
TZOFFSETTO:-0400
TZNAME:EDT
DTSTART:20270314T070000
END:DAYLIGHT
BEGIN:STANDARD
TZOFFSETFROM:-0400
TZOFFSETTO:-0500
TZNAME:EST
DTSTART:20271107T060000
END:STANDARD
END:VTIMEZONE
BEGIN:VEVENT
DTSTART;TZID=America/New_York:20260502T090000
DTEND;TZID=America/New_York:20260503T170000
DTSTAMP:20260424T142222
CREATED:20260423T122504Z
LAST-MODIFIED:20260423T122504Z
UID:10027488-1777712400-1777827600@www.mybergen.com
SUMMARY:UUCP Garage and Bake Sale
DESCRIPTION:Dates: Saturday\, May 2nd and Sunday\, May 3rd \nTime: 9:00 am – 5:00 pm (both days) \nLocation: 145 West End Ave\, Englewood\, NJ  \nOur annual Spring Garage & Bake Sale is almost here! Join us and help raise funds for The Unitarian Universalist Congregation of the Palisades (UUCP). Any items that don’t sell will be donated to the United Breast Cancer Foundation. Have Questions? Email communications@uucpalisades.org
URL:https://www.mybergen.com/events/uucp-garage-and-bake-sale/
CATEGORIES:Event,Special Event
ATTACH;FMTTYPE=image/png:https://www.mybergen.com/wp-content/uploads/2026/04/GARAGE-BAKE-SALE-2026.png
END:VEVENT
END:VCALENDAR