BEGIN:VCALENDAR
VERSION:2.0
PRODID:-//Mybergen.com - ECPv6.15.20//NONSGML v1.0//EN
CALSCALE:GREGORIAN
METHOD:PUBLISH
X-ORIGINAL-URL:https://www.mybergen.com
X-WR-CALDESC:Events for Mybergen.com
REFRESH-INTERVAL;VALUE=DURATION:PT1H
X-Robots-Tag:noindex
X-PUBLISHED-TTL:PT1H
BEGIN:VTIMEZONE
TZID:America/New_York
BEGIN:DAYLIGHT
TZOFFSETFROM:-0500
TZOFFSETTO:-0400
TZNAME:EDT
DTSTART:20250309T070000
END:DAYLIGHT
BEGIN:STANDARD
TZOFFSETFROM:-0400
TZOFFSETTO:-0500
TZNAME:EST
DTSTART:20251102T060000
END:STANDARD
BEGIN:DAYLIGHT
TZOFFSETFROM:-0500
TZOFFSETTO:-0400
TZNAME:EDT
DTSTART:20260308T070000
END:DAYLIGHT
BEGIN:STANDARD
TZOFFSETFROM:-0400
TZOFFSETTO:-0500
TZNAME:EST
DTSTART:20261101T060000
END:STANDARD
BEGIN:DAYLIGHT
TZOFFSETFROM:-0500
TZOFFSETTO:-0400
TZNAME:EDT
DTSTART:20270314T070000
END:DAYLIGHT
BEGIN:STANDARD
TZOFFSETFROM:-0400
TZOFFSETTO:-0500
TZNAME:EST
DTSTART:20271107T060000
END:STANDARD
END:VTIMEZONE
BEGIN:VEVENT
DTSTART;TZID=America/New_York:20260319T173000
DTEND;TZID=America/New_York:20260319T193000
DTSTAMP:20260422T102153
CREATED:20260303T172859Z
LAST-MODIFIED:20260303T172859Z
UID:10022227-1773941400-1773948600@www.mybergen.com
SUMMARY:Bloom & Blossom: A Baby Expo at Pascack Valley Medical Center Thursday\,
DESCRIPTION:Join us for Bloom & Blossom: a baby expo for expectant parents and new families at Pascack Valley Medical Center. Explore exclusive tours of our birthing center and connect with local community vendors showcasing the latest in baby gear and maternity products. Attendees can enjoy exciting giveaways and the opportunity to meet healthcare professionals and support groups dedicated to guiding families through a healthy and happy parenting journey. Whether you’re preparing to welcome your little one or looking for expert advice\, this event is the perfect place to gather resources\, ask questions\, and celebrate this exciting new chapter in life. Refreshments\, prizes and giveaways will be provided.
URL:https://www.mybergen.com/events/bloom-blossom-a-baby-expo-at-pascack-valley-medical-center-thursday/
LOCATION:Hackensack Meridian Pascack Valley Medical Center\, 250 Old Hook Road\, Westwood\, NJ\, 07675\, United States
CATEGORIES:Bergen County Events,Event,Special Event
ATTACH;FMTTYPE=image/jpeg:https://www.mybergen.com/wp-content/uploads/2026/03/PVMC-Baby-Expo-Flyer-Spring-2026-scaled-e1772567990670.jpg
ORGANIZER;CN="Alexis Fiore":MAILTO:Alexis.Fiore@hackensackumcpv.com
END:VEVENT
END:VCALENDAR