BEGIN:VCALENDAR
VERSION:2.0
PRODID:-//Mybergen.com - ECPv6.15.20//NONSGML v1.0//EN
CALSCALE:GREGORIAN
METHOD:PUBLISH
X-ORIGINAL-URL:https://www.mybergen.com
X-WR-CALDESC:Events for Mybergen.com
REFRESH-INTERVAL;VALUE=DURATION:PT1H
X-Robots-Tag:noindex
X-PUBLISHED-TTL:PT1H
BEGIN:VTIMEZONE
TZID:America/New_York
BEGIN:DAYLIGHT
TZOFFSETFROM:-0500
TZOFFSETTO:-0400
TZNAME:EDT
DTSTART:20250309T070000
END:DAYLIGHT
BEGIN:STANDARD
TZOFFSETFROM:-0400
TZOFFSETTO:-0500
TZNAME:EST
DTSTART:20251102T060000
END:STANDARD
BEGIN:DAYLIGHT
TZOFFSETFROM:-0500
TZOFFSETTO:-0400
TZNAME:EDT
DTSTART:20260308T070000
END:DAYLIGHT
BEGIN:STANDARD
TZOFFSETFROM:-0400
TZOFFSETTO:-0500
TZNAME:EST
DTSTART:20261101T060000
END:STANDARD
BEGIN:DAYLIGHT
TZOFFSETFROM:-0500
TZOFFSETTO:-0400
TZNAME:EDT
DTSTART:20270314T070000
END:DAYLIGHT
BEGIN:STANDARD
TZOFFSETFROM:-0400
TZOFFSETTO:-0500
TZNAME:EST
DTSTART:20271107T060000
END:STANDARD
END:VTIMEZONE
BEGIN:VEVENT
DTSTART;TZID=America/New_York:20260426T100000
DTEND;TZID=America/New_York:20260426T170000
DTSTAMP:20260422T073654
CREATED:20260219T173917Z
LAST-MODIFIED:20260219T173917Z
UID:10022014-1777197600-1777222800@www.mybergen.com
SUMMARY:Stirling's Community Street Fair & Food Truck Fest
DESCRIPTION:This event\, sponsored by the Long Hill Chamber of Commerce\, will be held along Main Avenue between Mercer & Somerset Streets from 10 am to 5 pm\, rain or shine. The street will be closed to vehicle traffic during the event and will be transformed into a giant block party. SHOPPING If you like shopping outdoors\, then this is the place to be. We have quality exhibitors selling a selection of assorted items\, a special arts & crafts section\, live entertainment\, kiddie rides & games\, great festival foods & food trucks\, and so much more. Don’t miss stopping by the many local merchants & civic organizations to see what goodies they are passing out between Union & Essex Streets. FOODIES As you stroll along\, stop to have a bite to eat and sit at tables in our live music area. See the show we have planned with live music\, dancing\, karate demonstrations\, and more. So come hungry and enjoy carnival favorites like sausage & pepper sandwiches\, cheese steaks\, kettle corn\, chicken fingers\, ice cream\, zeppole\, shish kabobs\, gyros\, fresh-cut fries\, fresh-squeezed lemonade\, Italian ice\, and the many great gourmet foods from the food trucks. KIDS We also have The “Kidz Traveling Shindig” which is a section dedicated to children with kiddie bounce rides\, slides\, and interactive blow-ups\, face painters\, sand art & kids’ games\, just to name a few things. MUSIC We will have live entertainment throughout the day. Take the train to the fair! You can take the NJ Transit Train to the Stirling Station\, and you will be at the street fair. If coming by car\, the detour route is Passaic Ave. and Somerset Street. Parking is available at the Train Station lot and on the side streets. Enter the area from Valley Road on Warren Ave. or Passaic Ave. We hope that you’ll consider joining us\, and we look forward to seeing you.
URL:https://www.mybergen.com/events/stirlings-community-street-fair-food-truck-fest/
LOCATION:Held Along Main Avenue\, 393 Main Avenue\, Stirling\, NJ\, 07980\, United States
CATEGORIES:Event,Special Event
ATTACH;FMTTYPE=image/jpeg:https://www.mybergen.com/wp-content/uploads/2026/02/Stirling_SF-4.26.26.jpg
ORGANIZER;CN="JC Promotions Inc.":MAILTO:events@jcpromotions.info
END:VEVENT
BEGIN:VEVENT
DTSTART;TZID=America/New_York:20260517T100000
DTEND;TZID=America/New_York:20260517T160000
DTSTAMP:20260422T073654
CREATED:20260219T201518Z
LAST-MODIFIED:20260219T201518Z
UID:10022017-1779012000-1779033600@www.mybergen.com
SUMMARY:JC's Annual Kenilworth Street Fair & Classic Car Show
DESCRIPTION:Hosted by the Borough of Kenilworth\, the Boulevard will be closed to vehicle traffic from 14th St. to 23rd St. and transformed into a giant block party from 10 am-4:00 pm. This event will feature quality exhibitors\, a special crafter’s section\, lots of great food\, kiddie rides\, a kids’ area\, live music and performances\, local merchants & civic organizations\, and a large classic car show. The car show starts on the west end of the event at 14th Street. SHOPPING Shop till you drop along the Boulevard with over 100 quality exhibitors selling jewelry\, handbags\, sports collectibles\, clothing\, home decor\, and more. There is a special section featuring handmade crafts from local and nearby crafters and artisans\, with unique\, one-of-a-kind items. LIVE ENTERTAINMENT Whether on stage or under our music tents\, you will enjoy the sounds of some very talented cover bands\, soloists\, dancers\, demonstrations from the local karate & dance studios\, and more. It’s also a chance to kick back and take a break in the music section\, filled with tables and chairs for your use. KIDS ZONE Plus lots of fun stuff in the kids’ zone all day\, where the children will enjoy this section filled with kiddie bounce rides\, slides\, interactive blow-ups\, face painting\, sand art & kids games\, and temporary tattoos\, just to name a few. FOOD TRUCKS As you stroll along the Blvd\, stop to have a bite to eat and sit at tables in our live music area. Come hungry and enjoy gourmet food truck favorites like a sausage & pepper sandwich\, cheesesteaks\, kettle corn\, chicken fingers\, ice cream\, zeppoles\, shish kabobs\, gyros\, fresh-cut fries\, fresh-squeezed lemonade\, Italian ice\, and many other great gourmet foods from the food trucks. CAR SHOW This year’s event will again feature a car show of Custom…Classic…Street Rod…Muscle Cars in front of Harding School (Enter from Boulevard & North 14th St./use 426 Boulevard in your GPS). Set up starts after 10 am. Registration  – Day of Show.  Cars must be registered by 1:00 PM to be judged. Trophies for Winners!
URL:https://www.mybergen.com/events/jcs-annual-kenilworth-street-fair-classic-car-show/
LOCATION:Held Along The Boulevard\, 216 Boulevard\, Hasbrouck Heights\, NJ\, 07604\, United States
CATEGORIES:Event,Special Event
ATTACH;FMTTYPE=image/jpeg:https://www.mybergen.com/wp-content/uploads/2026/02/KSF.BC_App-2026-1319x1028-1.jpg
ORGANIZER;CN="JC Promotions Inc.":MAILTO:events@jcpromotions.info
END:VEVENT
BEGIN:VEVENT
DTSTART;TZID=America/New_York:20261017T130000
DTEND;TZID=America/New_York:20261017T210000
DTSTAMP:20260422T073654
CREATED:20260226T155748Z
LAST-MODIFIED:20260226T155748Z
UID:10022144-1792242000-1792270800@www.mybergen.com
SUMMARY:Edison's Fall Family Spectacular Street Fair & Food Truck Fest
DESCRIPTION:Bring the kids to this family event for kiddie rides\, games\, face painting\, sand art\, a pro wrestling ring\, a remote-controlled car track\, and much more! There is something for everyone to do in Edison at the Spectacular! Over Eight Blocks of Food\, Crafts\, Exhibitors\, and a wine and beer garden. This show is open rain or shine. \nSHOPPING If you like shopping this is the place to be. Come to shop at the exhibitor booths along Amboy Ave. There will be crafters & general merchandise vendors selling candles\, jewelry\, homemade dog treats\, toys & novelties\, cutlery\, hair accessories\, wood craft products\, crocheted items\, body lotions\, handmade candles\, home décor\, and much more. Don’t miss stopping by the many local merchants & civic organizations to see what goodies they have. LIVE ENTERTAINMENT There will be 2 stages of live music. The local stage on the corner of 4th St. and Amboy Ave. will have local performers and music. The main stage on 5th St will have regional bands. Tables and chairs will be set up for you to relax\, sit and have a delicious bite to eat. FOOD TRUCKS Great food is the flavor of the day! There will be 2 food courts so stop by the food booths and great food trucks to get a sausage & pepper sandwich or a cheesesteak sandwich\, an empanada\, a gyro\, shish kabobs\, kettle corn\, hamburgers\, hot dogs\, fresh squeezed lemonade & ices\, smoothies\, cupcakes and much more!!! Beer & wine garden on the corner of 5th St. and Amboy Ave. by the entertainment stage. \nKIDS ZONE Between the 5th St stage and Waltuma Ave there will be all kinds of fun stuff to do. There will be game trailer\, blow up rides\, BMX Bike Demo\, face painting\, sand art\, game trailers by the Philly Pretzel Shoppe.  If pro wrestling is your thing\, we have a pro ring set up across from 1st St. with 2 shows throughout the day. \nThis family-friendly event brings the whole community together. Come and join in the fun!
URL:https://www.mybergen.com/events/edisons-fall-family-spectacular-street-fair-food-truck-fest/
LOCATION:Held Along Amboy Avenue\, 1011 Amboy Avenue\, Edison\, NJ\, 08817\, United States
CATEGORIES:Special Event
ATTACH;FMTTYPE=image/jpeg:https://www.mybergen.com/wp-content/uploads/2026/02/Edison-2026.jpg
ORGANIZER;CN="JC Promotions Inc.":MAILTO:events@jcpromotions.info
END:VEVENT
BEGIN:VEVENT
DTSTART;TZID=America/New_York:20261101T100000
DTEND;TZID=America/New_York:20261101T160000
DTSTAMP:20260422T073654
CREATED:20260226T155435Z
LAST-MODIFIED:20260226T155435Z
UID:10022152-1793527200-1793548800@www.mybergen.com
SUMMARY:JC's Annual Holly Jolly Vendor Pop-Up & Craft Fair
DESCRIPTION:It’s never too early to start your holiday shopping. Visit our outdoor fair full with a fabulous array of top-notch exhibitors selling quality items\, arts and crafts\, and collectibles. All exhibitors are hand-picked and chosen for their unique items\, hand-made creations\, start-ups\, and well-groomed businesses\, and together create this posh marketplace. \nStop by…shop a little\, relax\, and enjoy the good food\, great music\, and 75+ exhibitors. Held in the south side Fanwood Train Station Parking Lot\, this event is open 10 am-4 pm and will feature gourmet food trucks\, and live music throughout the day. Parking is available at the North side train station then just walk over the bridge. Use this address for your GPS: 238 North Avenue\, Fanwood\, NJ This event is hosted by the Borough of Fanwood NJ.
URL:https://www.mybergen.com/events/jcs-annual-holly-jolly-vendor-pop-up-craft-fair/
LOCATION:Fanwood Train Station\, 256 South Avenue\, Fanwood\, NJ\, 07023\, United States
CATEGORIES:Special Event
ATTACH;FMTTYPE=image/jpeg:https://www.mybergen.com/wp-content/uploads/2026/02/Web-Fanwood_PopUp-11.1.26.jpg
ORGANIZER;CN="JC Promotions Inc.":MAILTO:events@jcpromotions.info
END:VEVENT
END:VCALENDAR