BEGIN:VCALENDAR
VERSION:2.0
PRODID:-//Mybergen.com - ECPv6.15.20//NONSGML v1.0//EN
CALSCALE:GREGORIAN
METHOD:PUBLISH
X-ORIGINAL-URL:https://www.mybergen.com
X-WR-CALDESC:Events for Mybergen.com
REFRESH-INTERVAL;VALUE=DURATION:PT1H
X-Robots-Tag:noindex
X-PUBLISHED-TTL:PT1H
BEGIN:VTIMEZONE
TZID:America/New_York
BEGIN:DAYLIGHT
TZOFFSETFROM:-0500
TZOFFSETTO:-0400
TZNAME:EDT
DTSTART:20250309T070000
END:DAYLIGHT
BEGIN:STANDARD
TZOFFSETFROM:-0400
TZOFFSETTO:-0500
TZNAME:EST
DTSTART:20251102T060000
END:STANDARD
BEGIN:DAYLIGHT
TZOFFSETFROM:-0500
TZOFFSETTO:-0400
TZNAME:EDT
DTSTART:20260308T070000
END:DAYLIGHT
BEGIN:STANDARD
TZOFFSETFROM:-0400
TZOFFSETTO:-0500
TZNAME:EST
DTSTART:20261101T060000
END:STANDARD
BEGIN:DAYLIGHT
TZOFFSETFROM:-0500
TZOFFSETTO:-0400
TZNAME:EDT
DTSTART:20270314T070000
END:DAYLIGHT
BEGIN:STANDARD
TZOFFSETFROM:-0400
TZOFFSETTO:-0500
TZNAME:EST
DTSTART:20271107T060000
END:STANDARD
END:VTIMEZONE
BEGIN:VEVENT
DTSTART;TZID=America/New_York:20260429T180000
DTEND;TZID=America/New_York:20260429T180000
DTSTAMP:20260424T053628
CREATED:20260323T145655Z
LAST-MODIFIED:20260323T145655Z
UID:10024525-1777485600-1777485600@www.mybergen.com
SUMMARY:Advanced Beginner/Intermediate Level Pickleball Clinics at Montclair Pickleball in Fair Lawn
DESCRIPTION:
URL:https://www.mybergen.com/events/advanced-beginner-intermediate-level-pickleball-clinics-at-montclair-pickleball-in-fair-lawn-33/
LOCATION:New Jersey
END:VEVENT
BEGIN:VEVENT
DTSTART;TZID=America/New_York:20260429T180000
DTEND;TZID=America/New_York:20260429T180000
DTSTAMP:20260424T053628
CREATED:20260423T140354Z
LAST-MODIFIED:20260423T140354Z
UID:10027502-1777485600-1777485600@www.mybergen.com
SUMMARY:Ridgefield Carnival (6pm-10pm)
DESCRIPTION:
URL:https://www.mybergen.com/events/ridgefield-carnival-6pm-10pm/
LOCATION:New Jersey
END:VEVENT
BEGIN:VEVENT
DTSTART;TZID=America/New_York:20260429T190000
DTEND;TZID=America/New_York:20260429T190000
DTSTAMP:20260424T053628
CREATED:20260416T004830Z
LAST-MODIFIED:20260416T004830Z
UID:10025100-1777489200-1777489200@www.mybergen.com
SUMMARY:“Achieving Success After 50" Program at Englewood Library
DESCRIPTION:
URL:https://www.mybergen.com/events/achieving-success-after-50-program-at-englewood-library/
LOCATION:Englewood Library\, 31 Engle Street\, Englewood\, United States
END:VEVENT
BEGIN:VEVENT
DTSTART;TZID=America/New_York:20260429T193000
DTEND;TZID=America/New_York:20260429T193000
DTSTAMP:20260424T053628
CREATED:20260321T161438Z
LAST-MODIFIED:20260321T161438Z
UID:10024412-1777491000-1777491000@www.mybergen.com
SUMMARY:Beginner Pickleball Clinics at Montclair Pickleball in Fair Lawn
DESCRIPTION:
URL:https://www.mybergen.com/events/beginner-pickleball-clinics-at-montclair-pickleball-in-fair-lawn-190/
LOCATION:New Jersey
END:VEVENT
BEGIN:VEVENT
DTSTART;TZID=America/New_York:20260429T193000
DTEND;TZID=America/New_York:20260429T193000
DTSTAMP:20260424T053628
CREATED:20260325T143438Z
LAST-MODIFIED:20260325T143438Z
UID:10024569-1777491000-1777491000@www.mybergen.com
SUMMARY:Harry Potter Trivia at Blue Moon in Wyckoff
DESCRIPTION:
URL:https://www.mybergen.com/events/harry-potter-trivia-at-blue-moon-in-wyckoff/
LOCATION:New Jersey
END:VEVENT
BEGIN:VEVENT
DTSTART;TZID=America/New_York:20260429T193000
DTEND;TZID=America/New_York:20260429T193000
DTSTAMP:20260424T053628
CREATED:20260421T141142Z
LAST-MODIFIED:20260421T141142Z
UID:10025538-1777491000-1777491000@www.mybergen.com
SUMMARY:The President’s Cake (2025) at Barrymore Film Center in Fort Lee
DESCRIPTION:
URL:https://www.mybergen.com/events/the-presidents-cake-2025-at-barrymore-film-center-in-fort-lee/
LOCATION:Barrymore Film Center\, 153 Main Street\, Fort Lee\, New Jersey
END:VEVENT
BEGIN:VEVENT
DTSTART;TZID=America/New_York:20260429T193000
DTEND;TZID=America/New_York:20260429T213000
DTSTAMP:20260424T053628
CREATED:20260410T121157Z
LAST-MODIFIED:20260410T121157Z
UID:10024765-1777491000-1777498200@www.mybergen.com
SUMMARY:Roots of Pop & Rock: A Tribute to the '90s
DESCRIPTION:Bergen Community College sets the stage as their talented Pop/Rock ensemble performs a one night show playing hits from the ’90s with The Roots of Pop & Rock Volume III. \nJoin the ensemble on a journey back in time when alternative rock reshaped mainstream radio and pop music soared to new creative heights. The night will play favorites from Nirvana and Green Day to No Doubt and the Spice Girls to Selena and Shakira.  \nWhile the students missed out on playing during the ’90s\, they are excited to display their passion and honed skills. They promise to light up the stage for all attendees\, whether they are re-living the music golden age or experiencing the magic for the first time. Previous installments of the series have delighted audiences with tributes to the greatest songs of the ‘60s through ‘80s.  Volume III closes out the group’s homage to 20th-century popular music on Wednesday\, April 29th at 7:30 p.m. at the college’s Ciccone Theatre in Paramus. \n  Tickets are available at tickets.bergen.edu. Proceeds will go to the BCC Foundation music scholarships\, helping students pursue their education at Bergen\, which offers programs in music performance\, production and business. 
URL:https://www.mybergen.com/events/roots-of-pop-rock-a-tribute-to-the-90s/
LOCATION:Anna Ciccone Theatre\, 400 Paramus Road\, Paramus\, NJ
CATEGORIES:Bergen County Events
ATTACH;FMTTYPE=image/png:https://www.mybergen.com/wp-content/uploads/2026/04/Screenshot-2026-04-09-at-4.41.42-PM.png
END:VEVENT
BEGIN:VEVENT
DTSTART;TZID=America/New_York:20260430T090000
DTEND;TZID=America/New_York:20260430T090000
DTSTAMP:20260424T053628
CREATED:20260323T145858Z
LAST-MODIFIED:20260323T145858Z
UID:10024531-1777539600-1777539600@www.mybergen.com
SUMMARY:Advanced Beginner/Intermediate Level Pickleball Clinics at Montclair Pickleball in Fair Lawn
DESCRIPTION:
URL:https://www.mybergen.com/events/advanced-beginner-intermediate-level-pickleball-clinics-at-montclair-pickleball-in-fair-lawn-39/
LOCATION:New Jersey
END:VEVENT
BEGIN:VEVENT
DTSTART;TZID=America/New_York:20260430T100000
DTEND;TZID=America/New_York:20260430T100000
DTSTAMP:20260424T053628
CREATED:20260317T184751Z
LAST-MODIFIED:20260317T184751Z
UID:10024230-1777543200-1777543200@www.mybergen.com
SUMMARY:Garden Volunteer Days at Garretson Forge & Farm
DESCRIPTION:
URL:https://www.mybergen.com/events/garden-volunteer-days-at-garretson-forge-farm-6/
LOCATION:Garretson Forge & Farm\, 4-02 River Road\, Fair Lawn\, United States
END:VEVENT
BEGIN:VEVENT
DTSTART;TZID=America/New_York:20260430T154500
DTEND;TZID=America/New_York:20260430T154500
DTSTAMP:20260424T053628
CREATED:20260319T142501Z
LAST-MODIFIED:20260319T142501Z
UID:10024325-1777563900-1777563900@www.mybergen.com
SUMMARY:Tiny Tots Program at Lorrimer Sanctuary in Franklin Lakes
DESCRIPTION:
URL:https://www.mybergen.com/events/tiny-tots-program-at-lorrimer-sanctuary-in-franklin-lakes-19/
LOCATION:Lorrimer Sanctuary\, 790 Ewing Avenue\, Franklin Lakes\, New Jersey
END:VEVENT
BEGIN:VEVENT
DTSTART;TZID=America/New_York:20260430T170000
DTEND;TZID=America/New_York:20260430T170000
DTSTAMP:20260424T053628
CREATED:20260321T173103Z
LAST-MODIFIED:20260321T173103Z
UID:10024448-1777568400-1777568400@www.mybergen.com
SUMMARY:Beginner Pickleball Clinics (Age 50+) at Montclair Pickleball in Fair Lawn
DESCRIPTION:
URL:https://www.mybergen.com/events/beginner-pickleball-clinics-age-50-at-montclair-pickleball-in-fair-lawn-22/
LOCATION:New Jersey
END:VEVENT
BEGIN:VEVENT
DTSTART;TZID=America/New_York:20260430T180000
DTEND;TZID=America/New_York:20260430T180000
DTSTAMP:20260424T053628
CREATED:20260318T183409Z
LAST-MODIFIED:20260318T183409Z
UID:10024270-1777572000-1777572000@www.mybergen.com
SUMMARY:Eve Plumb at Bookends in Ridgewood
DESCRIPTION:
URL:https://www.mybergen.com/events/eve-plumb-at-bookends-in-ridgewood/
LOCATION:Bookends\, 211 East Ridgewood Avenue\, Ridgewood\, NJ
END:VEVENT
BEGIN:VEVENT
DTSTART;TZID=America/New_York:20260430T180000
DTEND;TZID=America/New_York:20260430T180000
DTSTAMP:20260424T053628
CREATED:20260413T201233Z
LAST-MODIFIED:20260413T201233Z
UID:10024815-1777572000-1777572000@www.mybergen.com
SUMMARY:Rutherford Rotary Club Presents Comedy Night
DESCRIPTION:
URL:https://www.mybergen.com/events/rutherford-rotary-club-presents-comedy-night/
LOCATION:New Jersey
END:VEVENT
BEGIN:VEVENT
DTSTART;TZID=America/New_York:20260430T180000
DTEND;TZID=America/New_York:20260430T180000
DTSTAMP:20260424T053628
CREATED:20260423T140354Z
LAST-MODIFIED:20260423T140354Z
UID:10027503-1777572000-1777572000@www.mybergen.com
SUMMARY:Ridgefield Carnival (6pm-10pm)
DESCRIPTION:
URL:https://www.mybergen.com/events/ridgefield-carnival-6pm-10pm-2/
LOCATION:New Jersey
END:VEVENT
BEGIN:VEVENT
DTSTART;TZID=America/New_York:20260430T193000
DTEND;TZID=America/New_York:20260430T193000
DTSTAMP:20260424T053628
CREATED:20260421T141143Z
LAST-MODIFIED:20260421T141143Z
UID:10025539-1777577400-1777577400@www.mybergen.com
SUMMARY:The King’s Warden (2026) at Barrymore Film Center in Fort Lee
DESCRIPTION:
URL:https://www.mybergen.com/events/the-kings-warden-2026-at-barrymore-film-center-in-fort-lee/
LOCATION:Barrymore Film Center\, 153 Main Street\, Fort Lee\, New Jersey
END:VEVENT
BEGIN:VEVENT
DTSTART;TZID=America/New_York:20260430T200000
DTEND;TZID=America/New_York:20260430T200000
DTSTAMP:20260424T053628
CREATED:20260322T131558Z
LAST-MODIFIED:20260322T131558Z
UID:10024472-1777579200-1777579200@www.mybergen.com
SUMMARY:Advanced Level (3.5-4.0) Pickleball Clinics at Montclair Pickleball in Fair Lawn
DESCRIPTION:
URL:https://www.mybergen.com/events/advanced-level-3-5-4-0-pickleball-clinics-at-montclair-pickleball-in-fair-lawn-10/
LOCATION:New Jersey
END:VEVENT
BEGIN:VEVENT
DTSTART;TZID=America/New_York:20260501T090000
DTEND;TZID=America/New_York:20260501T090000
DTSTAMP:20260424T053628
CREATED:20260321T161638Z
LAST-MODIFIED:20260321T161638Z
UID:10024418-1777626000-1777626000@www.mybergen.com
SUMMARY:Beginner Pickleball Clinics at Montclair Pickleball in Fair Lawn
DESCRIPTION:
URL:https://www.mybergen.com/events/beginner-pickleball-clinics-at-montclair-pickleball-in-fair-lawn-196/
LOCATION:New Jersey
END:VEVENT
BEGIN:VEVENT
DTSTART;TZID=America/New_York:20260501T100000
DTEND;TZID=America/New_York:20260501T180000
DTSTAMP:20260424T053628
CREATED:20260422T163141Z
LAST-MODIFIED:20260422T163141Z
UID:10025586-1777629600-1777658400@www.mybergen.com
SUMMARY:Garden Club of Teaneck Plant Sale
DESCRIPTION:We are a 501-c3 corporation Herbs\, tomatoes\, figs\, eggplants\, decorative millet\, annuals\, perennials\, coleus\, container arrangements\, our usuals and more — too numerous to list\, all lovingly raised by members. We are also trying to raise money for the replacement of our outof-date 100 year old greenhouse. \nThe Plant Sale takes plance on May 1\, 2\, 3 and May 8\, 9\, 10\, from 10:00 am-6:00 pm.
URL:https://www.mybergen.com/events/garden-club-of-teaneck-plant-sale/
LOCATION:greenhouse\, 300 Lindbergh Blvd\, Teaneck\, 300 Lindbergh blvd Teaneck\, Teaneck\, NJ\, 07666\, United States
CATEGORIES:Special Event
ATTACH;FMTTYPE=image/jpeg:https://www.mybergen.com/wp-content/uploads/2026/04/2026-GCT-plant-sale-poster.jpg
ORGANIZER;CN="Garden Club of Teaneck":MAILTO:gardenclubofteaneck@gmail.com
END:VEVENT
BEGIN:VEVENT
DTSTART;TZID=America/New_York:20260501T180000
DTEND;TZID=America/New_York:20260501T180000
DTSTAMP:20260424T053628
CREATED:20260423T140355Z
LAST-MODIFIED:20260423T140355Z
UID:10027504-1777658400-1777658400@www.mybergen.com
SUMMARY:Ridgefield Carnival
DESCRIPTION:
URL:https://www.mybergen.com/events/ridgefield-carnival-6/
LOCATION:New Jersey
END:VEVENT
BEGIN:VEVENT
DTSTART;TZID=America/New_York:20260501T180000
DTEND;TZID=America/New_York:20260501T210000
DTSTAMP:20260424T053628
CREATED:20260316T123939Z
LAST-MODIFIED:20260317T120316Z
UID:10024193-1777658400-1777669200@www.mybergen.com
SUMMARY:New Milford Woman’s Club Springtime Bingo Bash
DESCRIPTION:Looking for fun with friends or family? The New Milford Woman’s Club Springtime Bingo Bash event is now open for reservations. Bingo games with cash prizes plus a raffle of over 50 gift cards. In conjunction with Bingo\, we are also selling raffle tickets for Shop Rite Gift cards in the amounts of $250\, $100 and $50. \nFor Bingo reservations and/or raffle tickets\, contact Janet at janetd1014@aol.com or call 201-988-1439. Thank you for supporting the New Milford Woman’s Club charitable efforts and scholarships.
URL:https://www.mybergen.com/events/new-milford-womans-club-springtime-bingo-bash/
LOCATION:New Jersey
CATEGORIES:Special Event
ATTACH;FMTTYPE=image/jpeg:https://www.mybergen.com/wp-content/uploads/2026/03/IMG_3022.jpeg
END:VEVENT
BEGIN:VEVENT
DTSTART;TZID=America/New_York:20260501T190000
DTEND;TZID=America/New_York:20260501T190000
DTSTAMP:20260424T053628
CREATED:20260409T132408Z
LAST-MODIFIED:20260409T132408Z
UID:10024709-1777662000-1777662000@www.mybergen.com
SUMMARY:Jeff Allen at Bananas Comedy Club in Rutherford
DESCRIPTION:
URL:https://www.mybergen.com/events/jeff-allen-at-bananas-comedy-club-in-rutherford-4/
LOCATION:Bananas Comedy Club\, 283 Rt 17 South\, Hasbrouck Heights\, United States
END:VEVENT
BEGIN:VEVENT
DTSTART;TZID=America/New_York:20260501T190000
DTEND;TZID=America/New_York:20260501T190000
DTSTAMP:20260424T053628
CREATED:20260423T141121Z
LAST-MODIFIED:20260423T141121Z
UID:10027526-1777662000-1777662000@www.mybergen.com
SUMMARY:Matilda the Musical in Fair Lawn
DESCRIPTION:
URL:https://www.mybergen.com/events/matilda-the-musical-in-fair-lawn/
LOCATION:Fair Lawn Community Center\, 10-10 20th Street\, Fair Lawn\, New Jersey
END:VEVENT
BEGIN:VEVENT
DTSTART;TZID=America/New_York:20260501T190000
DTEND;TZID=America/New_York:20260501T210000
DTSTAMP:20260424T053628
CREATED:20260410T155050Z
LAST-MODIFIED:20260410T155050Z
UID:10024739-1777662000-1777669200@www.mybergen.com
SUMMARY:Jeff Allen: My First Final Farewell Tour
DESCRIPTION:Jeff Allen may (or may not) want to admit it\, but he’s getting old. At 69\, Jeff is staring down his 70th year and decided it might be time to think about slowing down. The result? My First Final Farewell Tour kicks off March 1st\, 2026. Yes\, you read that right—“First” and “Final” in the same sentence—because Jeff’s not totally sure he’s done. (After all\, Cher had 20 farewell tours\, and Elton John is still out there.) What he is sure of: he’s bringing a mix of fan favorites and fresh new material to the stage. \nFrom the classic Happy Wife Happy Life routine you’ve been quoting for years\, to fresh takes on marriage\, family\, and everyday life\, Jeff is pulling it all together for a night that’s hilarious\, unforgettable\, and uplifting. Jeff Allen is one of America’s most beloved comedians\, with nearly 1 billion online views and a record-setting seven Dry Bar Comedy specials. He’s been featured on America’s Got Talent\, The Today Show\, Comedy Central\, Showtime\, and starred in the films Apostles of Comedy and My 7 Grandmas. Millions have seen him across Facebook\, Instagram\, TikTok\, and YouTube—but nothing compares to seeing Jeff live.
URL:https://www.mybergen.com/events/jeff-allen-my-first-final-farewell-tour/
LOCATION:Bananas Comedy Club\, 283 Rt 17 South\, Hasbrouck Heights\, United States
ATTACH;FMTTYPE=image/jpeg:https://www.mybergen.com/wp-content/uploads/2026/04/Jeff-Allen-scaled.jpg
END:VEVENT
BEGIN:VEVENT
DTSTART;TZID=America/New_York:20260501T193000
DTEND;TZID=America/New_York:20260501T193000
DTSTAMP:20260424T053628
CREATED:20260416T004726Z
LAST-MODIFIED:20260416T004726Z
UID:10025093-1777663800-1777663800@www.mybergen.com
SUMMARY:The Director's Lab 2026 One-Act Play Festival
DESCRIPTION:
URL:https://www.mybergen.com/events/the-directors-lab-2026-one-act-play-festival/
LOCATION:New Jersey
END:VEVENT
BEGIN:VEVENT
DTSTART;TZID=America/New_York:20260501T193000
DTEND;TZID=America/New_York:20260501T193000
DTSTAMP:20260424T053628
CREATED:20260421T141143Z
LAST-MODIFIED:20260421T141143Z
UID:10025540-1777663800-1777663800@www.mybergen.com
SUMMARY:The President’s Cake (2025) at Barrymore Film Center in Fort Lee
DESCRIPTION:
URL:https://www.mybergen.com/events/the-presidents-cake-2025-at-barrymore-film-center-in-fort-lee-2/
LOCATION:Barrymore Film Center\, 153 Main Street\, Fort Lee\, New Jersey
END:VEVENT
BEGIN:VEVENT
DTSTART;TZID=America/New_York:20260501T200000
DTEND;TZID=America/New_York:20260501T200000
DTSTAMP:20260424T053628
CREATED:20260416T004727Z
LAST-MODIFIED:20260416T004727Z
UID:10025095-1777665600-1777665600@www.mybergen.com
SUMMARY:Public Viewing Nights at the Emil Buehler Trust Observatory in Paramus
DESCRIPTION:
URL:https://www.mybergen.com/events/public-viewing-nights-at-the-emil-buehler-trust-observatory-in-paramus-8/
LOCATION:New Jersey
END:VEVENT
BEGIN:VEVENT
DTSTART;TZID=America/New_York:20260501T200000
DTEND;TZID=America/New_York:20260501T230000
DTSTAMP:20260424T053628
CREATED:20260418T124526Z
LAST-MODIFIED:20260418T124526Z
UID:10025528-1777665600-1777676400@www.mybergen.com
SUMMARY:The Curtis Brothers at Brvsh Cul7ur3 in Teaneck
DESCRIPTION:The Curtis Brothers\, Zaccai Curtis (piano) and Luques Curtis (bass)\, are Grammy-winning musicians known for their deep-rooted connection to jazz\, Afro-Caribbean rhythms\, and modern improvisation. Born to Dominican parents and raised in the U.S.\, their sound reflects a powerful fusion of cultures\, blending straight-ahead jazz with Latin\, Caribbean\, and global influences. Both accomplished bandleaders and collaborators\, they have performed and recorded with an impressive range of artists\, including Eddie Palmieri\, Christian Scott\, Wynton Marsalis\, and Stefon Harris\, among others. \nTheir performances are marked by virtuosity\,and an infectious rhythmic energy that moves both musicians and audiences alike. Walk in cover charges will be higher than purchasing ticket online in advance Plus $20 food/drink minimum per person per set 08:00 PM – 11:00 PM  
URL:https://www.mybergen.com/events/the-curtis-brothers-at-brvsh-cul7ur3-in-teaneck/
LOCATION:BRVSH CUL7UR3\, 482 Cedar Lane\, Teaneck\, NJ\, 07666\, United States
CATEGORIES:Event
ATTACH;FMTTYPE=image/jpeg:https://www.mybergen.com/wp-content/uploads/2026/04/The-Curtis-Brothers.jpg
ORGANIZER;CN="Brvsh Cul7ur3":MAILTO:info@brvshcul7ur3.com
END:VEVENT
BEGIN:VEVENT
DTSTART;TZID=America/New_York:20260501T203000
DTEND;TZID=America/New_York:20260501T203000
DTSTAMP:20260424T053628
CREATED:20260416T130101Z
LAST-MODIFIED:20260416T131016Z
UID:10025104-1777667400-1777667400@www.mybergen.com
SUMMARY:Doubles for Singles Night at Montclair Pickleball in Fair Lawn
DESCRIPTION:Montclair Pickleball in Fair Lawn is hosting a social event designed for anyone looking to meet people in a relaxed\, active setting. Doubles for Singles Night brings together pickleball\, food\, drinks\, and music for a low-pressure way to connect with others while having a great time on and off the court. \nEach session includes two hours of pickleball\, with players rotating partners throughout the night. Whether you’re brand new to the game or an experienced player\, the format is easygoing and welcoming for all skill levels. After the court time wraps up\, the event shifts into a casual post-pickleball cocktail-style gathering\, giving everyone a chance to talk\, mingle\, and keep the fun going. \nTo make the experience even more comfortable\, Montclair Pickleball is offering separate age-group sessions for ages 25–35\, 35–50\, and 50+. \nDoubles for Singles Upcoming Sessions\n\n\n\n\n\nAges 25 – 35: Fridays\, May 1\, and June 5\, from 8:30 pm-10:00 pm\nAges 35 – 50: Saturdays\, May 23\, and June 20\, from 6:00 pm-8:00 pm \nAges 50+: Saturdays\, May 2\, May 30\, and June 27\, from 6:00 pm-8:00 pm\n\n\n\n\n\nIf you’re looking to get out\, meet new people\, and try something different\, Doubles for Singles Night is a fun\, friendly way to do it. Keep an eye on Montclair Pickleball’s schedule for upcoming dates and registration details. \nFind more information and register here. Montclair Pickleball is located at 21-05 Morlot Avenue in Fair Lawn\, New Jersey. \nRead more about Montclair Pickleball on mybergen.com.
URL:https://www.mybergen.com/events/doubles-for-singles-night-at-montclair-pickleball-in-fair-lawn-7/
LOCATION:New Jersey
ATTACH;FMTTYPE=image/webp:https://www.mybergen.com/wp-content/uploads/2026/01/Doubles-for-Singles-Flyer-e1770308278390.webp
END:VEVENT
BEGIN:VEVENT
DTSTART;TZID=America/New_York:20260502T080000
DTEND;TZID=America/New_York:20260502T080000
DTSTAMP:20260424T053628
CREATED:20260423T140207Z
LAST-MODIFIED:20260423T140207Z
UID:10027490-1777708800-1777708800@www.mybergen.com
SUMMARY:New Meadownlands Market in East Rutherford
DESCRIPTION:
URL:https://www.mybergen.com/events/new-meadownlands-market-in-east-rutherford/
LOCATION:New Jersey
END:VEVENT
BEGIN:VEVENT
DTSTART;TZID=America/New_York:20260502T080000
DTEND;TZID=America/New_York:20260502T170000
DTSTAMP:20260424T053628
CREATED:20250708T205404Z
LAST-MODIFIED:20250830T212244Z
UID:10017649-1777708800-1777741200@www.mybergen.com
SUMMARY:“The Lillias White Effect” featuring Broadway’s Lillias White
DESCRIPTION:In her show\, The Lillias White Effect\, Lillias pulls back the show curtain to tell humorous\, poignant and inspiring stories from both her personal and show business life that she has never shared before\, onstage or off. In this brand-new concert\, audiences can expect to hear the music of Frank Loesser\, Stephen Sondheim\, Ann Hampton Callaway\, Jerry Herman\, Cy Coleman and more. Lillias White\, a native New Yorker\, made her Broadway debut in Barnum. She has also appeared on Broadway in Hadestown\, Cats\, Carrie\, Dreamgirls\, Once On This Island\, How To Succeed In Business Without Really Trying\, Chicago and Fela! (Tony Award nomination).
URL:https://www.mybergen.com/events/the-lillias-white-effect-featuring-broadways-lillias-white/
LOCATION:Arch Performances\, 505 Ramapo Valley Road\, Mahwah\, NJ\, 07430
CATEGORIES:Bergen County Events,Event,Special Event
ATTACH;FMTTYPE=image/jpeg:https://www.mybergen.com/wp-content/uploads/2025/07/Lillias-1-scaled.jpg
ORGANIZER;CN="Arch Performances":MAILTO:tickets@ramapo.edu
END:VEVENT
END:VCALENDAR