BEGIN:VCALENDAR
VERSION:2.0
PRODID:-//Mybergen.com - ECPv6.15.20//NONSGML v1.0//EN
CALSCALE:GREGORIAN
METHOD:PUBLISH
X-ORIGINAL-URL:https://www.mybergen.com
X-WR-CALDESC:Events for Mybergen.com
REFRESH-INTERVAL;VALUE=DURATION:PT1H
X-Robots-Tag:noindex
X-PUBLISHED-TTL:PT1H
BEGIN:VTIMEZONE
TZID:America/New_York
BEGIN:DAYLIGHT
TZOFFSETFROM:-0500
TZOFFSETTO:-0400
TZNAME:EDT
DTSTART:20240310T070000
END:DAYLIGHT
BEGIN:STANDARD
TZOFFSETFROM:-0400
TZOFFSETTO:-0500
TZNAME:EST
DTSTART:20241103T060000
END:STANDARD
BEGIN:DAYLIGHT
TZOFFSETFROM:-0500
TZOFFSETTO:-0400
TZNAME:EDT
DTSTART:20250309T070000
END:DAYLIGHT
BEGIN:STANDARD
TZOFFSETFROM:-0400
TZOFFSETTO:-0500
TZNAME:EST
DTSTART:20251102T060000
END:STANDARD
BEGIN:DAYLIGHT
TZOFFSETFROM:-0500
TZOFFSETTO:-0400
TZNAME:EDT
DTSTART:20260308T070000
END:DAYLIGHT
BEGIN:STANDARD
TZOFFSETFROM:-0400
TZOFFSETTO:-0500
TZNAME:EST
DTSTART:20261101T060000
END:STANDARD
END:VTIMEZONE
BEGIN:VEVENT
DTSTART;TZID=America/New_York:20251110T100000
DTEND;TZID=America/New_York:20251110T100000
DTSTAMP:20260420T104731
CREATED:20251023T221451Z
LAST-MODIFIED:20251023T221451Z
UID:10019859-1762768800-1762768800@www.mybergen.com
SUMMARY:Thank A Veteran! at Fort Lee Historic Park (10am-4:30 pm)
DESCRIPTION:
URL:https://www.mybergen.com/events/thank-a-veteran-at-fort-lee-historic-park-10am-430-pm-6/
LOCATION:Fort Lee Historic Park\, Hudson Terrace\, Fort Lee\, New Jersey\, United States
END:VEVENT
BEGIN:VEVENT
DTSTART;TZID=America/New_York:20251110T103000
DTEND;TZID=America/New_York:20251110T103000
DTSTAMP:20260420T104731
CREATED:20251008T141348Z
LAST-MODIFIED:20251008T141348Z
UID:10019482-1762770600-1762770600@www.mybergen.com
SUMMARY:Advanced Beginner/Intermediate Pickleball Clinics at Montclair Pickleball in Fair Lawn
DESCRIPTION:
URL:https://www.mybergen.com/events/advanced-beginner-intermediate-pickleball-clinics-at-montclair-pickleball-in-fair-lawn-46/
END:VEVENT
BEGIN:VEVENT
DTSTART;TZID=America/New_York:20251110T130000
DTEND;TZID=America/New_York:20251110T130000
DTSTAMP:20260420T104731
CREATED:20251007T142848Z
LAST-MODIFIED:20251007T142848Z
UID:10019432-1762779600-1762779600@www.mybergen.com
SUMMARY:Beginner Pickleball Clinics at Montclair Pickleball in Fair Lawn
DESCRIPTION:
URL:https://www.mybergen.com/events/beginner-pickleball-clinics-at-montclair-pickleball-in-fair-lawn-43/
END:VEVENT
BEGIN:VEVENT
DTSTART;TZID=America/New_York:20251110T173000
DTEND;TZID=America/New_York:20251110T173000
DTSTAMP:20260420T104731
CREATED:20251007T143050Z
LAST-MODIFIED:20251007T143050Z
UID:10019437-1762795800-1762795800@www.mybergen.com
SUMMARY:Beginner Pickleball Clinics at Montclair Pickleball in Fair Lawn
DESCRIPTION:
URL:https://www.mybergen.com/events/beginner-pickleball-clinics-at-montclair-pickleball-in-fair-lawn-48/
END:VEVENT
BEGIN:VEVENT
DTSTART;TZID=America/New_York:20251110T180000
DTEND;TZID=America/New_York:20251110T180000
DTSTAMP:20260420T104731
CREATED:20251103T150148Z
LAST-MODIFIED:20251103T150148Z
UID:10019958-1762797600-1762797600@www.mybergen.com
SUMMARY:Mahwah Chamber Taste of the Region
DESCRIPTION:
URL:https://www.mybergen.com/events/mahwah-chamber-taste-of-the-region/
END:VEVENT
BEGIN:VEVENT
DTSTART;TZID=America/New_York:20251110T183000
DTEND;TZID=America/New_York:20251110T183000
DTSTAMP:20260420T104731
CREATED:20250917T142138Z
LAST-MODIFIED:20250917T142138Z
UID:10018976-1762799400-1762799400@www.mybergen.com
SUMMARY:Equine Sound Meditation Program at Bergen Equestrian Center
DESCRIPTION:
URL:https://www.mybergen.com/events/equine-sound-meditation-program-at-bergen-equestrian-center-2/
LOCATION:Bergen Equestrian Center\, 40 Fort Lee Road\, Leonia\, New Jersey
END:VEVENT
BEGIN:VEVENT
DTSTART;TZID=America/New_York:20251110T183000
DTEND;TZID=America/New_York:20251110T183000
DTSTAMP:20260420T104731
CREATED:20251008T141614Z
LAST-MODIFIED:20251008T141614Z
UID:10019487-1762799400-1762799400@www.mybergen.com
SUMMARY:Advanced Beginner/Intermediate Pickleball Clinics at Montclair Pickleball in Fair Lawn
DESCRIPTION:
URL:https://www.mybergen.com/events/advanced-beginner-intermediate-pickleball-clinics-at-montclair-pickleball-in-fair-lawn-51/
END:VEVENT
BEGIN:VEVENT
DTSTART;TZID=America/New_York:20251111T090000
DTEND;TZID=America/New_York:20251111T090000
DTSTAMP:20260420T104731
CREATED:20251015T133217Z
LAST-MODIFIED:20251015T133217Z
UID:10019650-1762851600-1762851600@www.mybergen.com
SUMMARY:Pickleball Clinics (Expert 4.0 Level) at Montclair Pickleball in Fair Lawn
DESCRIPTION:
URL:https://www.mybergen.com/events/pickleball-clinics-expert-4-0-level-at-montclair-pickleball-in-fair-lawn-24/
END:VEVENT
BEGIN:VEVENT
DTSTART;TZID=America/New_York:20251111T100000
DTEND;TZID=America/New_York:20251111T100000
DTSTAMP:20260420T104731
CREATED:20251023T221451Z
LAST-MODIFIED:20251023T221451Z
UID:10019860-1762855200-1762855200@www.mybergen.com
SUMMARY:Thank A Veteran! at Fort Lee Historic Park (10am-4:30 pm)
DESCRIPTION:
URL:https://www.mybergen.com/events/thank-a-veteran-at-fort-lee-historic-park-10am-430-pm-7/
LOCATION:Fort Lee Historic Park\, Hudson Terrace\, Fort Lee\, New Jersey\, United States
END:VEVENT
BEGIN:VEVENT
DTSTART;TZID=America/New_York:20251111T103000
DTEND;TZID=America/New_York:20251111T103000
DTSTAMP:20260420T104731
CREATED:20251007T143452Z
LAST-MODIFIED:20251007T143452Z
UID:10019447-1762857000-1762857000@www.mybergen.com
SUMMARY:Beginner Pickleball Clinics at Montclair Pickleball in Fair Lawn
DESCRIPTION:
URL:https://www.mybergen.com/events/beginner-pickleball-clinics-at-montclair-pickleball-in-fair-lawn-58/
END:VEVENT
BEGIN:VEVENT
DTSTART;TZID=America/New_York:20251111T130000
DTEND;TZID=America/New_York:20251111T130000
DTSTAMP:20260420T104731
CREATED:20251009T124105Z
LAST-MODIFIED:20251009T124105Z
UID:10019499-1762866000-1762866000@www.mybergen.com
SUMMARY:Advanced Beginner/Intermediate Pickleball Clinics at Montclair Pickleball in Fair Lawn
DESCRIPTION:
URL:https://www.mybergen.com/events/advanced-beginner-intermediate-pickleball-clinics-at-montclair-pickleball-in-fair-lawn-59/
END:VEVENT
BEGIN:VEVENT
DTSTART;TZID=America/New_York:20251111T180000
DTEND;TZID=America/New_York:20251111T180000
DTSTAMP:20260420T104731
CREATED:20251015T121653Z
LAST-MODIFIED:20251015T121653Z
UID:10019615-1762884000-1762884000@www.mybergen.com
SUMMARY:Pickleball Clinics (High Intermediate Level) at Montclair Pickleball in Fair Lawn
DESCRIPTION:
URL:https://www.mybergen.com/events/pickleball-clinics-high-intermediate-level-at-montclair-pickleball-in-fair-lawn-5/
END:VEVENT
BEGIN:VEVENT
DTSTART;TZID=America/New_York:20251111T180000
DTEND;TZID=America/New_York:20251111T180000
DTSTAMP:20260420T104731
CREATED:20251028T151850Z
LAST-MODIFIED:20251028T151850Z
UID:10019898-1762884000-1762884000@www.mybergen.com
SUMMARY:Live Music at Twin Door Tavern in Maywood with School of Rock
DESCRIPTION:
URL:https://www.mybergen.com/events/live-music-at-twin-door-tavern-in-maywood-with-school-of-rock/
LOCATION:Twin Door Tavern\, 122 W Pleasant Avenue\, Maywood\, United States
END:VEVENT
BEGIN:VEVENT
DTSTART;TZID=America/New_York:20251111T183000
DTEND;TZID=America/New_York:20251111T183000
DTSTAMP:20260420T104731
CREATED:20251007T143723Z
LAST-MODIFIED:20251007T143723Z
UID:10019452-1762885800-1762885800@www.mybergen.com
SUMMARY:Beginner Pickleball Clinics at Montclair Pickleball in Fair Lawn
DESCRIPTION:
URL:https://www.mybergen.com/events/beginner-pickleball-clinics-at-montclair-pickleball-in-fair-lawn-63/
END:VEVENT
BEGIN:VEVENT
DTSTART;TZID=America/New_York:20251111T193000
DTEND;TZID=America/New_York:20251111T193000
DTSTAMP:20260420T104731
CREATED:20251015T132310Z
LAST-MODIFIED:20251015T132310Z
UID:10019623-1762889400-1762889400@www.mybergen.com
SUMMARY:The Marquee Club in the Spotlight Cabaret at Bergen Performing Arts Center
DESCRIPTION:
URL:https://www.mybergen.com/events/the-marquee-club-in-the-spotlight-cabaret-at-bergen-performing-arts-center/
LOCATION:Bergen Performing Arts Center\, 30 N. Van Brunt Street\, Englewood\, NJ
END:VEVENT
BEGIN:VEVENT
DTSTART;TZID=America/New_York:20251111T193000
DTEND;TZID=America/New_York:20251111T193000
DTSTAMP:20260420T104732
CREATED:20251016T165328Z
LAST-MODIFIED:20251016T165328Z
UID:10019674-1762889400-1762889400@www.mybergen.com
SUMMARY:Pickleball Clinics (Expert 4.0 Level) at Montclair Pickleball in Fair Lawn
DESCRIPTION:
URL:https://www.mybergen.com/events/pickleball-clinics-expert-4-0-level-at-montclair-pickleball-in-fair-lawn-29/
END:VEVENT
BEGIN:VEVENT
DTSTART;TZID=America/New_York:20251111T210000
DTEND;TZID=America/New_York:20251111T210000
DTSTAMP:20260420T104732
CREATED:20251007T143321Z
LAST-MODIFIED:20251007T143321Z
UID:10019442-1762894800-1762894800@www.mybergen.com
SUMMARY:Beginner Pickleball Clinics at Montclair Pickleball in Fair Lawn
DESCRIPTION:
URL:https://www.mybergen.com/events/beginner-pickleball-clinics-at-montclair-pickleball-in-fair-lawn-53/
END:VEVENT
BEGIN:VEVENT
DTSTART;TZID=America/New_York:20251112T090000
DTEND;TZID=America/New_York:20251112T090000
DTSTAMP:20260420T104732
CREATED:20251015T132837Z
LAST-MODIFIED:20251015T132837Z
UID:10019640-1762938000-1762938000@www.mybergen.com
SUMMARY:Pickleball Clinics (High Intermediate Level) at Montclair Pickleball in Fair Lawn
DESCRIPTION:
URL:https://www.mybergen.com/events/pickleball-clinics-high-intermediate-level-at-montclair-pickleball-in-fair-lawn-10/
END:VEVENT
BEGIN:VEVENT
DTSTART;TZID=America/New_York:20251112T103000
DTEND;TZID=America/New_York:20251112T103000
DTSTAMP:20260420T104732
CREATED:20251016T165342Z
LAST-MODIFIED:20251016T165342Z
UID:10019679-1762943400-1762943400@www.mybergen.com
SUMMARY:Pickleball Clinics (Advanced 3.5-4.0 Level) at Montclair Pickleball in Fair Lawn
DESCRIPTION:
URL:https://www.mybergen.com/events/pickleball-clinics-advanced-3-5-4-0-level-at-montclair-pickleball-in-fair-lawn-28/
END:VEVENT
BEGIN:VEVENT
DTSTART;TZID=America/New_York:20251112T103000
DTEND;TZID=America/New_York:20251112T103000
DTSTAMP:20260420T104732
CREATED:20251022T170534Z
LAST-MODIFIED:20251022T170534Z
UID:10019789-1762943400-1762943400@www.mybergen.com
SUMMARY:Apple Pie Baking Class at Abma's Farm
DESCRIPTION:
URL:https://www.mybergen.com/events/apple-pie-baking-class-at-abmas-farm/
LOCATION:Abma’s Farm\, 700 Lawlins Road\, Allendale\, NJ
END:VEVENT
BEGIN:VEVENT
DTSTART;TZID=America/New_York:20251112T121500
DTEND;TZID=America/New_York:20251112T121500
DTSTAMP:20260420T104732
CREATED:20251017T134228Z
LAST-MODIFIED:20251017T134228Z
UID:10019734-1762949700-1762949700@www.mybergen.com
SUMMARY:Safe at Home: Winter & Holiday Safety Workshop at Wyckoff YMCA
DESCRIPTION:
URL:https://www.mybergen.com/events/safe-at-home-winter-holiday-safety-workshop-at-wyckoff-ymca/
END:VEVENT
BEGIN:VEVENT
DTSTART;TZID=America/New_York:20251112T173000
DTEND;TZID=America/New_York:20251112T173000
DTSTAMP:20260420T104732
CREATED:20251017T134229Z
LAST-MODIFIED:20251017T134229Z
UID:10019735-1762968600-1762968600@www.mybergen.com
SUMMARY:Adult Design Workshop: "Greeting Cards" at Wyckoff YMCA
DESCRIPTION:
URL:https://www.mybergen.com/events/adult-design-workshop-greeting-cards-at-wyckoff-ymca/
END:VEVENT
BEGIN:VEVENT
DTSTART;TZID=America/New_York:20251112T180000
DTEND;TZID=America/New_York:20251112T180000
DTSTAMP:20260420T104732
CREATED:20251012T131240Z
LAST-MODIFIED:20251012T131240Z
UID:10019528-1762970400-1762970400@www.mybergen.com
SUMMARY:Advanced Beginner/Intermediate Pickleball Clinics at Montclair Pickleball in Fair Lawn
DESCRIPTION:
URL:https://www.mybergen.com/events/advanced-beginner-intermediate-pickleball-clinics-at-montclair-pickleball-in-fair-lawn-69/
END:VEVENT
BEGIN:VEVENT
DTSTART;TZID=America/New_York:20251112T190000
DTEND;TZID=America/New_York:20251112T190000
DTSTAMP:20260420T104732
CREATED:20251028T163928Z
LAST-MODIFIED:20251028T163928Z
UID:10019908-1762974000-1762974000@www.mybergen.com
SUMMARY:Live Music at Twin Door Tavern in Maywood with
DESCRIPTION:
URL:https://www.mybergen.com/events/live-music-at-twin-door-tavern-in-maywood-with-11/
LOCATION:Twin Door Tavern\, 122 W Pleasant Avenue\, Maywood\, United States
END:VEVENT
BEGIN:VEVENT
DTSTART;TZID=America/New_York:20251112T193000
DTEND;TZID=America/New_York:20251112T193000
DTSTAMP:20260420T104732
CREATED:20251007T143925Z
LAST-MODIFIED:20251007T143925Z
UID:10019457-1762975800-1762975800@www.mybergen.com
SUMMARY:Beginner Pickleball Clinics at Montclair Pickleball in Fair Lawn
DESCRIPTION:
URL:https://www.mybergen.com/events/beginner-pickleball-clinics-at-montclair-pickleball-in-fair-lawn-68/
END:VEVENT
BEGIN:VEVENT
DTSTART;TZID=America/New_York:20251112T200000
DTEND;TZID=America/New_York:20251112T220000
DTSTAMP:20260420T104732
CREATED:20250709T211044Z
LAST-MODIFIED:20250830T212255Z
UID:10017651-1762977600-1762984800@www.mybergen.com
SUMMARY:John Waite
DESCRIPTION:As a solo artist and as the lead singer of The Babys and Bad English\, John Waite (Missing You) was a fixture of album-oriented rock radio stations during the ’70s and ’80s. John Waite had a talent for power ballads and driving arena rock\, occasionally touching on new wave-styled power pop as well. \nJohn will be performing his catalogue of hits from his 40 year career as a solo artist\, with The Babys and Bad English. John Waite’s catalogue of hits features some of the most loved songs of the 80s and 90s – the #1 Worldwide hit ‘Missing You’\, The Babys ‘Isn’t It Time’ and Bad English ‘When I See You Smile’ rank amongst some of his biggest international hits and are still heard on radio today.  Others include ‘Tears’\, ‘Change’ and ‘These Times Are Hard For Lovers’. ‘Every Step Of The Way’ and ‘If Anybody Had A Heart’ appeared on the soundtrack to the 1986 Demi Moore film About Last Night. ‘Deal for Life’\, penned by Martin Page and Bernie Taupin\, was featured in the Days Of Thunder soundtrack. 
URL:https://www.mybergen.com/events/john-waite/
LOCATION:Carteret Performing Arts & Events Center\, 46 WASHINGTON AVENUE\, Carteret\, NJ\, 07008\, United States
CATEGORIES:Event
ATTACH;FMTTYPE=image/jpeg:https://www.mybergen.com/wp-content/uploads/2025/07/JOHN-WAITE-ADMAT-6_19.jpg
ORGANIZER;CN="Carteret Performing Arts &amp%3Bamp%3B Events Center":MAILTO:info@carteretpac.com
END:VEVENT
BEGIN:VEVENT
DTSTART;TZID=America/New_York:20251113T083000
DTEND;TZID=America/New_York:20251113T093000
DTSTAMP:20260420T104732
CREATED:20241115T115216Z
LAST-MODIFIED:20241115T115216Z
UID:10012099-1763022600-1763026200@www.mybergen.com
SUMMARY:Yoga & Meditation with Kanan
DESCRIPTION:Profound\, intelligent\, and transformative\, alignment-based Hatha Vinyasa Yoga is for every age\, body type\, and fitness level. Yoga provides practical tools to create and maintain health and vitality of the body\,  mental clarity\, emotional serenity\, and spiritual well-being. The practice is grounded in the wisdom of Eastern tradition and the philosophy of Patanjali’s Yoga Sutras as a devotional discipline that nourishes whole well-being.  Learn to align yourself intelligently through proper structure\, stability\, and strength to feel well daily. The practice of Yoga is profound\, with many benefits for good health: \n\n\nalleviates postural/structural problems in the body \n\n\nreleases emotional tension \n\n\nincreases focus and concentration \n\n\ngenerates steady energy \n\n\nimproves balance\, flexibility\, and strength \n\n\nbuilds meaningful connections with yourself and others \n\n\nbrings intelligence and clarity to all parts of the body and mind
URL:https://www.mybergen.com/events/yoga-meditation-with-kanan-5/2025-11-13/
LOCATION:Loopwell\, 80 Maple Ave\, Montclair\, NJ\, 07042\, United States
ATTACH;FMTTYPE=image/png:https://www.mybergen.com/wp-content/uploads/2024/11/14-1.png
ORGANIZER;CN="Loopwell":MAILTO:event@loopwithus.com
END:VEVENT
BEGIN:VEVENT
DTSTART;TZID=America/New_York:20251113T093000
DTEND;TZID=America/New_York:20251113T093000
DTSTAMP:20260420T104732
CREATED:20251009T205559Z
LAST-MODIFIED:20251009T205559Z
UID:10019510-1763026200-1763026200@www.mybergen.com
SUMMARY:Advanced Beginner/Intermediate Pickleball Clinics at Montclair Pickleball in Fair Lawn
DESCRIPTION:
URL:https://www.mybergen.com/events/advanced-beginner-intermediate-pickleball-clinics-at-montclair-pickleball-in-fair-lawn-62/
END:VEVENT
BEGIN:VEVENT
DTSTART;TZID=America/New_York:20251113T123000
DTEND;TZID=America/New_York:20251113T123000
DTSTAMP:20260420T104732
CREATED:20251017T134229Z
LAST-MODIFIED:20251017T134229Z
UID:10019736-1763037000-1763037000@www.mybergen.com
SUMMARY:Mini-Teaching Kitchens: Tasty Thursdays! at Wyckoff YMCA
DESCRIPTION:
URL:https://www.mybergen.com/events/mini-teaching-kitchens-tasty-thursdays-at-wyckoff-ymca/
END:VEVENT
BEGIN:VEVENT
DTSTART;TZID=America/New_York:20251113T130000
DTEND;TZID=America/New_York:20251113T130000
DTSTAMP:20260420T104732
CREATED:20250820T173008Z
LAST-MODIFIED:20250830T212255Z
UID:10018399-1763038800-1763038800@www.mybergen.com
SUMMARY:River Vale Farmers Market
DESCRIPTION:
URL:https://www.mybergen.com/events/river-vale-farmers-market-33/
LOCATION:Town Hall Parking Lot\, 406 Rivervale Road\, River Vale\, NJ
END:VEVENT
END:VCALENDAR