BEGIN:VCALENDAR
VERSION:2.0
PRODID:-//Mybergen.com - ECPv6.15.20//NONSGML v1.0//EN
CALSCALE:GREGORIAN
METHOD:PUBLISH
X-WR-CALNAME:Mybergen.com
X-ORIGINAL-URL:https://www.mybergen.com
X-WR-CALDESC:Events for Mybergen.com
REFRESH-INTERVAL;VALUE=DURATION:PT1H
X-Robots-Tag:noindex
X-PUBLISHED-TTL:PT1H
BEGIN:VTIMEZONE
TZID:America/New_York
BEGIN:DAYLIGHT
TZOFFSETFROM:-0500
TZOFFSETTO:-0400
TZNAME:EDT
DTSTART:20250309T070000
END:DAYLIGHT
BEGIN:STANDARD
TZOFFSETFROM:-0400
TZOFFSETTO:-0500
TZNAME:EST
DTSTART:20251102T060000
END:STANDARD
BEGIN:DAYLIGHT
TZOFFSETFROM:-0500
TZOFFSETTO:-0400
TZNAME:EDT
DTSTART:20260308T070000
END:DAYLIGHT
BEGIN:STANDARD
TZOFFSETFROM:-0400
TZOFFSETTO:-0500
TZNAME:EST
DTSTART:20261101T060000
END:STANDARD
BEGIN:DAYLIGHT
TZOFFSETFROM:-0500
TZOFFSETTO:-0400
TZNAME:EDT
DTSTART:20270314T070000
END:DAYLIGHT
BEGIN:STANDARD
TZOFFSETFROM:-0400
TZOFFSETTO:-0500
TZNAME:EST
DTSTART:20271107T060000
END:STANDARD
END:VTIMEZONE
BEGIN:VEVENT
DTSTART;TZID=America/New_York:20260502T170000
DTEND;TZID=America/New_York:20260502T190000
DTSTAMP:20260424T083334
CREATED:20260417T114833Z
LAST-MODIFIED:20260417T114833Z
UID:10025120-1777741200-1777748400@www.mybergen.com
SUMMARY:Morpeth Contemporary Gallery Exhibition\, Mare McClellan - An Echo Familiar
DESCRIPTION:Morpeth Contemporary presents An Echo Familiar\, a solo exhibition of new paintings and sculpture by Mare McClellan\, which further explores the artist’s observations of the natural world and its interconnected systems. The opening reception is on Saturday\, May 2nd from 5-7pm\, and runs through Sunday\, May 24th. The gallery is also hosting a Meet the Artist event on Sunday\, May 17 from 2-4pm.
URL:https://www.mybergen.com/events/morpeth-contemporary-gallery-exhibition-mare-mcclellan-an-echo-familiar/
LOCATION:Morpeth Contemporary\, 43 West Broad St.\, Hopewell\, NJ\, 08525\, United States
CATEGORIES:Special Event
ORGANIZER;CN="Morpeth Contemporary":MAILTO:info@morpethcontemporary.com
END:VEVENT
END:VCALENDAR