BEGIN:VCALENDAR
VERSION:2.0
PRODID:-//Mybergen.com - ECPv6.15.20//NONSGML v1.0//EN
CALSCALE:GREGORIAN
METHOD:PUBLISH
X-WR-CALNAME:Mybergen.com
X-ORIGINAL-URL:https://www.mybergen.com
X-WR-CALDESC:Events for Mybergen.com
REFRESH-INTERVAL;VALUE=DURATION:PT1H
X-Robots-Tag:noindex
X-PUBLISHED-TTL:PT1H
BEGIN:VTIMEZONE
TZID:America/New_York
BEGIN:DAYLIGHT
TZOFFSETFROM:-0500
TZOFFSETTO:-0400
TZNAME:EDT
DTSTART:20250309T070000
END:DAYLIGHT
BEGIN:STANDARD
TZOFFSETFROM:-0400
TZOFFSETTO:-0500
TZNAME:EST
DTSTART:20251102T060000
END:STANDARD
BEGIN:DAYLIGHT
TZOFFSETFROM:-0500
TZOFFSETTO:-0400
TZNAME:EDT
DTSTART:20260308T070000
END:DAYLIGHT
BEGIN:STANDARD
TZOFFSETFROM:-0400
TZOFFSETTO:-0500
TZNAME:EST
DTSTART:20261101T060000
END:STANDARD
BEGIN:DAYLIGHT
TZOFFSETFROM:-0500
TZOFFSETTO:-0400
TZNAME:EDT
DTSTART:20270314T070000
END:DAYLIGHT
BEGIN:STANDARD
TZOFFSETFROM:-0400
TZOFFSETTO:-0500
TZNAME:EST
DTSTART:20271107T060000
END:STANDARD
END:VTIMEZONE
BEGIN:VEVENT
DTSTART;TZID=America/New_York:20260503T100000
DTEND;TZID=America/New_York:20260503T170000
DTSTAMP:20260422T073807
CREATED:20260318T190200Z
LAST-MODIFIED:20260323T181613Z
UID:10024199-1777802400-1777827600@www.mybergen.com
SUMMARY:Springfest Craft\, Antique and Gift Show in Westwood
DESCRIPTION:The annual Springfest Craft\, Antique and Gift Show will be held on Sunday\, May 3\, at Veterans Park\, Broadway and Third Avenue in Westwood\, New Jersey\, from 10:00 am-5:00 pm. \nSpringfest features 125 exhibitors offering a wide variety of arts\, crafts\, antiques\, collectibles\, and gift items. Some of the items you’ll find at the show include pottery\, floral arrangements\, home décor\, jewelry\, apparel\, woodworking\, stained glass\, photography\, soaps\, candles\, pet items\, art outdoor garden items\, chain saw-carved animals\, crochet animals\, handmade baked goods\, and much more. \n\n\n\n\n\n\n\nA dedicated antique and collectibles area will offer vintage and costume jewelry\, bric-a-brac\, pottery\, prints\, linens\, silver\, porcelain\, ephemera\, vintage toys\, lighting\, and more. The gift section will feature an appealing selection of upscale handbags\, clothing\, jewelry\, and more. \nFood vendors will also be on site serving festival favorites\, including Italian ice\, handmade pretzels\, pickles\, and desserts. \nThe show\, sponsored by Westwood Recreation and organized by P.J.’s Promotions\, is held rain or shine. Admission is free. Find more information at www.pjspromotions.com.
URL:https://www.mybergen.com/events/spring-fest-craft-antique-and-gift-show-in-westwood/
LOCATION:Westwood’s Veterans Park\, Broadway and Third Avenue\, Westwood\, New Jersey
ATTACH;FMTTYPE=image/jpeg:https://www.mybergen.com/wp-content/uploads/2026/03/PJs-Westwood-Spring-2026-e1773860448293.jpg
END:VEVENT
BEGIN:VEVENT
DTSTART;TZID=America/New_York:20260503T103000
DTEND;TZID=America/New_York:20260503T103000
DTSTAMP:20260422T073807
CREATED:20260323T150059Z
LAST-MODIFIED:20260323T150059Z
UID:10024537-1777804200-1777804200@www.mybergen.com
SUMMARY:Advanced Beginner/Intermediate Level Pickleball Clinics at Montclair Pickleball in Fair Lawn
DESCRIPTION:
URL:https://www.mybergen.com/events/advanced-beginner-intermediate-level-pickleball-clinics-at-montclair-pickleball-in-fair-lawn-45/
LOCATION:NJ
END:VEVENT
BEGIN:VEVENT
DTSTART;TZID=America/New_York:20260503T110000
DTEND;TZID=America/New_York:20260503T110000
DTSTAMP:20260422T073807
CREATED:20260421T142351Z
LAST-MODIFIED:20260421T142351Z
UID:10025567-1777806000-1777806000@www.mybergen.com
SUMMARY:19th Century Baseball at Ringwood Manor
DESCRIPTION:
URL:https://www.mybergen.com/events/19th-century-baseball-at-ringwood-manor/
LOCATION:Ringwood Manor\, 1304 Sloatsburg Road\, Ringwood\, NJ\, 07456\, United States
END:VEVENT
BEGIN:VEVENT
DTSTART;TZID=America/New_York:20260503T110000
DTEND;TZID=America/New_York:20260503T110000
DTSTAMP:20260422T073807
CREATED:20260421T142754Z
LAST-MODIFIED:20260421T142754Z
UID:10025578-1777806000-1777806000@www.mybergen.com
SUMMARY:Skylands Manor Tours at NJ Botanical Garden in Ringwood (11am-3pm)
DESCRIPTION:
URL:https://www.mybergen.com/events/skylands-manor-tours-at-nj-botanical-garden-in-ringwood-11am-3pm-8/
LOCATION:NJ Botanical Garden\, Morris Road\, Ringwood\, NJ
END:VEVENT
BEGIN:VEVENT
DTSTART;TZID=America/New_York:20260503T113000
DTEND;TZID=America/New_York:20260503T113000
DTSTAMP:20260422T073807
CREATED:20260417T144642Z
LAST-MODIFIED:20260417T144642Z
UID:10025517-1777807800-1777807800@www.mybergen.com
SUMMARY:Family Promise of Bergen County Annual Hike for Hope
DESCRIPTION:
URL:https://www.mybergen.com/events/family-promise-of-bergen-county-annual-hike-for-hope/
LOCATION:Van Neste Square\, E Ridgewood Avenue\, Ridgewood\, New Jersey\, United States
END:VEVENT
BEGIN:VEVENT
DTSTART;TZID=America/New_York:20260503T113000
DTEND;TZID=America/New_York:20260503T153000
DTSTAMP:20260422T073807
CREATED:20260406T193813Z
LAST-MODIFIED:20260406T193813Z
UID:10024645-1777807800-1777822200@www.mybergen.com
SUMMARY:Family Promise of Bergen County Hike for Hope
DESCRIPTION:Since 1993\, the Family Promise Hike for Hope brings community members of all ages together to spread awareness for families facing housing and food insecurity in Bergen County. Participants compete in online fundraising and complete fun\, virtual activities to win prizes\, all leading up to our three-mile walk through the heart of downtown Ridgewood. \nAfter the trek\, Hikers will enjoy activities\, giveaways\, snacks\, music\, games\, contests\, and more. Event proceeds will benefit Family Promise’s vital housing\, support\, and meal programs. \n 
URL:https://www.mybergen.com/events/family-promise-of-bergen-county-hike-for-hope/
LOCATION:20 Van Neste Square\, Ridgewood\, NJ 07450\, 20 Van Neste Square\, Ridgewood\, NJ\, 07450\, United States
CATEGORIES:Bergen County Events
ATTACH;FMTTYPE=image/png:https://www.mybergen.com/wp-content/uploads/2026/04/Family-Promise-Hike-for-Hope-2026.png
ORGANIZER;CN="Family Promise of Bergen County":MAILTO:mcaliendo@bergenfamilypromise.org
END:VEVENT
BEGIN:VEVENT
DTSTART;TZID=America/New_York:20260503T120000
DTEND;TZID=America/New_York:20260503T120000
DTSTAMP:20260422T073807
CREATED:20260322T132359Z
LAST-MODIFIED:20260322T132359Z
UID:10024490-1777809600-1777809600@www.mybergen.com
SUMMARY:High Intermediate Level (3.0-3.5) Pickleball Clinics at Montclair Pickleball in Fair Lawn
DESCRIPTION:
URL:https://www.mybergen.com/events/high-intermediate-level-3-0-3-5-pickleball-clinics-at-montclair-pickleball-in-fair-lawn-16/
LOCATION:NJ
END:VEVENT
BEGIN:VEVENT
DTSTART;TZID=America/New_York:20260503T130000
DTEND;TZID=America/New_York:20260503T130000
DTSTAMP:20260422T073807
CREATED:20260421T141349Z
LAST-MODIFIED:20260421T141349Z
UID:10025546-1777813200-1777813200@www.mybergen.com
SUMMARY:The King’s Warden (2026) Barrymore Film Center in Fort Lee
DESCRIPTION:
URL:https://www.mybergen.com/events/the-kings-warden-2026-barrymore-film-center-in-fort-lee-2/
LOCATION:Barrymore Film Center\, 153 Main Street\, Fort Lee\, New Jersey
END:VEVENT
BEGIN:VEVENT
DTSTART;TZID=America/New_York:20260503T130000
DTEND;TZID=America/New_York:20260503T130000
DTSTAMP:20260422T073807
CREATED:20260421T142352Z
LAST-MODIFIED:20260421T142352Z
UID:10025568-1777813200-1777813200@www.mybergen.com
SUMMARY:19th Century Baseball at Ringwood Manor
DESCRIPTION:
URL:https://www.mybergen.com/events/19th-century-baseball-at-ringwood-manor-2/
LOCATION:Ringwood Manor\, 1304 Sloatsburg Road\, Ringwood\, NJ\, 07456\, United States
END:VEVENT
BEGIN:VEVENT
DTSTART;TZID=America/New_York:20260503T140000
DTEND;TZID=America/New_York:20260503T140000
DTSTAMP:20260422T073807
CREATED:20260321T165746Z
LAST-MODIFIED:20260321T165746Z
UID:10024430-1777816800-1777816800@www.mybergen.com
SUMMARY:Beginner Pickleball Clinics at Montclair Pickleball in Fair Lawn
DESCRIPTION:
URL:https://www.mybergen.com/events/beginner-pickleball-clinics-at-montclair-pickleball-in-fair-lawn-208/
LOCATION:NJ
END:VEVENT
BEGIN:VEVENT
DTSTART;TZID=America/New_York:20260503T140000
DTEND;TZID=America/New_York:20260503T140000
DTSTAMP:20260422T073807
CREATED:20260323T150551Z
LAST-MODIFIED:20260323T150551Z
UID:10024543-1777816800-1777816800@www.mybergen.com
SUMMARY:Advanced Beginner/Intermediate Level Pickleball Clinics at Montclair Pickleball in Fair Lawn
DESCRIPTION:
URL:https://www.mybergen.com/events/advanced-beginner-intermediate-level-pickleball-clinics-at-montclair-pickleball-in-fair-lawn-51/
LOCATION:NJ
END:VEVENT
BEGIN:VEVENT
DTSTART;TZID=America/New_York:20260503T140000
DTEND;TZID=America/New_York:20260503T140000
DTSTAMP:20260422T073807
CREATED:20260409T124940Z
LAST-MODIFIED:20260409T124940Z
UID:10024680-1777816800-1777816800@www.mybergen.com
SUMMARY:Bergen County Players Present  "The 39 Steps"
DESCRIPTION:
URL:https://www.mybergen.com/events/bergen-county-players-present-the-39-steps-2/
LOCATION:Little Firehouse Theatre\, 298 Kinderkamack Road\, Oradell\, NJ
END:VEVENT
BEGIN:VEVENT
DTSTART;TZID=America/New_York:20260503T160000
DTEND;TZID=America/New_York:20260503T160000
DTSTAMP:20260422T073807
CREATED:20260413T200523Z
LAST-MODIFIED:20260413T200523Z
UID:10024799-1777824000-1777824000@www.mybergen.com
SUMMARY:Healthy Kids Running Series - Cresskill
DESCRIPTION:
URL:https://www.mybergen.com/events/healthy-kids-running-series-cresskill-4/
LOCATION:NJ
END:VEVENT
BEGIN:VEVENT
DTSTART;TZID=America/New_York:20260503T170000
DTEND;TZID=America/New_York:20260503T170000
DTSTAMP:20260422T073807
CREATED:20260413T200524Z
LAST-MODIFIED:20260413T200524Z
UID:10024801-1777827600-1777827600@www.mybergen.com
SUMMARY:Healthy Kids Running Series - Glen Rock
DESCRIPTION:
URL:https://www.mybergen.com/events/healthy-kids-running-series-glen-rock-2/
LOCATION:NJ
END:VEVENT
BEGIN:VEVENT
DTSTART;TZID=America/New_York:20260503T190000
DTEND;TZID=America/New_York:20260503T190000
DTSTAMP:20260422T073807
CREATED:20260409T124832Z
LAST-MODIFIED:20260409T124832Z
UID:10024670-1777834800-1777834800@www.mybergen.com
SUMMARY:Audra McDonald at Bergen Performing Arts Center
DESCRIPTION:
URL:https://www.mybergen.com/events/audra-mcdonald-at-bergen-performing-arts-center/
LOCATION:Bergen Performing Arts Center\, 30 N. Van Brunt Street\, Englewood\, NJ
END:VEVENT
BEGIN:VEVENT
DTSTART;TZID=America/New_York:20260503T193000
DTEND;TZID=America/New_York:20260503T193000
DTSTAMP:20260422T073807
CREATED:20260421T141547Z
LAST-MODIFIED:20260421T141547Z
UID:10025547-1777836600-1777836600@www.mybergen.com
SUMMARY:The President’s Cake (2025) at Barrymore Film Center in Fort Lee
DESCRIPTION:
URL:https://www.mybergen.com/events/the-presidents-cake-2025-at-barrymore-film-center-in-fort-lee-3/
LOCATION:Barrymore Film Center\, 153 Main Street\, Fort Lee\, New Jersey
END:VEVENT
BEGIN:VEVENT
DTSTART;TZID=America/New_York:20260504T103000
DTEND;TZID=America/New_York:20260504T103000
DTSTAMP:20260422T073807
CREATED:20260322T141308Z
LAST-MODIFIED:20260322T141308Z
UID:10024497-1777890600-1777890600@www.mybergen.com
SUMMARY:Advanced Beginner/Intermediate Level Pickleball Clinics at Montclair Pickleball in Fair Lawn
DESCRIPTION:
URL:https://www.mybergen.com/events/advanced-beginner-intermediate-level-pickleball-clinics-at-montclair-pickleball-in-fair-lawn-5/
LOCATION:NJ
END:VEVENT
BEGIN:VEVENT
DTSTART;TZID=America/New_York:20260504T130000
DTEND;TZID=America/New_York:20260504T130000
DTSTAMP:20260422T073807
CREATED:20260321T160110Z
LAST-MODIFIED:20260321T160110Z
UID:10024377-1777899600-1777899600@www.mybergen.com
SUMMARY:Beginner Pickleball Clinics at Montclair Pickleball in Fair Lawn
DESCRIPTION:
URL:https://www.mybergen.com/events/beginner-pickleball-clinics-at-montclair-pickleball-in-fair-lawn-155/
LOCATION:NJ
END:VEVENT
BEGIN:VEVENT
DTSTART;TZID=America/New_York:20260504T160000
DTEND;TZID=America/New_York:20260504T160000
DTSTAMP:20260422T073807
CREATED:20260421T141548Z
LAST-MODIFIED:20260421T141548Z
UID:10025548-1777910400-1777910400@www.mybergen.com
SUMMARY:Film Noir with Foster Hirsch: Night and the City (1950) at Barrymore Film Center in Fort Lee
DESCRIPTION:
URL:https://www.mybergen.com/events/film-noir-with-foster-hirsch-night-and-the-city-1950-at-barrymore-film-center-in-fort-lee/
LOCATION:Barrymore Film Center\, 153 Main Street\, Fort Lee\, New Jersey
END:VEVENT
BEGIN:VEVENT
DTSTART;TZID=America/New_York:20260504T173000
DTEND;TZID=America/New_York:20260504T173000
DTSTAMP:20260422T073807
CREATED:20260321T160309Z
LAST-MODIFIED:20260321T160309Z
UID:10024383-1777915800-1777915800@www.mybergen.com
SUMMARY:Beginner Pickleball Clinics at Montclair Pickleball in Fair Lawn
DESCRIPTION:
URL:https://www.mybergen.com/events/beginner-pickleball-clinics-at-montclair-pickleball-in-fair-lawn-161/
LOCATION:NJ
END:VEVENT
BEGIN:VEVENT
DTSTART;TZID=America/New_York:20260504T183000
DTEND;TZID=America/New_York:20260504T183000
DTSTAMP:20260422T073807
CREATED:20260322T141716Z
LAST-MODIFIED:20260322T141716Z
UID:10024503-1777919400-1777919400@www.mybergen.com
SUMMARY:Advanced Beginner/Intermediate Level Pickleball Clinics at Montclair Pickleball in Fair Lawn
DESCRIPTION:
URL:https://www.mybergen.com/events/advanced-beginner-intermediate-level-pickleball-clinics-at-montclair-pickleball-in-fair-lawn-11/
LOCATION:NJ
END:VEVENT
BEGIN:VEVENT
DTSTART;TZID=America/New_York:20260504T183000
DTEND;TZID=America/New_York:20260504T183000
DTSTAMP:20260422T073807
CREATED:20260322T141816Z
LAST-MODIFIED:20260322T141816Z
UID:10024508-1777919400-1777919400@www.mybergen.com
SUMMARY:Advanced Beginner/Intermediate Level Pickleball Clinics at Montclair Pickleball in Fair Lawn
DESCRIPTION:
URL:https://www.mybergen.com/events/advanced-beginner-intermediate-level-pickleball-clinics-at-montclair-pickleball-in-fair-lawn-16/
LOCATION:NJ
END:VEVENT
BEGIN:VEVENT
DTSTART;TZID=America/New_York:20260504T193000
DTEND;TZID=America/New_York:20260504T193000
DTSTAMP:20260422T073807
CREATED:20260421T141549Z
LAST-MODIFIED:20260421T141549Z
UID:10025549-1777923000-1777923000@www.mybergen.com
SUMMARY:Star Wars: Episode IV - A New Hope (1977) at Barrymore Film Center in Fort Lee
DESCRIPTION:
URL:https://www.mybergen.com/events/star-wars-episode-iv-a-new-hope-1977-at-barrymore-film-center-in-fort-lee-3/
LOCATION:Barrymore Film Center\, 153 Main Street\, Fort Lee\, New Jersey
END:VEVENT
BEGIN:VEVENT
DTSTART;TZID=America/New_York:20260505T080000
DTEND;TZID=America/New_York:20260505T080000
DTSTAMP:20260422T073807
CREATED:20260321T160516Z
LAST-MODIFIED:20260321T160516Z
UID:10024389-1777968000-1777968000@www.mybergen.com
SUMMARY:Beginner Pickleball Clinics at Montclair Pickleball in Fair Lawn
DESCRIPTION:
URL:https://www.mybergen.com/events/beginner-pickleball-clinics-at-montclair-pickleball-in-fair-lawn-167/
LOCATION:NJ
END:VEVENT
BEGIN:VEVENT
DTSTART;TZID=America/New_York:20260505T090000
DTEND;TZID=America/New_York:20260505T090000
DTSTAMP:20260422T073807
CREATED:20260322T131347Z
LAST-MODIFIED:20260322T131347Z
UID:10024455-1777971600-1777971600@www.mybergen.com
SUMMARY:Expert Level (4.0+) Pickleball Clinics at Montclair Pickleball in Fair Lawn
DESCRIPTION:
URL:https://www.mybergen.com/events/expert-level-4-0-pickleball-clinics-at-montclair-pickleball-in-fair-lawn-5/
LOCATION:NJ
END:VEVENT
BEGIN:VEVENT
DTSTART;TZID=America/New_York:20260505T093000
DTEND;TZID=America/New_York:20260505T093000
DTSTAMP:20260422T073807
CREATED:20260321T172754Z
LAST-MODIFIED:20260321T172754Z
UID:10024437-1777973400-1777973400@www.mybergen.com
SUMMARY:Beginner Pickleball Clinics (Age 50+) at Montclair Pickleball in Fair Lawn
DESCRIPTION:
URL:https://www.mybergen.com/events/beginner-pickleball-clinics-age-50-at-montclair-pickleball-in-fair-lawn-11/
LOCATION:NJ
END:VEVENT
BEGIN:VEVENT
DTSTART;TZID=America/New_York:20260505T103000
DTEND;TZID=America/New_York:20260505T103000
DTSTAMP:20260422T073807
CREATED:20260321T160852Z
LAST-MODIFIED:20260321T160852Z
UID:10024395-1777977000-1777977000@www.mybergen.com
SUMMARY:Beginner Pickleball Clinics at Montclair Pickleball in Fair Lawn
DESCRIPTION:
URL:https://www.mybergen.com/events/beginner-pickleball-clinics-at-montclair-pickleball-in-fair-lawn-173/
LOCATION:NJ
END:VEVENT
BEGIN:VEVENT
DTSTART;TZID=America/New_York:20260505T130000
DTEND;TZID=America/New_York:20260505T130000
DTSTAMP:20260422T073807
CREATED:20260323T145546Z
LAST-MODIFIED:20260323T145546Z
UID:10024514-1777986000-1777986000@www.mybergen.com
SUMMARY:Advanced Beginner/Intermediate Level Pickleball Clinics at Montclair Pickleball in Fair Lawn
DESCRIPTION:
URL:https://www.mybergen.com/events/advanced-beginner-intermediate-level-pickleball-clinics-at-montclair-pickleball-in-fair-lawn-22/
LOCATION:NJ
END:VEVENT
BEGIN:VEVENT
DTSTART;TZID=America/New_York:20260505T180000
DTEND;TZID=America/New_York:20260505T180000
DTSTAMP:20260422T073807
CREATED:20260322T131957Z
LAST-MODIFIED:20260322T131957Z
UID:10024479-1778004000-1778004000@www.mybergen.com
SUMMARY:High Intermediate Level (3.0-3.5) Pickleball Clinics at Montclair Pickleball in Fair Lawn
DESCRIPTION:
URL:https://www.mybergen.com/events/high-intermediate-level-3-0-3-5-pickleball-clinics-at-montclair-pickleball-in-fair-lawn-5/
LOCATION:NJ
END:VEVENT
BEGIN:VEVENT
DTSTART;TZID=America/New_York:20260505T190000
DTEND;TZID=America/New_York:20260505T190000
DTSTAMP:20260422T073807
CREATED:20260321T161034Z
LAST-MODIFIED:20260321T161034Z
UID:10024401-1778007600-1778007600@www.mybergen.com
SUMMARY:Beginner Pickleball Clinics at Montclair Pickleball in Fair Lawn
DESCRIPTION:
URL:https://www.mybergen.com/events/beginner-pickleball-clinics-at-montclair-pickleball-in-fair-lawn-179/
LOCATION:NJ
END:VEVENT
END:VCALENDAR