BEGIN:VCALENDAR
VERSION:2.0
PRODID:-//Mybergen.com - ECPv6.15.20//NONSGML v1.0//EN
CALSCALE:GREGORIAN
METHOD:PUBLISH
X-WR-CALNAME:Mybergen.com
X-ORIGINAL-URL:https://www.mybergen.com
X-WR-CALDESC:Events for Mybergen.com
REFRESH-INTERVAL;VALUE=DURATION:PT1H
X-Robots-Tag:noindex
X-PUBLISHED-TTL:PT1H
BEGIN:VTIMEZONE
TZID:America/New_York
BEGIN:DAYLIGHT
TZOFFSETFROM:-0500
TZOFFSETTO:-0400
TZNAME:EDT
DTSTART:20250309T070000
END:DAYLIGHT
BEGIN:STANDARD
TZOFFSETFROM:-0400
TZOFFSETTO:-0500
TZNAME:EST
DTSTART:20251102T060000
END:STANDARD
BEGIN:DAYLIGHT
TZOFFSETFROM:-0500
TZOFFSETTO:-0400
TZNAME:EDT
DTSTART:20260308T070000
END:DAYLIGHT
BEGIN:STANDARD
TZOFFSETFROM:-0400
TZOFFSETTO:-0500
TZNAME:EST
DTSTART:20261101T060000
END:STANDARD
BEGIN:DAYLIGHT
TZOFFSETFROM:-0500
TZOFFSETTO:-0400
TZNAME:EDT
DTSTART:20270314T070000
END:DAYLIGHT
BEGIN:STANDARD
TZOFFSETFROM:-0400
TZOFFSETTO:-0500
TZNAME:EST
DTSTART:20271107T060000
END:STANDARD
END:VTIMEZONE
BEGIN:VEVENT
DTSTART;TZID=America/New_York:20260404T120000
DTEND;TZID=America/New_York:20260404T120000
DTSTAMP:20260419T101235
CREATED:20260318T182911Z
LAST-MODIFIED:20260331T150239Z
UID:10024258-1775304000-1775304000@www.mybergen.com
SUMMARY:Easter Trot Into Spring Event at Bergen County Horse Rescue
DESCRIPTION:Bergen County Horse Rescue will host its 10th Annual Easter Trot Into Spring Event on Saturday\, April 4\, 12:00 pm-3:00 pm! Don’t miss this afternoon of family fun featuring photos with the horses and the Easter Bunny\, face painting\, treat-filled eggs\, fun games\, and a children’s raffle.\n \n\nAdmission is $15 per person and children under 5 are free. Proceeds from the event helps support the Rescue’s mission of Caring for Horses Mind\, Body\, and Soul. Find more information and purchase tickets here. Bergen County Horse Rescue is located at 350 Ramapo Valley Road in Mahwah\, New Jersey.
URL:https://www.mybergen.com/events/easter-trot-into-spring-event-at-bergen-county-horse-rescue/
LOCATION:Bergen County Horse Rescue\, 350 Ramapo Valley Road\, Mahwah\, New Jersey
ATTACH;FMTTYPE=image/jpeg:https://www.mybergen.com/wp-content/uploads/2025/03/Easter-Kids.jpg
END:VEVENT
BEGIN:VEVENT
DTSTART;TZID=America/New_York:20260404T113000
DTEND;TZID=America/New_York:20260404T113000
DTSTAMP:20260419T101235
CREATED:20260317T180639Z
LAST-MODIFIED:20260319T171646Z
UID:10024209-1775302200-1775302200@www.mybergen.com
SUMMARY:Extraordinary Egg Hunt at Tenafly Nature Center
DESCRIPTION:Enjoy a new twist on searching for eggs at this Tenafly Nature Center (TNC) event. Kids can head into the forest at TNC for a different kind of egg hunt\, searching for naturally dyed eggs along the trails. After the hunt\, stick around for more egg-citing activities. And be sure to bring your own basket!\n \n\nThere are several Extraordinary Egg Hunt time slots to choose from: 10:00 am\, 11:30 am\, 1:30 pm\, and 3:00 pm. Find more information and register here. Tenafly Nature Center is located at 313 Hudson Avenue in Tenafly\, New Jersey.
URL:https://www.mybergen.com/events/extraordinary-egg-hunt-at-tenafly-nature-center-9/
LOCATION:Tenafly Nature Center\, 313 Hudson Avenue\, Tenafly\, NJ
ATTACH;FMTTYPE=image/jpeg:https://www.mybergen.com/wp-content/uploads/2026/03/Kids-Summer-12.jpg
END:VEVENT
BEGIN:VEVENT
DTSTART;TZID=America/New_York:20260404T100000
DTEND;TZID=America/New_York:20260404T100000
DTSTAMP:20260419T101235
CREATED:20260327T145506Z
LAST-MODIFIED:20260328T221805Z
UID:10024594-1775296800-1775296800@www.mybergen.com
SUMMARY:Brunch with the Bunny at Shannon Rose in Ramsey
DESCRIPTION:The Shannon Rose Irish Pub is hosting a special Brunch with the Easter Bunny on Saturday\, April 4\, from 10:00 am to 4:00 pm. \nThis family-friendly event features a brunch menu with options for both kids and adults\, a DJ\, face paining\, an Easter egg hunt\, crafts\, and the chance to meet and take a photo with the Easter Bunny. \nFind more information and make your reservation here. the Shannon Rose is located at 1200 Route 17 in Ramsey\, New Jersey.
URL:https://www.mybergen.com/events/brunch-with-the-bunny-at-shannon-rose-in-ramsey/
LOCATION:Shannon Rose\, 1200 Rt 17 North\, Ramsey\, United States
ATTACH;FMTTYPE=image/jpeg:https://www.mybergen.com/wp-content/uploads/2026/03/Easter-Brunch.jpg
END:VEVENT
BEGIN:VEVENT
DTSTART;TZID=America/New_York:20260404T100000
DTEND;TZID=America/New_York:20260404T100000
DTSTAMP:20260419T101235
CREATED:20260317T180638Z
LAST-MODIFIED:20260317T180638Z
UID:10024208-1775296800-1775296800@www.mybergen.com
SUMMARY:Extraordinary Egg Hunt at Tenafly Nature Center
DESCRIPTION:
URL:https://www.mybergen.com/events/extraordinary-egg-hunt-at-tenafly-nature-center-8/
LOCATION:Tenafly Nature Center\, 313 Hudson Avenue\, Tenafly\, NJ
END:VEVENT
BEGIN:VEVENT
DTSTART;TZID=America/New_York:20260404T100000
DTEND;TZID=America/New_York:20260404T100000
DTSTAMP:20260419T101235
CREATED:20260225T172022Z
LAST-MODIFIED:20260225T172022Z
UID:10022132-1775296800-1775296800@www.mybergen.com
SUMMARY:Easter Bunny Photos at Shops at Riverside (10am-8pm)
DESCRIPTION:
URL:https://www.mybergen.com/events/easter-bunny-photos-at-shops-at-riverside-10am-8pm-3/
END:VEVENT
BEGIN:VEVENT
DTSTART;TZID=America/New_York:20260404T100000
DTEND;TZID=America/New_York:20260404T100000
DTSTAMP:20260419T101235
CREATED:20260212T163817Z
LAST-MODIFIED:20260212T163817Z
UID:10021865-1775296800-1775296800@www.mybergen.com
SUMMARY:Photos with the Easter Bunny at Garden State Plaza
DESCRIPTION:
URL:https://www.mybergen.com/events/photos-with-the-easter-bunny-at-garden-state-plaza-10/
LOCATION:Garden State Plaza\, One Garden State Plaza\, Paramus\, New Jersey
END:VEVENT
BEGIN:VEVENT
DTSTART;TZID=America/New_York:20260404T090000
DTEND;TZID=America/New_York:20260404T090000
DTSTAMP:20260419T101235
CREATED:20260318T182912Z
LAST-MODIFIED:20260318T182912Z
UID:10024259-1775293200-1775293200@www.mybergen.com
SUMMARY:Yoga for the Soul at Bergen Town Center
DESCRIPTION:
URL:https://www.mybergen.com/events/yoga-for-the-soul-at-bergen-town-center-19/
LOCATION:Bergen Town Center\, Bergen Town Center\, Paramus\, NJ 076520\, Paramus\, NJ\, 076520\, United States
END:VEVENT
BEGIN:VEVENT
DTSTART;TZID=America/New_York:20260404T090000
DTEND;TZID=America/New_York:20260404T090000
DTSTAMP:20260419T101235
CREATED:20260222T195824Z
LAST-MODIFIED:20260222T195824Z
UID:10022072-1775293200-1775293200@www.mybergen.com
SUMMARY:Beginner Pickleball Clinics at Montclair Pickleball in Fair Lawn
DESCRIPTION:
URL:https://www.mybergen.com/events/beginner-pickleball-clinics-at-montclair-pickleball-in-fair-lawn-116/
END:VEVENT
BEGIN:VEVENT
DTSTART;TZID=America/New_York:20260404T080000
DTEND;TZID=America/New_York:20260404T080000
DTSTAMP:20260419T101235
CREATED:20260317T184751Z
LAST-MODIFIED:20260317T184751Z
UID:10024231-1775289600-1775289600@www.mybergen.com
SUMMARY:New Meadowlands Market
DESCRIPTION:
URL:https://www.mybergen.com/events/new-meadowlands-market-9/
LOCATION:MetLife Stadium\, 1 MetLife Stadium Dr\, East Rutherford\, NJ\, United States
END:VEVENT
BEGIN:VEVENT
DTSTART;TZID=America/New_York:20260404T073000
DTEND;TZID=America/New_York:20260404T073000
DTSTAMP:20260419T101235
CREATED:20260226T160247Z
LAST-MODIFIED:20260226T160247Z
UID:10022153-1775287800-1775287800@www.mybergen.com
SUMMARY:Beginner Pickleball Clinics at Montclair Pickleball in Fair Lawn
DESCRIPTION:
URL:https://www.mybergen.com/events/beginner-pickleball-clinics-at-montclair-pickleball-in-fair-lawn-141/
END:VEVENT
BEGIN:VEVENT
DTSTART;TZID=America/New_York:20260403T203000
DTEND;TZID=America/New_York:20260403T203000
DTSTAMP:20260419T101235
CREATED:20260321T155957Z
LAST-MODIFIED:20260321T155957Z
UID:10024365-1775248200-1775248200@www.mybergen.com
SUMMARY:Pickleball & Pizza Night at Montclair Pickleball in Fair Lawn
DESCRIPTION:
URL:https://www.mybergen.com/events/pickleball-pizza-night-at-montclair-pickleball-in-fair-lawn/
END:VEVENT
BEGIN:VEVENT
DTSTART;TZID=America/New_York:20260403T200000
DTEND;TZID=America/New_York:20260403T230000
DTSTAMP:20260419T101235
CREATED:20260313T111851Z
LAST-MODIFIED:20260313T111851Z
UID:10024164-1775246400-1775257200@www.mybergen.com
SUMMARY:Will Lyle at Brvsh Cul7ur3 in Teaneck
DESCRIPTION:Will Lyle is a talented jazz bassist known for his deep groove\, warm tone\, and strong rhythmic foundation. With a style rooted in the traditions of swing and modern jazz\, Lyle brings both musical sensitivity and creative improvisation to every performance. An active presence on the jazz scene\, Lyle has performed with a variety of respected musicians and ensembles\, earning recognition for his ability to anchor the rhythm section while contributing melodic and expressive bass lines. \nWhether performing in intimate club settings or on larger stages\, his playing reflects a deep appreciation for the collaborative spirit and timeless language of jazz. Walk in cover charges will be higher than purchasing ticket online in advance 08:00 PM – 11:00 PM.
URL:https://www.mybergen.com/events/will-lyle-at-brvsh-cul7ur3-in-teaneck/
LOCATION:BRVSH CUL7UR3\, 482 Cedar Lane\, Teaneck\, NJ\, 07666\, United States
ATTACH;FMTTYPE=image/jpeg:https://www.mybergen.com/wp-content/uploads/2026/03/Will-Lyle.jpg
ORGANIZER;CN="Brvsh Cul7ur3":MAILTO:info@brvshcul7ur3.com
END:VEVENT
BEGIN:VEVENT
DTSTART;TZID=America/New_York:20260403T193000
DTEND;TZID=America/New_York:20260403T193000
DTSTAMP:20260419T101235
CREATED:20260318T182704Z
LAST-MODIFIED:20260318T182704Z
UID:10024247-1775244600-1775244600@www.mybergen.com
SUMMARY:Public Viewing Night at Buehler Trust Observatory in Paramus
DESCRIPTION:
URL:https://www.mybergen.com/events/public-viewing-night-at-buehler-trust-observatory-in-paramus/
END:VEVENT
BEGIN:VEVENT
DTSTART;TZID=America/New_York:20260403T190000
DTEND;TZID=America/New_York:20260403T190000
DTSTAMP:20260419T101235
CREATED:20260318T183812Z
LAST-MODIFIED:20260318T183812Z
UID:10024281-1775242800-1775242800@www.mybergen.com
SUMMARY:Shadows Become Substance at Debonair Music Hall in Teaneck
DESCRIPTION:
URL:https://www.mybergen.com/events/shadows-become-substance-at-debonair-music-hall-in-teaneck-2/
LOCATION:Debonair Music Hall\, 1409 Queen Anne Road\, Teaneck\, New Jersey
END:VEVENT
BEGIN:VEVENT
DTSTART;TZID=America/New_York:20260403T173000
DTEND;TZID=America/New_York:20260403T173000
DTSTAMP:20260419T101235
CREATED:20260226T134534Z
LAST-MODIFIED:20260226T134534Z
UID:10022145-1775237400-1775237400@www.mybergen.com
SUMMARY:Advanced Beginner/Intermediate Pickleball Clinics at Montclair Pickleball in Fair Lawn
DESCRIPTION:
URL:https://www.mybergen.com/events/advanced-beginner-intermediate-pickleball-clinics-at-montclair-pickleball-in-fair-lawn-132/
END:VEVENT
BEGIN:VEVENT
DTSTART;TZID=America/New_York:20260403T110000
DTEND;TZID=America/New_York:20260403T110000
DTSTAMP:20260419T101235
CREATED:20260212T214421Z
LAST-MODIFIED:20260212T214421Z
UID:10021879-1775214000-1775214000@www.mybergen.com
SUMMARY:Photos with the Easter Bunny at Garden State Plaza
DESCRIPTION:
URL:https://www.mybergen.com/events/photos-with-the-easter-bunny-at-garden-state-plaza-23/
LOCATION:Garden State Plaza\, One Garden State Plaza\, Paramus\, New Jersey
END:VEVENT
BEGIN:VEVENT
DTSTART;TZID=America/New_York:20260403T073000
DTEND;TZID=America/New_York:20260403T073000
DTSTAMP:20260419T101235
CREATED:20260318T182810Z
LAST-MODIFIED:20260327T191349Z
UID:10024251-1775201400-1775201400@www.mybergen.com
SUMMARY:“Hair: The American Tribal Love-Rock Musical” at Ciccone Theatre in Paramus
DESCRIPTION:The Bergen Institute for the Creative Arts and Bergenstages will present the musical “Hair” at the Ciccone Theater in Paramus\, April 3 through April 11.\n \n\n\n“Hair” won Grammy and Tony awards for its celebration of 1960s counterculture. Set in 1967 during the Vietnam War\, the story follows a group of hippies fighting the establishment\, dodging the draft and living in New York City. Exploring ideas of identity\, community\, global responsibility\, and peace\, “Hair” remains as relevant as ever as it examines what it means to be a young person in a changing world. \nPerformances Schedule: \n\nFridays\, April 3 and April 10\, at 7:30 pm\nSaturdays\, April 4 and April 11\, at 2:00 pm and 7:30 pm\nThursday\, April 9\, at 7:30 pm\n\nAudiences are invited to attend a special post-show audience talk-back immediately following the April 9 performance. Tickets are $18 for general admission\, $12 for seniors (age 65+) and $5 for all students. \nTo purchase tickets\, visit tickets.bergen.edu or call 201-447-7428. The Ciccone Theatre is located on the campus of Bergen Community College\, 400 Paramus Road\, Paramus\, New Jersey.
URL:https://www.mybergen.com/events/hair-the-american-tribal-love-rock-musical-at-ciccone-theatre-in-paramus/
LOCATION:Ciccone Theatre\, 400 Paramus Road\, Paramus\, New Jersey
ATTACH;FMTTYPE=image/jpeg:https://www.mybergen.com/wp-content/uploads/2026/03/Hair-BCC.jpg
END:VEVENT
BEGIN:VEVENT
DTSTART;TZID=America/New_York:20260402T200000
DTEND;TZID=America/New_York:20260402T210000
DTSTAMP:20260419T101235
CREATED:20260331T104448Z
LAST-MODIFIED:20260331T104448Z
UID:10024621-1775160000-1775163600@www.mybergen.com
SUMMARY:Full Moon Float - Aerial Restorative Yoga & Sound Healing
DESCRIPTION:On April 2\, 2026\, the lunar moon is the Full Pink Moon. It is the first full moon of spring\, which rises in the east around sunset and illuminates the night sky with a golden white brilliance\, which signifies the blooming of early spring. A restorative class using aerial hammocks set to a low height instead of the traditional bolsters and blocks to support the body in a series of slow\, gentle postures designed to bring the body and mind into alignment and relaxation. Under the glow of the Full Moon\, we invite you to float\, soften\, and surrender. This low-flying Aerial Yoga & Meditation experience is designed to gently support your body in silk hammocks\, allowing your nervous system to unwind while your mind drifts into deep stillness. \nElise will guide you through a soothing journey of guided meditation and sound bowl healing\, helping you release what no longer serves and reconnect to a sense of calm\, clarity\, and inner balance. Suspended just above the earth\, you’ll feel safely held — cocooned in silk\, sound\, and lunar energy — as the vibrations of crystal bowls wash over you\, inviting profound relaxation and awareness. ✨ No aerial experience required ✨ Low to the ground\, fully supported ✨ Perfect for rest\, renewal\, and intention-setting We will end with Pranyama (breath work) and a guided meditation while you float gently in a silk cocoon!  
URL:https://www.mybergen.com/events/full-moon-float-aerial-restorative-yoga-sound-healing-3/
LOCATION:Pure Bliss Yoga – Edgewater\, 725 River Road Ste 54\, Edgewater\, NJ\, 07020\, United States
ATTACH;FMTTYPE=image/jpeg:https://www.mybergen.com/wp-content/uploads/2026/03/Full-Moon-Float-1.jpg
ORGANIZER;CN="Pure Bliss Yoga":MAILTO:info@pureblissyoga.com
END:VEVENT
BEGIN:VEVENT
DTSTART;TZID=America/New_York:20260402T200000
DTEND;TZID=America/New_York:20260402T200000
DTSTAMP:20260419T101235
CREATED:20260302T141926Z
LAST-MODIFIED:20260302T141926Z
UID:10022213-1775160000-1775160000@www.mybergen.com
SUMMARY:Advanced Beginner/Intermediate Pickleball Clinics at Montclair Pickleball in Fair Lawn
DESCRIPTION:
URL:https://www.mybergen.com/events/advanced-beginner-intermediate-pickleball-clinics-at-montclair-pickleball-in-fair-lawn-164/
END:VEVENT
BEGIN:VEVENT
DTSTART;TZID=America/New_York:20260402T193000
DTEND;TZID=America/New_York:20260402T193000
DTSTAMP:20260419T101235
CREATED:20260317T180613Z
LAST-MODIFIED:20260323T125851Z
UID:10024202-1775158200-1775158200@www.mybergen.com
SUMMARY:Spring Floral Arrangement Workshop in Harrington Park
DESCRIPTION:Welcome spring by creating a beautiful faux floral arrangement at this Garden Club of Harrington Park workshop on Thursday\, April 2\, at 7:30 pm. The event will be held at Community Church\, 1 Spring Street\, Harrington Park\, New Jersey. \nGerri Gibney\, President of the Garden Club of Harrington Park\, will lead a fun “Make-it-and-Take-it” workshop where participants can create their own floral arrangement to bring home. All materials will be provided\, but attendees are asked to bring a pruner. \nInstead of a set fee\, Garden Club members are encouraged to make a donation to help cover the cost of supplies. The fee for non-members is $20. Pre-registration is required to ensure enough materials are available. To reserve a spot\, email Gerri at themerchantmouse@aol.com by March 26.
URL:https://www.mybergen.com/events/spring-floral-arrangement-workshop-in-harrington-park/
LOCATION:Community Church\, 1 Spring Street\, Harrington Park\, New Jersey
ATTACH;FMTTYPE=image/jpeg:https://www.mybergen.com/wp-content/uploads/2025/01/Spring-Flower-Wreath-e1739973926945.jpg
END:VEVENT
BEGIN:VEVENT
DTSTART;TZID=America/New_York:20260402T190000
DTEND;TZID=America/New_York:20260402T190000
DTSTAMP:20260419T101235
CREATED:20260330T234411Z
LAST-MODIFIED:20260330T234411Z
UID:10024619-1775156400-1775156400@www.mybergen.com
SUMMARY:Pain Under Control: Exploring Sprint Therapy Valley Health Virtual Event
DESCRIPTION:
URL:https://www.mybergen.com/events/pain-under-control-exploring-sprint-therapy-valley-health-virtual-event/
LOCATION:Virtual
END:VEVENT
BEGIN:VEVENT
DTSTART;TZID=America/New_York:20260402T180000
DTEND;TZID=America/New_York:20260402T180000
DTSTAMP:20260419T101235
CREATED:20260307T002708Z
LAST-MODIFIED:20260307T002708Z
UID:10024114-1775152800-1775152800@www.mybergen.com
SUMMARY:Temple Emeth 2nd night Seder
DESCRIPTION:
URL:https://www.mybergen.com/events/temple-emeth-2nd-night-seder/
LOCATION:Temple Emeth\, 1666 Windsor Road\, Teaneck\, NJ
END:VEVENT
BEGIN:VEVENT
DTSTART;TZID=America/New_York:20260402T170000
DTEND;TZID=America/New_York:20260402T170000
DTSTAMP:20260419T101235
CREATED:20260222T200137Z
LAST-MODIFIED:20260223T141156Z
UID:10022087-1775149200-1775149200@www.mybergen.com
SUMMARY:Beginner Pickleball Clinics (Age 50+) at Montclair Pickleball in Fair Lawn
DESCRIPTION:
URL:https://www.mybergen.com/events/beginner-pickleball-clinics-at-montclair-pickleball-in-fair-lawn-131/
END:VEVENT
BEGIN:VEVENT
DTSTART;TZID=America/New_York:20260402T154500
DTEND;TZID=America/New_York:20260402T154500
DTSTAMP:20260419T101235
CREATED:20260319T142402Z
LAST-MODIFIED:20260319T142402Z
UID:10024321-1775144700-1775144700@www.mybergen.com
SUMMARY:Tiny Tots Program at Lorrimer Sanctuary in Franklin Lakes
DESCRIPTION:
URL:https://www.mybergen.com/events/tiny-tots-program-at-lorrimer-sanctuary-in-franklin-lakes-15/
LOCATION:Lorrimer Sanctuary\, 790 Ewing Avenue\, Franklin Lakes\, New Jersey
END:VEVENT
BEGIN:VEVENT
DTSTART;TZID=America/New_York:20260402T110000
DTEND;TZID=America/New_York:20260402T110000
DTSTAMP:20260419T101235
CREATED:20260302T142126Z
LAST-MODIFIED:20260302T142126Z
UID:10022223-1775127600-1775127600@www.mybergen.com
SUMMARY:Easter Bunny Photos at Shops at Riverside (11am-7pm)
DESCRIPTION:
URL:https://www.mybergen.com/events/easter-bunny-photos-at-shops-at-riverside-11am-7pm-11/
END:VEVENT
BEGIN:VEVENT
DTSTART;TZID=America/New_York:20260402T110000
DTEND;TZID=America/New_York:20260402T110000
DTSTAMP:20260419T101235
CREATED:20260212T214420Z
LAST-MODIFIED:20260212T214420Z
UID:10021878-1775127600-1775127600@www.mybergen.com
SUMMARY:Photos with the Easter Bunny at Garden State Plaza
DESCRIPTION:
URL:https://www.mybergen.com/events/photos-with-the-easter-bunny-at-garden-state-plaza-22/
LOCATION:Garden State Plaza\, One Garden State Plaza\, Paramus\, New Jersey
END:VEVENT
BEGIN:VEVENT
DTSTART;TZID=America/New_York:20260402T103000
DTEND;TZID=America/New_York:20260402T103000
DTSTAMP:20260419T101235
CREATED:20260302T141826Z
LAST-MODIFIED:20260302T141826Z
UID:10022208-1775125800-1775125800@www.mybergen.com
SUMMARY:Advanced Beginner/Intermediate Pickleball Clinics at Montclair Pickleball in Fair Lawn
DESCRIPTION:
URL:https://www.mybergen.com/events/advanced-beginner-intermediate-pickleball-clinics-at-montclair-pickleball-in-fair-lawn-159/
END:VEVENT
BEGIN:VEVENT
DTSTART;TZID=America/New_York:20260401T210000
DTEND;TZID=America/New_York:20260401T210000
DTSTAMP:20260419T101235
CREATED:20260227T155720Z
LAST-MODIFIED:20260227T155720Z
UID:10022183-1775077200-1775077200@www.mybergen.com
SUMMARY:Advanced Beginner/Intermediate Pickleball Clinics at Montclair Pickleball in Fair Lawn
DESCRIPTION:
URL:https://www.mybergen.com/events/advanced-beginner-intermediate-pickleball-clinics-at-montclair-pickleball-in-fair-lawn-139/
END:VEVENT
BEGIN:VEVENT
DTSTART;TZID=America/New_York:20260401T193000
DTEND;TZID=America/New_York:20260401T193000
DTSTAMP:20260419T101235
CREATED:20260325T143436Z
LAST-MODIFIED:20260325T143436Z
UID:10024565-1775071800-1775071800@www.mybergen.com
SUMMARY:Bravo TV Trivia at Blue Moon in Wyckoff
DESCRIPTION:
URL:https://www.mybergen.com/events/bravo-tv-trivia-at-blue-moon-in-wyckoff/
END:VEVENT
BEGIN:VEVENT
DTSTART;TZID=America/New_York:20260401T190000
DTEND;TZID=America/New_York:20260401T190000
DTSTAMP:20260419T101235
CREATED:20260402T154612Z
LAST-MODIFIED:20260402T154612Z
UID:10024638-1775070000-1775070000@www.mybergen.com
SUMMARY:Infant Care & Safety Class - HUMC Virtual Event
DESCRIPTION:
URL:https://www.mybergen.com/events/infant-care-safety-class-humc-virtual-event-31/
LOCATION:Virtual
END:VEVENT
END:VCALENDAR