BEGIN:VCALENDAR
VERSION:2.0
PRODID:-//Mybergen.com - ECPv6.15.20//NONSGML v1.0//EN
CALSCALE:GREGORIAN
METHOD:PUBLISH
X-ORIGINAL-URL:https://www.mybergen.com
X-WR-CALDESC:Events for Mybergen.com
REFRESH-INTERVAL;VALUE=DURATION:PT1H
X-Robots-Tag:noindex
X-PUBLISHED-TTL:PT1H
BEGIN:VTIMEZONE
TZID:America/New_York
BEGIN:DAYLIGHT
TZOFFSETFROM:-0500
TZOFFSETTO:-0400
TZNAME:EDT
DTSTART:20250309T070000
END:DAYLIGHT
BEGIN:STANDARD
TZOFFSETFROM:-0400
TZOFFSETTO:-0500
TZNAME:EST
DTSTART:20251102T060000
END:STANDARD
BEGIN:DAYLIGHT
TZOFFSETFROM:-0500
TZOFFSETTO:-0400
TZNAME:EDT
DTSTART:20260308T070000
END:DAYLIGHT
BEGIN:STANDARD
TZOFFSETFROM:-0400
TZOFFSETTO:-0500
TZNAME:EST
DTSTART:20261101T060000
END:STANDARD
BEGIN:DAYLIGHT
TZOFFSETFROM:-0500
TZOFFSETTO:-0400
TZNAME:EDT
DTSTART:20270314T070000
END:DAYLIGHT
BEGIN:STANDARD
TZOFFSETFROM:-0400
TZOFFSETTO:-0500
TZNAME:EST
DTSTART:20271107T060000
END:STANDARD
END:VTIMEZONE
BEGIN:VEVENT
DTSTART;TZID=America/New_York:20260411T190000
DTEND;TZID=America/New_York:20260411T210000
DTSTAMP:20260419T113542
CREATED:20251024T134856Z
LAST-MODIFIED:20251024T134856Z
UID:10019866-1775934000-1775941200@www.mybergen.com
SUMMARY:Oh What A Night of Doo Wop and Rock N Roll
DESCRIPTION:Oh What A Night of Doo Wop and Rock N Roll Starring! Jay Siegels Tokens “The Lion Sleeps Tonight” Brian Hyland “Sealed With a Kiss” Joey Dee “Peppermint Twist” LA LA Brooks “Da Doo Ron Ron” Cleveland Still & The Dubs “Could This Be Magic” Jimmy Gallagher & The Passions “Just To Be With You” The Fireflies “You Were Mine” Award Winning Accappella Group Classic Sounds Tom Schizzano & The LAR Enterprises Band Hosted by Cool Bobby B of Sirius Radio – 50s on 5
URL:https://www.mybergen.com/events/oh-what-a-night-of-doo-wop-and-rock-n-roll/
LOCATION:Carteret Performing Arts & Events Center\, 46 WASHINGTON AVENUE\, Carteret\, NJ\, 07008\, United States
CATEGORIES:Event
ATTACH;FMTTYPE=image/jpeg:https://www.mybergen.com/wp-content/uploads/2025/10/4.11-jay-siegels-tokens-1-scaled.jpg
ORGANIZER;CN="Carteret Performing Arts &amp%3Bamp%3B Events Center":MAILTO:info@carteretpac.com
END:VEVENT
BEGIN:VEVENT
DTSTART;TZID=America/New_York:20260411T190000
DTEND;TZID=America/New_York:20260411T210000
DTSTAMP:20260419T113542
CREATED:20260120T123804Z
LAST-MODIFIED:20260120T123804Z
UID:10021111-1775934000-1775941200@www.mybergen.com
SUMMARY:The Tea Interview With The Stars
DESCRIPTION:We’re pretty sure you’ve heard these Bible stories before\, but never told like this…. Erica Winfield will have her hands full as she brings center stage\, the true-life adventures of real people from the Bible— In what promises to be the most Iconic Interviews of all time…..  Adam & Eve\, Noah\, Moses\, Jezebel\, Judas\, Pharaoh King Of Egypt\, King Solomon\, and Queen Athalea travel through the corridors of time to the present day\, to give a first hand account of the their timeless stories….. Stories of good versus evil\, right versus wrong\, and heroes versus villains….. Life-shaping lessons that point men\, women and children alike to God—the greatest hero of all !!! \nPrepare to laugh like crazy\, cry\, and lift your hands in praise as the truth of God’s word comes to life in this Gospel Comedy…..
URL:https://www.mybergen.com/events/the-tea-interview-with-the-stars/
LOCATION:Hackensack Performing Arts Cener\, 102 State Street\, Hackensack\, NJ
END:VEVENT
BEGIN:VEVENT
DTSTART;TZID=America/New_York:20260411T193000
DTEND;TZID=America/New_York:20260411T193000
DTSTAMP:20260419T113542
CREATED:20260318T182910Z
LAST-MODIFIED:20260318T182910Z
UID:10024256-1775935800-1775935800@www.mybergen.com
SUMMARY:“Hair: The American Tribal Love-Rock Musical” at Ciccone Theatre in Paramus
DESCRIPTION:
URL:https://www.mybergen.com/events/hair-the-american-tribal-love-rock-musical-at-ciccone-theatre-in-paramus-6/
LOCATION:Ciccone Theatre\, 400 Paramus Road\, Paramus\, New Jersey
END:VEVENT
BEGIN:VEVENT
DTSTART;TZID=America/New_York:20260411T193000
DTEND;TZID=America/New_York:20260411T193000
DTSTAMP:20260419T113542
CREATED:20260410T145103Z
LAST-MODIFIED:20260410T145103Z
UID:10024775-1775935800-1775935800@www.mybergen.com
SUMMARY:Jagged Little Pill the Musical in Fair Lawn
DESCRIPTION:
URL:https://www.mybergen.com/events/jagged-little-pill-the-musical-in-fair-lawn-3/
LOCATION:Fair Lawn Community Center\, 10-10 20th Street\, Fair Lawn\, New Jersey
END:VEVENT
BEGIN:VEVENT
DTSTART;TZID=America/New_York:20260411T200000
DTEND;TZID=America/New_York:20260411T200000
DTSTAMP:20260419T113542
CREATED:20260210T192624Z
LAST-MODIFIED:20260210T192624Z
UID:10021772-1775937600-1775937600@www.mybergen.com
SUMMARY:Bergen County Players Present "The Cake"
DESCRIPTION:
URL:https://www.mybergen.com/events/bergen-county-players-present-the-cake-11/
LOCATION:Little Firehouse Theatre\, 298 Kinderkamack Road\, Oradell\, NJ
END:VEVENT
BEGIN:VEVENT
DTSTART;TZID=America/New_York:20260411T200000
DTEND;TZID=America/New_York:20260411T200000
DTSTAMP:20260419T113542
CREATED:20260313T162540Z
LAST-MODIFIED:20260313T162540Z
UID:10024166-1775937600-1775937600@www.mybergen.com
SUMMARY:moe. at Bergen Performing Arts Center
DESCRIPTION:
URL:https://www.mybergen.com/events/moe-at-bergen-performing-arts-center/
LOCATION:Bergen Performing Arts Center\, 30 N. Van Brunt Street\, Englewood\, NJ
END:VEVENT
BEGIN:VEVENT
DTSTART;TZID=America/New_York:20260411T200000
DTEND;TZID=America/New_York:20260411T200000
DTSTAMP:20260419T113542
CREATED:20260326T152841Z
LAST-MODIFIED:20260326T152841Z
UID:10024575-1775937600-1775937600@www.mybergen.com
SUMMARY:RCNJ Theater Presents Nine: The Musical at Berrie Center in Mahwah
DESCRIPTION:
URL:https://www.mybergen.com/events/rcnj-theater-presents-nine-the-musical-at-berrie-center-in-mahwah-2/
END:VEVENT
BEGIN:VEVENT
DTSTART;TZID=America/New_York:20260411T200000
DTEND;TZID=America/New_York:20260411T230000
DTSTAMP:20260419T113542
CREATED:20260314T122549Z
LAST-MODIFIED:20260314T122549Z
UID:10024191-1775937600-1775948400@www.mybergen.com
SUMMARY:Misha Mendelenko at Brvsh Cul7ur3 in Teaneck
DESCRIPTION:Misha Mendelenko is a dynamic jazz guitarist recognized for his expressive tone\, fluid improvisation\, and deep appreciation for the traditions of jazz. Blending elements of swing\, bebop\, and contemporary jazz harmony\, Mendelenko brings both sophistication and energy to every performance. An active performer on the international jazz scene\, Mendelenko has shared the stage with a variety of respected musicians and continues to develop a sound that balances tradition with modern expression. Known for his musical sensitivity and engaging stage presence\, his performances create a vibrant dialogue between musicians while delivering a rich and captivating jazz experience for audiences. Walk in cover charges will be higher than purchasing ticket online in advance  
URL:https://www.mybergen.com/events/misha-mendelenko-at-brvsh-cul7ur3-in-teaneck/
LOCATION:BRVSH CUL7UR3\, 482 Cedar Lane\, Teaneck\, NJ\, 07666\, United States
ATTACH;FMTTYPE=image/jpeg:https://www.mybergen.com/wp-content/uploads/2026/03/Misha-Mendelenko.jpg
ORGANIZER;CN="Brvsh Cul7ur3":MAILTO:info@brvshcul7ur3.com
END:VEVENT
BEGIN:VEVENT
DTSTART;TZID=America/New_York:20260411T210000
DTEND;TZID=America/New_York:20260411T210000
DTSTAMP:20260419T113542
CREATED:20260410T145055Z
LAST-MODIFIED:20260410T145055Z
UID:10024769-1775941200-1775941200@www.mybergen.com
SUMMARY:Live Music at Tommy Fox's in Bergenfield with The Non-Essentials
DESCRIPTION:
URL:https://www.mybergen.com/events/live-music-at-tommy-foxs-in-bergenfield-with-the-non-essentials-2/
END:VEVENT
BEGIN:VEVENT
DTSTART;TZID=America/New_York:20260411T210000
DTEND;TZID=America/New_York:20260411T210000
DTSTAMP:20260419T113542
CREATED:20260410T145057Z
LAST-MODIFIED:20260410T145057Z
UID:10024772-1775941200-1775941200@www.mybergen.com
SUMMARY:Live Music at Orange Lantern in Paramus with Kevin Madden
DESCRIPTION:
URL:https://www.mybergen.com/events/live-music-at-orange-lantern-in-paramus-with-kevin-madden/
END:VEVENT
BEGIN:VEVENT
DTSTART;TZID=America/New_York:20260411T210000
DTEND;TZID=America/New_York:20260411T210000
DTSTAMP:20260419T113542
CREATED:20260410T145204Z
LAST-MODIFIED:20260410T145204Z
UID:10024778-1775941200-1775941200@www.mybergen.com
SUMMARY:Live Music at Shannon Rose in Ramsey with Jeremy and the Rooster
DESCRIPTION:
URL:https://www.mybergen.com/events/live-music-at-shannon-rose-in-ramsey-with-jeremy-and-the-rooster/
LOCATION:Shannon Rose\, 1200 Rt 17 North\, Ramsey\, United States
END:VEVENT
BEGIN:VEVENT
DTSTART;TZID=America/New_York:20260412T090000
DTEND;TZID=America/New_York:20260412T090000
DTSTAMP:20260419T113542
CREATED:20260321T165446Z
LAST-MODIFIED:20260321T165446Z
UID:10024421-1775984400-1775984400@www.mybergen.com
SUMMARY:Beginner Pickleball Clinics at Montclair Pickleball in Fair Lawn
DESCRIPTION:
URL:https://www.mybergen.com/events/beginner-pickleball-clinics-at-montclair-pickleball-in-fair-lawn-199/
END:VEVENT
BEGIN:VEVENT
DTSTART;TZID=America/New_York:20260412T090000
DTEND;TZID=America/New_York:20260412T143000
DTSTAMP:20260419T113542
CREATED:20260311T171012Z
LAST-MODIFIED:20260311T171012Z
UID:10024160-1775984400-1776004200@www.mybergen.com
SUMMARY:Wayne PAL Antique & Collectibles Show
DESCRIPTION:Don’t miss the final Wayne PAL Antique & Collectibles show of the season!  \nCome shop the biggest indoor Antique and Collectibles show in northern New Jersey\, the Wayne PAL Antique and Collectibles show features over 150 vendor tables with a wide variety of antique\, vintage and collectible items including vintage and sterling jewelry\, vintage glassware and Lenox\, vintage toys and trains\, antique and collectible dolls and action figures\, vintage postcards\, photos\, and art work\, military\, political and sports memorabilia including cards\, magazines and newspapers\, vintage coins and watches\, vinyl records\, CD’s and more! \nHeld indoors at the Wayne PAL Building\, 1 PAL Drive in Wayne\, from 9:00 am to 2:30 pm on Sunday\, April 12\, the Wayne PAL Antique and Collectibles Show has something for everyone. \nAdmission is $2 for adults\, $1 for seniors 65+\, and children under 12 are free\, so bring the whole family for a fun-filled day of treasure hunting! There is plenty of free parking and a full-service food counter serving breakfast\, lunch\, and snacks. All admission proceeds go directly to benefit Wayne PAL youth sports programs and activities. \nFor more information\, call the Wayne PAL at 973-696-2896. Wayne PAL is located a short distance from Route 80\, Route 46\, Route 202\, and Route 23. Doors open to the public at 9:00 am sharp. No early birds\, please! 
URL:https://www.mybergen.com/events/wayne-pal-antique-collectibles-show-4/
LOCATION:Wayne PAL\, 1 PAL Drive\, Wayne\, New Jersey
ATTACH;FMTTYPE=image/jpeg:https://www.mybergen.com/wp-content/uploads/2026/03/Wayne-PAL-April-2026-e1773248724821.jpg
END:VEVENT
BEGIN:VEVENT
DTSTART;TZID=America/New_York:20260412T100000
DTEND;TZID=America/New_York:20260412T100000
DTSTAMP:20260419T113542
CREATED:20260317T180741Z
LAST-MODIFIED:20260317T180741Z
UID:10024212-1775988000-1775988000@www.mybergen.com
SUMMARY:Forest Defenders Program at Tenafly Nature Center
DESCRIPTION:
URL:https://www.mybergen.com/events/forest-defenders-program-at-tenafly-nature-center-41/
LOCATION:Tenafly Nature Center\, 313 Hudson Avenue\, Tenafly\, NJ
END:VEVENT
BEGIN:VEVENT
DTSTART;TZID=America/New_York:20260412T100000
DTEND;TZID=America/New_York:20260412T100000
DTSTAMP:20260419T113542
CREATED:20260318T183813Z
LAST-MODIFIED:20260318T183813Z
UID:10024282-1775988000-1775988000@www.mybergen.com
SUMMARY:Ramsey Farmers Market
DESCRIPTION:
URL:https://www.mybergen.com/events/ramsey-farmers-market-50/
END:VEVENT
BEGIN:VEVENT
DTSTART;TZID=America/New_York:20260412T100000
DTEND;TZID=America/New_York:20260412T100000
DTSTAMP:20260419T113542
CREATED:20260318T184020Z
LAST-MODIFIED:20260318T184020Z
UID:10024288-1775988000-1775988000@www.mybergen.com
SUMMARY:Birding for Beginners at DeKorte Park in Lyndhurst
DESCRIPTION:
URL:https://www.mybergen.com/events/birding-for-beginners-at-dekorte-park-in-lyndhurst/
LOCATION:DeKorte Park\, 2 DeKorte Plaza\, Lyndhurst\, New Jersey\, United States
END:VEVENT
BEGIN:VEVENT
DTSTART;TZID=America/New_York:20260412T100000
DTEND;TZID=America/New_York:20260412T160000
DTSTAMP:20260419T113542
CREATED:20260219T155551Z
LAST-MODIFIED:20260219T155551Z
UID:10022011-1775988000-1776009600@www.mybergen.com
SUMMARY:JC's Annual Fanwood Spring Vendor Pop Up & Craft Fair
DESCRIPTION:You will be pleasantly surprised when you see the array of top-notch exhibitors selling quality items\, arts and crafts\, and collectibles. All exhibitors are hand-picked and chosen for their unique items\, hand-made creations\, start-ups\, and well-groomed businesses\, and together they create this posh marketplace. Stop by…shop a little\, relax\, and enjoy the good food\, great music\, and 60+ exhibitors. Held in the south side Fanwood Train Station Parking Lot\, this event is open 10 am-4 pm and will feature gourmet food trucks-AA BBQ\, Eat My Franks\, Dampanadas\, Dolato Expresso and Oz Den Honey\, and live music by Richie G throughout the day. Parking is available at the North side train station then just walk over the bridge. Use this address for your GPS: 238 North Avenue\, Fanwood\, NJ This event is hosted by the Borough of Fanwood NJ.
URL:https://www.mybergen.com/events/jcs-annual-fanwood-spring-vendor-pop-up-craft-fair/
LOCATION:Fanwood Train Station\, 256 South Avenue\, Fanwood\, NJ\, 07023\, United States
CATEGORIES:Event,Special Event
ATTACH;FMTTYPE=image/jpeg:https://www.mybergen.com/wp-content/uploads/2026/02/Fanwood_PopUp-4.12.26.jpg
ORGANIZER;CN="JC Promotions Inc.":MAILTO:events@jcpromotions.info
END:VEVENT
BEGIN:VEVENT
DTSTART;TZID=America/New_York:20260412T103000
DTEND;TZID=America/New_York:20260412T103000
DTSTAMP:20260419T113542
CREATED:20260323T150057Z
LAST-MODIFIED:20260323T150057Z
UID:10024534-1775989800-1775989800@www.mybergen.com
SUMMARY:Advanced Beginner/Intermediate Level Pickleball Clinics at Montclair Pickleball in Fair Lawn
DESCRIPTION:
URL:https://www.mybergen.com/events/advanced-beginner-intermediate-level-pickleball-clinics-at-montclair-pickleball-in-fair-lawn-42/
END:VEVENT
BEGIN:VEVENT
DTSTART;TZID=America/New_York:20260412T110000
DTEND;TZID=America/New_York:20260412T110000
DTSTAMP:20260419T113542
CREATED:20260319T142701Z
LAST-MODIFIED:20260319T142701Z
UID:10024335-1775991600-1775991600@www.mybergen.com
SUMMARY:Skylands Manor Tours at NJ Botanical Garden in Ringwood (11am-3pm)
DESCRIPTION:
URL:https://www.mybergen.com/events/skylands-manor-tours-at-nj-botanical-garden-in-ringwood-11am-3pm-7/
LOCATION:NJ Botanical Garden\, Morris Road\, Ringwood\, NJ
END:VEVENT
BEGIN:VEVENT
DTSTART;TZID=America/New_York:20260412T120000
DTEND;TZID=America/New_York:20260412T120000
DTSTAMP:20260419T113542
CREATED:20260322T132200Z
LAST-MODIFIED:20260322T132200Z
UID:10024487-1775995200-1775995200@www.mybergen.com
SUMMARY:High Intermediate Level (3.0-3.5) Pickleball Clinics at Montclair Pickleball in Fair Lawn
DESCRIPTION:
URL:https://www.mybergen.com/events/high-intermediate-level-3-0-3-5-pickleball-clinics-at-montclair-pickleball-in-fair-lawn-13/
END:VEVENT
BEGIN:VEVENT
DTSTART;TZID=America/New_York:20260412T120000
DTEND;TZID=America/New_York:20260412T120000
DTSTAMP:20260419T113542
CREATED:20260330T234409Z
LAST-MODIFIED:20260330T234409Z
UID:10024617-1775995200-1775995200@www.mybergen.com
SUMMARY:Infant Care & Safety Class - HUMC Virtual Event
DESCRIPTION:
URL:https://www.mybergen.com/events/infant-care-safety-class-humc-virtual-event-29/
LOCATION:Virtual
END:VEVENT
BEGIN:VEVENT
DTSTART;TZID=America/New_York:20260412T130000
DTEND;TZID=America/New_York:20260412T130000
DTSTAMP:20260419T113542
CREATED:20260317T180743Z
LAST-MODIFIED:20260317T180743Z
UID:10024215-1775998800-1775998800@www.mybergen.com
SUMMARY:Camp Open House at Tenafly Nature Center
DESCRIPTION:
URL:https://www.mybergen.com/events/camp-open-house-at-tenafly-nature-center-4/
LOCATION:Tenafly Nature Center\, 313 Hudson Avenue\, Tenafly\, NJ
END:VEVENT
BEGIN:VEVENT
DTSTART;TZID=America/New_York:20260412T130000
DTEND;TZID=America/New_York:20260412T130000
DTSTAMP:20260419T113542
CREATED:20260317T181144Z
LAST-MODIFIED:20260317T181144Z
UID:10024223-1775998800-1775998800@www.mybergen.com
SUMMARY:Open House Sundays at Garretson Forge & Farm
DESCRIPTION:
URL:https://www.mybergen.com/events/open-house-sundays-at-garretson-forge-farm-3/
LOCATION:Garretson Forge & Farm\, 4-02 River Road\, Fair Lawn\, United States
END:VEVENT
BEGIN:VEVENT
DTSTART;TZID=America/New_York:20260412T130000
DTEND;TZID=America/New_York:20260412T130000
DTSTAMP:20260419T113542
CREATED:20260317T181145Z
LAST-MODIFIED:20260317T181145Z
UID:10024225-1775998800-1775998800@www.mybergen.com
SUMMARY:Garden Volunteer Days at Garretson Forge & Farm
DESCRIPTION:
URL:https://www.mybergen.com/events/garden-volunteer-days-at-garretson-forge-farm/
LOCATION:Garretson Forge & Farm\, 4-02 River Road\, Fair Lawn\, United States
END:VEVENT
BEGIN:VEVENT
DTSTART;TZID=America/New_York:20260412T130000
DTEND;TZID=America/New_York:20260412T130000
DTSTAMP:20260419T113542
CREATED:20260330T214037Z
LAST-MODIFIED:20260330T214037Z
UID:10024612-1775998800-1775998800@www.mybergen.com
SUMMARY:Youth Programming Open House at Ridgewood YMCA
DESCRIPTION:
URL:https://www.mybergen.com/events/youth-programming-open-house-at-ridgewood-ymca-9/
LOCATION:Ridgewood YMCA\, 112 Oak Street\, Ridgewood\, NJ
END:VEVENT
BEGIN:VEVENT
DTSTART;TZID=America/New_York:20260412T140000
DTEND;TZID=America/New_York:20260412T140000
DTSTAMP:20260419T113542
CREATED:20260321T165547Z
LAST-MODIFIED:20260321T165547Z
UID:10024427-1776002400-1776002400@www.mybergen.com
SUMMARY:Beginner Pickleball Clinics at Montclair Pickleball in Fair Lawn
DESCRIPTION:
URL:https://www.mybergen.com/events/beginner-pickleball-clinics-at-montclair-pickleball-in-fair-lawn-205/
END:VEVENT
BEGIN:VEVENT
DTSTART;TZID=America/New_York:20260412T140000
DTEND;TZID=America/New_York:20260412T140000
DTSTAMP:20260419T113542
CREATED:20260323T150352Z
LAST-MODIFIED:20260323T150352Z
UID:10024540-1776002400-1776002400@www.mybergen.com
SUMMARY:Advanced Beginner/Intermediate Level Pickleball Clinics at Montclair Pickleball in Fair Lawn
DESCRIPTION:
URL:https://www.mybergen.com/events/advanced-beginner-intermediate-level-pickleball-clinics-at-montclair-pickleball-in-fair-lawn-48/
END:VEVENT
BEGIN:VEVENT
DTSTART;TZID=America/New_York:20260412T140000
DTEND;TZID=America/New_York:20260412T140000
DTSTAMP:20260419T113542
CREATED:20260326T152842Z
LAST-MODIFIED:20260326T152842Z
UID:10024576-1776002400-1776002400@www.mybergen.com
SUMMARY:RCNJ Theater Presents Nine: The Musical at Berrie Center in Mahwah
DESCRIPTION:
URL:https://www.mybergen.com/events/rcnj-theater-presents-nine-the-musical-at-berrie-center-in-mahwah-3/
END:VEVENT
BEGIN:VEVENT
DTSTART;TZID=America/New_York:20260412T150000
DTEND;TZID=America/New_York:20260412T150000
DTSTAMP:20260419T113542
CREATED:20260410T145103Z
LAST-MODIFIED:20260410T145103Z
UID:10024776-1776006000-1776006000@www.mybergen.com
SUMMARY:Jagged Little Pill the Musical in Fair Lawn
DESCRIPTION:
URL:https://www.mybergen.com/events/jagged-little-pill-the-musical-in-fair-lawn-4/
LOCATION:Fair Lawn Community Center\, 10-10 20th Street\, Fair Lawn\, New Jersey
END:VEVENT
BEGIN:VEVENT
DTSTART;TZID=America/New_York:20260412T163000
DTEND;TZID=America/New_York:20260412T163000
DTSTAMP:20260419T113542
CREATED:20260318T182559Z
LAST-MODIFIED:20260318T182559Z
UID:10024241-1776011400-1776011400@www.mybergen.com
SUMMARY:Film Noir with Foster Hirsch: Out of the Past at Barrymore Film Center in Fort Lee
DESCRIPTION:
URL:https://www.mybergen.com/events/film-noir-with-foster-hirsch-out-of-the-past-at-barrymore-film-center-in-fort-lee/
LOCATION:Barrymore Film Center\, 153 Main Street\, Fort Lee\, New Jersey
END:VEVENT
END:VCALENDAR