BEGIN:VCALENDAR
VERSION:2.0
PRODID:-//Mybergen.com - ECPv6.15.20//NONSGML v1.0//EN
CALSCALE:GREGORIAN
METHOD:PUBLISH
X-WR-CALNAME:Mybergen.com
X-ORIGINAL-URL:https://www.mybergen.com
X-WR-CALDESC:Events for Mybergen.com
REFRESH-INTERVAL;VALUE=DURATION:PT1H
X-Robots-Tag:noindex
X-PUBLISHED-TTL:PT1H
BEGIN:VTIMEZONE
TZID:America/New_York
BEGIN:DAYLIGHT
TZOFFSETFROM:-0500
TZOFFSETTO:-0400
TZNAME:EDT
DTSTART:20250309T070000
END:DAYLIGHT
BEGIN:STANDARD
TZOFFSETFROM:-0400
TZOFFSETTO:-0500
TZNAME:EST
DTSTART:20251102T060000
END:STANDARD
BEGIN:DAYLIGHT
TZOFFSETFROM:-0500
TZOFFSETTO:-0400
TZNAME:EDT
DTSTART:20260308T070000
END:DAYLIGHT
BEGIN:STANDARD
TZOFFSETFROM:-0400
TZOFFSETTO:-0500
TZNAME:EST
DTSTART:20261101T060000
END:STANDARD
BEGIN:DAYLIGHT
TZOFFSETFROM:-0500
TZOFFSETTO:-0400
TZNAME:EDT
DTSTART:20270314T070000
END:DAYLIGHT
BEGIN:STANDARD
TZOFFSETFROM:-0400
TZOFFSETTO:-0500
TZNAME:EST
DTSTART:20271107T060000
END:STANDARD
END:VTIMEZONE
BEGIN:VEVENT
DTSTART;TZID=America/New_York:20260324T123000
DTEND;TZID=America/New_York:20260324T140000
DTSTAMP:20260424T095348
CREATED:20260210T172202Z
LAST-MODIFIED:20260210T172202Z
UID:10021759-1774355400-1774360800@www.mybergen.com
SUMMARY:“We’re Not Broken: Changing the Autism Conversation” – Author Eric Garcia visits Bergen Community College
DESCRIPTION:Journalist and author Eric Garcia is coming to Bergen Community College to discuss his book\, “We’re Not Broken: Changing the Autism Conversation.” Garcia’s work was selected as Bergen’s Common Read book for 2025-2026 and aims to facilitate conversations around autism\, neurodiversity\, invisible disabilities\, and its portrayal in society. \nJoin Garcia in discussing the book’s themes of stigmas against neurodiversity\, their prevalence in society\, and how they impact neurodiverse individuals. The event is open to all Bergen students\, faculty\, and staff\, as well as community members. Bergen’s community event begins at 12:30 p.m. on Tuesday\, March 24 in the Moses Family and Meeting Center (TEC-128). To attend the event\, register here.  \nBergen is committed to providing access and reasonable accommodation in its services\, programs and activities. Accommodation requests related to disability should be made to ossinfo@bergen.edu.
URL:https://www.mybergen.com/events/were-not-broken-changing-the-autism-conversation-author-eric-garcia-visits-bergen-community-college/
LOCATION:Bergen Community College\, 400 Paramus Road\, Paramus\, NJ
CATEGORIES:Bergen County Events,Event
ATTACH;FMTTYPE=image/jpeg:https://www.mybergen.com/wp-content/uploads/2026/02/CommonRead-EricGarciaVisit-InstaPost.jpg
END:VEVENT
BEGIN:VEVENT
DTSTART;TZID=America/New_York:20260324T123000
DTEND;TZID=America/New_York:20260324T123000
DTSTAMP:20260424T095348
CREATED:20260313T162548Z
LAST-MODIFIED:20260313T171804Z
UID:10024172-1774355400-1774355400@www.mybergen.com
SUMMARY:Author Eric Garcia to Discuss Neurodiversity at BCC in Paramus
DESCRIPTION:–One in 31 children (3.2 percent) is identified with autism spectrum disorder (ASD)\, according to Centers for Disease Control and Prevention research. To foster dialogue on ASD and neurodiversity\, journalist Eric Garcia\, the author of “We’re Not Broken: Changing the Autism Conversation\,” will speak at Bergen Community College on Tuesday\, March 24 at 12:30 p.m. in the Moses Family Meeting and Training Center (Technology Education Center\, room 128) at the College’s main campus at 400 Paramus Road in Paramus. The event is free\, open to the public and presented by the College’s Office of Community Affairs\, Office of Specialized Services and Common Read Committee. \n  \nThe College has made the study of autism\, neurodiversity\, invisible disabilities and their portrayal in society a central focus of the current academic year\, selecting Garcia’s book on the topic as the institution’s “common read.” The initiative encourages all members of the College community to read the book and participate in discussions\, activities and projects surrounding the work throughout the year. Faculty also thread the book through coursework and assignments. \n  \nDuring the March 24 event\, Garcia\, a senior Washington correspondent for The Independent and MS NOW columnist\, will discuss his book\, which offers insight into neurodiversity and his perspective as an autistic person. Lunch will be served and Garcia will sign copies of his book.  \n  \nClick here to register for the event. \n  \nBergen is committed to providing access and reasonable accommodation in its services\, programs\, and activities. Accommodation requests related to disability should be made to ossinfo@bergen.edu.
URL:https://www.mybergen.com/events/eric-garcia-the-author-of-were-not-broken-changing-the-autism-conversation/
LOCATION:Bergen Community College\, 400 Paramus Road\, Paramus\, NJ
ATTACH;FMTTYPE=image/jpeg:https://www.mybergen.com/wp-content/uploads/2026/03/Garcia-e1773420616114.jpg
END:VEVENT
BEGIN:VEVENT
DTSTART;TZID=America/New_York:20260324T113000
DTEND;TZID=America/New_York:20260324T113000
DTSTAMP:20260424T095348
CREATED:20260222T200436Z
LAST-MODIFIED:20260222T203949Z
UID:10022095-1774351800-1774351800@www.mybergen.com
SUMMARY:bergenPAC Spring Luncheon with Honoree Darlene Love
DESCRIPTION:Legendary Grammy winner and Rock & Roll Hall of Fame inductee Darlene Love will be honored and serve as the distinguished guest speaker at the annual Bergen Performing Arts Center Women’s Spring Luncheon on Tuesday\, March 24\, at 11:30 am. The event\, held in recognition of Women’s History Month\, celebrates Darlene Love’s extraordinary contributions to music and her lasting impact on the community. \nDarlene Love’s career has spanned decades\, with the legendary vocalist and actress earning widespread recognition for hits like “He’s a Rebel” and the holiday classic “Christmas (Baby Please Come Home).” A Grammy Award winner and Rock & Roll Hall of Fame inductee\, Love’s influence extends across music\, film\, and stage\, inspiring generations of artists and fans. \n“We are thrilled to honor Darlene Love at our annual luncheon. Her story\, talent\, and dedication to uplifting others exemplify the spirit of Women’s History Month and the values we cherish at bergenPAC\,” said Valerie Huttle\, bergenPAC Board Chair. “Darlene’s presence and message will inspire our community and empower the next generation of women leaders.” \nThe event will also include special performances by students from the bergenPAC Performing Arts School\, highlighting the impressive young talent being developed within the organization. Their participation reflects bergenPAC’s ongoing commitment to arts education and supporting the next generation of performers. \nProceeds from the Women’s Spring Luncheon will support bergenPAC’s performing arts school\, facility improvements\, community outreach\, and student programs helping keep the arts accessible and impactful for the entire community. \nThe event takes place on the bergenPac Taub Stage\, 30 North Van Brunt Street in Englewood\, New Jersey. Tickets are $200\, and sponsorship opportunities are still available. Click here for tickets and sponsorship information.
URL:https://www.mybergen.com/events/bergenpacs-womens-annual-spring-luncheon-featuring-darlene-love/
LOCATION:Bergen Performing Arts Center\, 30 N. Van Brunt Street\, Englewood\, NJ
ATTACH;FMTTYPE=image/png:https://www.mybergen.com/wp-content/uploads/2026/02/Darlene-Love-Luncheon-e1771792535654.png
END:VEVENT
BEGIN:VEVENT
DTSTART;TZID=America/New_York:20260324T110000
DTEND;TZID=America/New_York:20260324T110000
DTSTAMP:20260424T095348
CREATED:20260302T141928Z
LAST-MODIFIED:20260302T141928Z
UID:10022216-1774350000-1774350000@www.mybergen.com
SUMMARY:Easter Bunny Photos at Shops at Riverside (11am-7pm)
DESCRIPTION:
URL:https://www.mybergen.com/events/easter-bunny-photos-at-shops-at-riverside-11am-7pm-4/
END:VEVENT
BEGIN:VEVENT
DTSTART;TZID=America/New_York:20260324T110000
DTEND;TZID=America/New_York:20260324T110000
DTSTAMP:20260424T095348
CREATED:20260216T172534Z
LAST-MODIFIED:20260216T172534Z
UID:10021972-1774350000-1774350000@www.mybergen.com
SUMMARY:Easter Bunny Photos at Paramus Park (11am-7pm)
DESCRIPTION:
URL:https://www.mybergen.com/events/easter-bunny-photos-at-paramus-park-11am-7pm-2/
LOCATION:Paramus Park\, 700 Paramus Park\, Paramus\, New Jersey
END:VEVENT
BEGIN:VEVENT
DTSTART;TZID=America/New_York:20260324T110000
DTEND;TZID=America/New_York:20260324T110000
DTSTAMP:20260424T095348
CREATED:20260212T163847Z
LAST-MODIFIED:20260212T163847Z
UID:10021869-1774350000-1774350000@www.mybergen.com
SUMMARY:Photos with the Easter Bunny at Garden State Plaza
DESCRIPTION:
URL:https://www.mybergen.com/events/photos-with-the-easter-bunny-at-garden-state-plaza-14/
LOCATION:Garden State Plaza\, One Garden State Plaza\, Paramus\, New Jersey
END:VEVENT
BEGIN:VEVENT
DTSTART;TZID=America/New_York:20260324T103000
DTEND;TZID=America/New_York:20260324T103000
DTSTAMP:20260424T095348
CREATED:20260220T171533Z
LAST-MODIFIED:20260220T171533Z
UID:10022044-1774348200-1774348200@www.mybergen.com
SUMMARY:Beginner Pickleball Clinics at Montclair Pickleball in Fair Lawn
DESCRIPTION:
URL:https://www.mybergen.com/events/beginner-pickleball-clinics-at-montclair-pickleball-in-fair-lawn-90/
END:VEVENT
BEGIN:VEVENT
DTSTART;TZID=America/New_York:20260323T193000
DTEND;TZID=America/New_York:20260323T210000
DTSTAMP:20260424T095348
CREATED:20260306T122957Z
LAST-MODIFIED:20260306T122957Z
UID:10022241-1774294200-1774299600@www.mybergen.com
SUMMARY:The Traitor and the Spy: Benedict Arnold\, Major André\, and the Plot to Surrender West Point
DESCRIPTION:Prepare for the definitive story of Revolutionary War betrayal! This lecture dissects the stunning conspiracy between American hero-turned-villain Benedict Arnold and British Intelligence Chief Major John André. Together\, they hatched the high-stakes plot to sell West Point—the strategic key to the entire American Revolution—to the enemy. \nTrace the secret\, desperate midnight meetings and coded correspondence between the two men. Explore André’s daring undercover mission and the agonizing moments of his capture\, when the plans for the fortress were found hidden in his boot. This near-miss not only exposed Arnold as America’s most infamous traitor but also directly sealed the tragic fate of the charismatic British spy.   Discover how one man’s wounded pride and another’s dedication to duty led to an act of treason that almost crushed the American cause. This is the pulse-pounding\, human drama behind the treason that shook George Washington to his core.   \nAbout the speaker: James Calaski is a historian\, speaker\, researcher\, writer\, and genealogist.   Registration is required for this event\, and open now. Reserve your spot today at www.mahwahmusuem.org  or at https://www.zeffy.com/en-US/ticketing/the-traitor-and-the-spy-benedict-arnold-major-andre-and-the-plot-to-surrender-west-point. Tickets are $5 per person\, and free for Mahwah Museum members with discount code. Not sure you’re a member? Contact mahwahmuseum@gmail.com to find out.   The Mahwah Museum is open on Saturdays\, October-June from 1-4 pm. Admission to Mahwah Museum is $5 per person. Admission is free for children 18 and under\, students\, and Mahwah Museum members. The Museum is located at 201 Franklin Turnpike\, Mahwah\, NJ. Visit the museum website at www.mahwahmuseum.org for further details.  
URL:https://www.mybergen.com/events/the-traitor-and-the-spy-benedict-arnold-major-andre-and-the-plot-to-surrender-west-point/
LOCATION:Mahwah Museum\, 201 franklin Tpk\, Mahwah\, New Jersey
ATTACH;FMTTYPE=image/png:https://www.mybergen.com/wp-content/uploads/2026/03/the-traitor-and-the-spy.png
ORGANIZER;CN="Mahwah Museum":MAILTO:programs@mahwahmuseum.org
END:VEVENT
BEGIN:VEVENT
DTSTART;TZID=America/New_York:20260323T193000
DTEND;TZID=America/New_York:20260323T193000
DTSTAMP:20260424T095348
CREATED:20260304T201632Z
LAST-MODIFIED:20260304T201632Z
UID:10022237-1774294200-1774294200@www.mybergen.com
SUMMARY:“The Traitor and the Spy: Benedict Arnold\, Major André\, and the Plot to Surrender West Point” at Mahwah Museum
DESCRIPTION:
URL:https://www.mybergen.com/events/the-traitor-and-the-spy-benedict-arnold-major-andre-and-the-plot-to-surrender-west-point-at-mahwah-museum-2/
LOCATION:Mahwah Museum\, 201 franklin Tpk\, Mahwah\, New Jersey
END:VEVENT
BEGIN:VEVENT
DTSTART;TZID=America/New_York:20260323T193000
DTEND;TZID=America/New_York:20260323T193000
DTSTAMP:20260424T095348
CREATED:20260304T143450Z
LAST-MODIFIED:20260304T143450Z
UID:10022230-1774294200-1774294200@www.mybergen.com
SUMMARY:“The Traitor and the Spy: Benedict Arnold\, Major André\, and the Plot to Surrender West Point” at Mahwah Museum
DESCRIPTION:
URL:https://www.mybergen.com/events/the-traitor-and-the-spy-benedict-arnold-major-andre-and-the-plot-to-surrender-west-point-at-mahwah-museum/
LOCATION:Mahwah Museum\, 201 franklin Tpk\, Mahwah\, New Jersey
END:VEVENT
BEGIN:VEVENT
DTSTART;TZID=America/New_York:20260323T183000
DTEND;TZID=America/New_York:20260323T183000
DTSTAMP:20260424T095348
CREATED:20260302T141720Z
LAST-MODIFIED:20260302T141720Z
UID:10022202-1774290600-1774290600@www.mybergen.com
SUMMARY:Advanced Beginner/Intermediate Pickleball Clinics at Montclair Pickleball in Fair Lawn
DESCRIPTION:
URL:https://www.mybergen.com/events/advanced-beginner-intermediate-pickleball-clinics-at-montclair-pickleball-in-fair-lawn-153/
END:VEVENT
BEGIN:VEVENT
DTSTART;TZID=America/New_York:20260323T173000
DTEND;TZID=America/New_York:20260323T173000
DTSTAMP:20260424T095348
CREATED:20260220T171521Z
LAST-MODIFIED:20260220T171521Z
UID:10022039-1774287000-1774287000@www.mybergen.com
SUMMARY:Beginner Pickleball Clinics at Montclair Pickleball in Fair Lawn
DESCRIPTION:
URL:https://www.mybergen.com/events/beginner-pickleball-clinics-at-montclair-pickleball-in-fair-lawn-85/
END:VEVENT
BEGIN:VEVENT
DTSTART;TZID=America/New_York:20260323T160000
DTEND;TZID=America/New_York:20260323T160000
DTSTAMP:20260424T095348
CREATED:20260216T172213Z
LAST-MODIFIED:20260216T172213Z
UID:10021960-1774281600-1774281600@www.mybergen.com
SUMMARY:Easter Bunny Photo Pet Night at Paramus Park (4pm-7pm)
DESCRIPTION:
URL:https://www.mybergen.com/events/easter-bunny-photo-pet-night-at-paramus-park-4pm-7pm-3/
LOCATION:Paramus Park\, 700 Paramus Park\, Paramus\, New Jersey
END:VEVENT
BEGIN:VEVENT
DTSTART;TZID=America/New_York:20260323T133000
DTEND;TZID=America/New_York:20260323T133000
DTSTAMP:20260424T095348
CREATED:20260227T164545Z
LAST-MODIFIED:20260227T164545Z
UID:10022193-1774272600-1774272600@www.mybergen.com
SUMMARY:Advanced Beginner/Intermediate Pickleball Clinics at Montclair Pickleball in Fair Lawn
DESCRIPTION:
URL:https://www.mybergen.com/events/advanced-beginner-intermediate-pickleball-clinics-at-montclair-pickleball-in-fair-lawn-148/
END:VEVENT
BEGIN:VEVENT
DTSTART;TZID=America/New_York:20260323T110000
DTEND;TZID=America/New_York:20260323T110000
DTSTAMP:20260424T095348
CREATED:20260302T141927Z
LAST-MODIFIED:20260302T141927Z
UID:10022215-1774263600-1774263600@www.mybergen.com
SUMMARY:Easter Bunny Photos at Shops at Riverside (11am-7pm)
DESCRIPTION:
URL:https://www.mybergen.com/events/easter-bunny-photos-at-shops-at-riverside-11am-7pm-3/
END:VEVENT
BEGIN:VEVENT
DTSTART;TZID=America/New_York:20260323T110000
DTEND;TZID=America/New_York:20260323T110000
DTSTAMP:20260424T095348
CREATED:20260227T163313Z
LAST-MODIFIED:20260227T163313Z
UID:10022187-1774263600-1774263600@www.mybergen.com
SUMMARY:Advanced Beginner/Intermediate Pickleball Clinics at Montclair Pickleball in Fair Lawn
DESCRIPTION:
URL:https://www.mybergen.com/events/advanced-beginner-intermediate-pickleball-clinics-at-montclair-pickleball-in-fair-lawn-143/
END:VEVENT
BEGIN:VEVENT
DTSTART;TZID=America/New_York:20260323T110000
DTEND;TZID=America/New_York:20260323T110000
DTSTAMP:20260424T095348
CREATED:20260216T172533Z
LAST-MODIFIED:20260216T172533Z
UID:10021971-1774263600-1774263600@www.mybergen.com
SUMMARY:Easter Bunny Photos at Paramus Park (11am-7pm)
DESCRIPTION:
URL:https://www.mybergen.com/events/easter-bunny-photos-at-paramus-park-11am-7pm/
LOCATION:Paramus Park\, 700 Paramus Park\, Paramus\, New Jersey
END:VEVENT
BEGIN:VEVENT
DTSTART;TZID=America/New_York:20260323T110000
DTEND;TZID=America/New_York:20260323T110000
DTSTAMP:20260424T095348
CREATED:20260212T163846Z
LAST-MODIFIED:20260212T163846Z
UID:10021868-1774263600-1774263600@www.mybergen.com
SUMMARY:Photos with the Easter Bunny at Garden State Plaza
DESCRIPTION:
URL:https://www.mybergen.com/events/photos-with-the-easter-bunny-at-garden-state-plaza-13/
LOCATION:Garden State Plaza\, One Garden State Plaza\, Paramus\, New Jersey
END:VEVENT
BEGIN:VEVENT
DTSTART;TZID=America/New_York:20260322T190000
DTEND;TZID=America/New_York:20260322T190000
DTSTAMP:20260424T095348
CREATED:20260213T164850Z
LAST-MODIFIED:20260213T164850Z
UID:10021924-1774206000-1774206000@www.mybergen.com
SUMMARY:Anthony Robustiano at Bananas Comedy Club in Rutherford
DESCRIPTION:
URL:https://www.mybergen.com/events/anthony-robustiano-at-bananas-comedy-club-in-rutherford-3/
LOCATION:Bananas Comedy Club\, 283 Rt 17 South\, Hasbrouck Heights\, United States
END:VEVENT
BEGIN:VEVENT
DTSTART;TZID=America/New_York:20260322T190000
DTEND;TZID=America/New_York:20260322T190000
DTSTAMP:20260424T095348
CREATED:20260212T163547Z
LAST-MODIFIED:20260212T163547Z
UID:10021854-1774206000-1774206000@www.mybergen.com
SUMMARY:Danielle Nicole at Debonair Music Hall in Teaneck
DESCRIPTION:
URL:https://www.mybergen.com/events/danielle-nicole-at-debonair-music-hall-in-teaneck-2/
END:VEVENT
BEGIN:VEVENT
DTSTART;TZID=America/New_York:20260322T180000
DTEND;TZID=America/New_York:20260322T180000
DTSTAMP:20260424T095348
CREATED:20260304T143450Z
LAST-MODIFIED:20260304T143450Z
UID:10022229-1774202400-1774202400@www.mybergen.com
SUMMARY:A Capella Ensemble Tizmoret at Temple Esrael & JCC in Ridgewood
DESCRIPTION:
URL:https://www.mybergen.com/events/a-capella-ensemble-tizmoret-at-temple-esrael-jcc-in-ridgewood/
END:VEVENT
BEGIN:VEVENT
DTSTART;TZID=America/New_York:20260322T170000
DTEND;TZID=America/New_York:20260322T170000
DTSTAMP:20260424T095348
CREATED:20260318T183611Z
LAST-MODIFIED:20260318T183611Z
UID:10024277-1774198800-1774198800@www.mybergen.com
SUMMARY:Live Music at Tommy Fox's in Bergenfield with Celtic Mikes
DESCRIPTION:
URL:https://www.mybergen.com/events/live-music-at-tommy-foxs-in-bergenfield-with-celtic-mikes-2/
END:VEVENT
BEGIN:VEVENT
DTSTART;TZID=America/New_York:20260322T160000
DTEND;TZID=America/New_York:20260322T160000
DTSTAMP:20260424T095348
CREATED:20260319T142601Z
LAST-MODIFIED:20260319T142601Z
UID:10024330-1774195200-1774195200@www.mybergen.com
SUMMARY:Live Music at Mason Jar in Mahwah with London Calling
DESCRIPTION:
URL:https://www.mybergen.com/events/live-music-at-mason-jar-in-mahwah-with-london-calling-8/
LOCATION:Mason Jar\, 219 Ramapo Valley Road\, Mahwah\, New Jersey\, United States
END:VEVENT
BEGIN:VEVENT
DTSTART;TZID=America/New_York:20260322T150000
DTEND;TZID=America/New_York:20260322T150000
DTSTAMP:20260424T095348
CREATED:20260319T142301Z
LAST-MODIFIED:20260319T142301Z
UID:10024315-1774191600-1774191600@www.mybergen.com
SUMMARY:Music with Marly at Hackensack Performing Arts Center
DESCRIPTION:
URL:https://www.mybergen.com/events/music-with-marly-at-hackensack-performing-arts-center/
LOCATION:Hackensack Performing Arts Center\, 102 State Street\, Hackensack\, NJ
END:VEVENT
BEGIN:VEVENT
DTSTART;TZID=America/New_York:20260322T150000
DTEND;TZID=America/New_York:20260322T150000
DTSTAMP:20260424T095348
CREATED:20260213T173712Z
LAST-MODIFIED:20260213T173712Z
UID:10021936-1774191600-1774191600@www.mybergen.com
SUMMARY:The Diary at Barrymore Film Center in Fort Lee
DESCRIPTION:
URL:https://www.mybergen.com/events/the-diary-at-barrymore-film-center-in-fort-lee-2/
END:VEVENT
BEGIN:VEVENT
DTSTART;TZID=America/New_York:20260322T140000
DTEND;TZID=America/New_York:20260322T140000
DTSTAMP:20260424T095348
CREATED:20260222T195925Z
LAST-MODIFIED:20260222T195925Z
UID:10022075-1774188000-1774188000@www.mybergen.com
SUMMARY:Beginner Pickleball Clinics at Montclair Pickleball in Fair Lawn
DESCRIPTION:
URL:https://www.mybergen.com/events/beginner-pickleball-clinics-at-montclair-pickleball-in-fair-lawn-119/
END:VEVENT
BEGIN:VEVENT
DTSTART;TZID=America/New_York:20260322T140000
DTEND;TZID=America/New_York:20260322T140000
DTSTAMP:20260424T095348
CREATED:20260210T194042Z
LAST-MODIFIED:20260210T194042Z
UID:10021812-1774188000-1774188000@www.mybergen.com
SUMMARY:Players Guild of Leonia Present "The Psychic"
DESCRIPTION:
URL:https://www.mybergen.com/events/players-guild-of-leonia-present-the-psychic-8/
END:VEVENT
BEGIN:VEVENT
DTSTART;TZID=America/New_York:20260322T140000
DTEND;TZID=America/New_York:20260322T140000
DTSTAMP:20260424T095348
CREATED:20260210T192516Z
LAST-MODIFIED:20260210T192516Z
UID:10021766-1774188000-1774188000@www.mybergen.com
SUMMARY:Bergen County Players Present "The Cake"
DESCRIPTION:
URL:https://www.mybergen.com/events/bergen-county-players-present-the-cake-5/
LOCATION:Little Firehouse Theatre\, 298 Kinderkamack Road\, Oradell\, NJ
END:VEVENT
BEGIN:VEVENT
DTSTART;TZID=America/New_York:20260322T130000
DTEND;TZID=America/New_York:20260322T130000
DTSTAMP:20260424T095348
CREATED:20260215T221120Z
LAST-MODIFIED:20260215T221120Z
UID:10021952-1774184400-1774184400@www.mybergen.com
SUMMARY:Audubon: NJ Endangered Species Indoor Presentation at NJ Botanical Garden in Ringwood
DESCRIPTION:
URL:https://www.mybergen.com/events/audubon-nj-endangered-species-indoor-presentation-at-nj-botanical-garden-in-ringwood/
LOCATION:NJ Botanical Garden\, Morris Road\, Ringwood\, NJ
END:VEVENT
BEGIN:VEVENT
DTSTART;TZID=America/New_York:20260322T130000
DTEND;TZID=America/New_York:20260322T130000
DTSTAMP:20260424T095348
CREATED:20260206T144602Z
LAST-MODIFIED:20260206T144602Z
UID:10021362-1774184400-1774184400@www.mybergen.com
SUMMARY:Pea Day at Garretson Forge & Farm in Fair Lawn
DESCRIPTION:
URL:https://www.mybergen.com/events/pea-day-at-garretson-forge-farm-in-fair-lawn-3/
LOCATION:Garretson Forge & Farm\, 4-02 River Road\, Fair Lawn\, United States
END:VEVENT
END:VCALENDAR