BEGIN:VCALENDAR
VERSION:2.0
PRODID:-//Mybergen.com - ECPv6.15.20//NONSGML v1.0//EN
CALSCALE:GREGORIAN
METHOD:PUBLISH
X-ORIGINAL-URL:https://www.mybergen.com
X-WR-CALDESC:Events for Mybergen.com
REFRESH-INTERVAL;VALUE=DURATION:PT1H
X-Robots-Tag:noindex
X-PUBLISHED-TTL:PT1H
BEGIN:VTIMEZONE
TZID:America/New_York
BEGIN:DAYLIGHT
TZOFFSETFROM:-0500
TZOFFSETTO:-0400
TZNAME:EDT
DTSTART:20250309T070000
END:DAYLIGHT
BEGIN:STANDARD
TZOFFSETFROM:-0400
TZOFFSETTO:-0500
TZNAME:EST
DTSTART:20251102T060000
END:STANDARD
BEGIN:DAYLIGHT
TZOFFSETFROM:-0500
TZOFFSETTO:-0400
TZNAME:EDT
DTSTART:20260308T070000
END:DAYLIGHT
BEGIN:STANDARD
TZOFFSETFROM:-0400
TZOFFSETTO:-0500
TZNAME:EST
DTSTART:20261101T060000
END:STANDARD
BEGIN:DAYLIGHT
TZOFFSETFROM:-0500
TZOFFSETTO:-0400
TZNAME:EDT
DTSTART:20270314T070000
END:DAYLIGHT
BEGIN:STANDARD
TZOFFSETFROM:-0400
TZOFFSETTO:-0500
TZNAME:EST
DTSTART:20271107T060000
END:STANDARD
END:VTIMEZONE
BEGIN:VEVENT
DTSTART;TZID=America/New_York:20260504T173000
DTEND;TZID=America/New_York:20260504T173000
DTSTAMP:20260424T042717
CREATED:20260321T160309Z
LAST-MODIFIED:20260321T160309Z
UID:10024383-1777915800-1777915800@www.mybergen.com
SUMMARY:Beginner Pickleball Clinics at Montclair Pickleball in Fair Lawn
DESCRIPTION:
URL:https://www.mybergen.com/events/beginner-pickleball-clinics-at-montclair-pickleball-in-fair-lawn-161/
LOCATION:New Jersey
END:VEVENT
BEGIN:VEVENT
DTSTART;TZID=America/New_York:20260504T183000
DTEND;TZID=America/New_York:20260504T183000
DTSTAMP:20260424T042717
CREATED:20260322T141716Z
LAST-MODIFIED:20260322T141716Z
UID:10024503-1777919400-1777919400@www.mybergen.com
SUMMARY:Advanced Beginner/Intermediate Level Pickleball Clinics at Montclair Pickleball in Fair Lawn
DESCRIPTION:
URL:https://www.mybergen.com/events/advanced-beginner-intermediate-level-pickleball-clinics-at-montclair-pickleball-in-fair-lawn-11/
LOCATION:New Jersey
END:VEVENT
BEGIN:VEVENT
DTSTART;TZID=America/New_York:20260504T183000
DTEND;TZID=America/New_York:20260504T183000
DTSTAMP:20260424T042717
CREATED:20260322T141816Z
LAST-MODIFIED:20260322T141816Z
UID:10024508-1777919400-1777919400@www.mybergen.com
SUMMARY:Advanced Beginner/Intermediate Level Pickleball Clinics at Montclair Pickleball in Fair Lawn
DESCRIPTION:
URL:https://www.mybergen.com/events/advanced-beginner-intermediate-level-pickleball-clinics-at-montclair-pickleball-in-fair-lawn-16/
LOCATION:New Jersey
END:VEVENT
BEGIN:VEVENT
DTSTART;TZID=America/New_York:20260504T183000
DTEND;TZID=America/New_York:20260504T183000
DTSTAMP:20260424T042717
CREATED:20260423T140554Z
LAST-MODIFIED:20260423T140554Z
UID:10027510-1777919400-1777919400@www.mybergen.com
SUMMARY:Lisa Steele Celebrates IN SEASON at Barnes & Noble in Paramus
DESCRIPTION:
URL:https://www.mybergen.com/events/lisa-steele-celebrates-in-season-at-barnes-noble-in-paramus/
LOCATION:Barnes & Noble\, 187 Riverside Square\, Hackensack\, United States
END:VEVENT
BEGIN:VEVENT
DTSTART;TZID=America/New_York:20260504T193000
DTEND;TZID=America/New_York:20260504T193000
DTSTAMP:20260424T042717
CREATED:20260421T141549Z
LAST-MODIFIED:20260421T141549Z
UID:10025549-1777923000-1777923000@www.mybergen.com
SUMMARY:Star Wars: Episode IV - A New Hope (1977) at Barrymore Film Center in Fort Lee
DESCRIPTION:
URL:https://www.mybergen.com/events/star-wars-episode-iv-a-new-hope-1977-at-barrymore-film-center-in-fort-lee-3/
LOCATION:Barrymore Film Center\, 153 Main Street\, Fort Lee\, New Jersey
END:VEVENT
BEGIN:VEVENT
DTSTART;TZID=America/New_York:20260505T080000
DTEND;TZID=America/New_York:20260505T080000
DTSTAMP:20260424T042717
CREATED:20260321T160516Z
LAST-MODIFIED:20260321T160516Z
UID:10024389-1777968000-1777968000@www.mybergen.com
SUMMARY:Beginner Pickleball Clinics at Montclair Pickleball in Fair Lawn
DESCRIPTION:
URL:https://www.mybergen.com/events/beginner-pickleball-clinics-at-montclair-pickleball-in-fair-lawn-167/
LOCATION:New Jersey
END:VEVENT
BEGIN:VEVENT
DTSTART;TZID=America/New_York:20260505T090000
DTEND;TZID=America/New_York:20260505T090000
DTSTAMP:20260424T042717
CREATED:20260322T131347Z
LAST-MODIFIED:20260322T131347Z
UID:10024455-1777971600-1777971600@www.mybergen.com
SUMMARY:Expert Level (4.0+) Pickleball Clinics at Montclair Pickleball in Fair Lawn
DESCRIPTION:
URL:https://www.mybergen.com/events/expert-level-4-0-pickleball-clinics-at-montclair-pickleball-in-fair-lawn-5/
LOCATION:New Jersey
END:VEVENT
BEGIN:VEVENT
DTSTART;TZID=America/New_York:20260505T093000
DTEND;TZID=America/New_York:20260505T093000
DTSTAMP:20260424T042717
CREATED:20260321T172754Z
LAST-MODIFIED:20260321T172754Z
UID:10024437-1777973400-1777973400@www.mybergen.com
SUMMARY:Beginner Pickleball Clinics (Age 50+) at Montclair Pickleball in Fair Lawn
DESCRIPTION:
URL:https://www.mybergen.com/events/beginner-pickleball-clinics-age-50-at-montclair-pickleball-in-fair-lawn-11/
LOCATION:New Jersey
END:VEVENT
BEGIN:VEVENT
DTSTART;TZID=America/New_York:20260505T103000
DTEND;TZID=America/New_York:20260505T103000
DTSTAMP:20260424T042717
CREATED:20260321T160852Z
LAST-MODIFIED:20260321T160852Z
UID:10024395-1777977000-1777977000@www.mybergen.com
SUMMARY:Beginner Pickleball Clinics at Montclair Pickleball in Fair Lawn
DESCRIPTION:
URL:https://www.mybergen.com/events/beginner-pickleball-clinics-at-montclair-pickleball-in-fair-lawn-173/
LOCATION:New Jersey
END:VEVENT
BEGIN:VEVENT
DTSTART;TZID=America/New_York:20260505T130000
DTEND;TZID=America/New_York:20260505T130000
DTSTAMP:20260424T042717
CREATED:20260323T145546Z
LAST-MODIFIED:20260323T145546Z
UID:10024514-1777986000-1777986000@www.mybergen.com
SUMMARY:Advanced Beginner/Intermediate Level Pickleball Clinics at Montclair Pickleball in Fair Lawn
DESCRIPTION:
URL:https://www.mybergen.com/events/advanced-beginner-intermediate-level-pickleball-clinics-at-montclair-pickleball-in-fair-lawn-22/
LOCATION:New Jersey
END:VEVENT
BEGIN:VEVENT
DTSTART;TZID=America/New_York:20260505T180000
DTEND;TZID=America/New_York:20260505T180000
DTSTAMP:20260424T042717
CREATED:20260322T131957Z
LAST-MODIFIED:20260322T131957Z
UID:10024479-1778004000-1778004000@www.mybergen.com
SUMMARY:High Intermediate Level (3.0-3.5) Pickleball Clinics at Montclair Pickleball in Fair Lawn
DESCRIPTION:
URL:https://www.mybergen.com/events/high-intermediate-level-3-0-3-5-pickleball-clinics-at-montclair-pickleball-in-fair-lawn-5/
LOCATION:New Jersey
END:VEVENT
BEGIN:VEVENT
DTSTART;TZID=America/New_York:20260505T183000
DTEND;TZID=America/New_York:20260505T183000
DTSTAMP:20260424T042717
CREATED:20260423T140554Z
LAST-MODIFIED:20260423T140554Z
UID:10027511-1778005800-1778005800@www.mybergen.com
SUMMARY:Sara Cate Discusses & Signs THE RULE OF THREE at Barnes & Noble in Paramus
DESCRIPTION:
URL:https://www.mybergen.com/events/sara-cate-discusses-signs-the-rule-of-three-at-barnes-noble-in-paramus/
LOCATION:Barnes & Noble\, 187 Riverside Square\, Hackensack\, United States
END:VEVENT
BEGIN:VEVENT
DTSTART;TZID=America/New_York:20260505T190000
DTEND;TZID=America/New_York:20260505T190000
DTSTAMP:20260424T042717
CREATED:20260321T161034Z
LAST-MODIFIED:20260321T161034Z
UID:10024401-1778007600-1778007600@www.mybergen.com
SUMMARY:Beginner Pickleball Clinics at Montclair Pickleball in Fair Lawn
DESCRIPTION:
URL:https://www.mybergen.com/events/beginner-pickleball-clinics-at-montclair-pickleball-in-fair-lawn-179/
LOCATION:New Jersey
END:VEVENT
BEGIN:VEVENT
DTSTART;TZID=America/New_York:20260505T193000
DTEND;TZID=America/New_York:20260505T193000
DTSTAMP:20260424T042717
CREATED:20260322T131354Z
LAST-MODIFIED:20260322T131354Z
UID:10024461-1778009400-1778009400@www.mybergen.com
SUMMARY:Expert Level (4.0+) Pickleball Clinics at Montclair Pickleball in Fair Lawn
DESCRIPTION:
URL:https://www.mybergen.com/events/expert-level-4-0-pickleball-clinics-at-montclair-pickleball-in-fair-lawn-11/
LOCATION:New Jersey
END:VEVENT
BEGIN:VEVENT
DTSTART;TZID=America/New_York:20260505T210000
DTEND;TZID=America/New_York:20260505T210000
DTSTAMP:20260424T042717
CREATED:20260321T161237Z
LAST-MODIFIED:20260321T161237Z
UID:10024407-1778014800-1778014800@www.mybergen.com
SUMMARY:Beginner Pickleball Clinics at Montclair Pickleball in Fair Lawn
DESCRIPTION:
URL:https://www.mybergen.com/events/beginner-pickleball-clinics-at-montclair-pickleball-in-fair-lawn-185/
LOCATION:New Jersey
END:VEVENT
BEGIN:VEVENT
DTSTART;TZID=America/New_York:20260505T210000
DTEND;TZID=America/New_York:20260505T210000
DTSTAMP:20260424T042717
CREATED:20260323T145553Z
LAST-MODIFIED:20260323T145553Z
UID:10024520-1778014800-1778014800@www.mybergen.com
SUMMARY:Advanced Beginner/Intermediate Level Pickleball Clinics at Montclair Pickleball in Fair Lawn
DESCRIPTION:
URL:https://www.mybergen.com/events/advanced-beginner-intermediate-level-pickleball-clinics-at-montclair-pickleball-in-fair-lawn-28/
LOCATION:New Jersey
END:VEVENT
BEGIN:VEVENT
DTSTART;TZID=America/New_York:20260506T090000
DTEND;TZID=America/New_York:20260506T090000
DTSTAMP:20260424T042717
CREATED:20260322T132159Z
LAST-MODIFIED:20260322T132159Z
UID:10024485-1778058000-1778058000@www.mybergen.com
SUMMARY:High Intermediate Level (3.0-3.5) Pickleball Clinics at Montclair Pickleball in Fair Lawn
DESCRIPTION:
URL:https://www.mybergen.com/events/high-intermediate-level-3-0-3-5-pickleball-clinics-at-montclair-pickleball-in-fair-lawn-11/
LOCATION:New Jersey
END:VEVENT
BEGIN:VEVENT
DTSTART;TZID=America/New_York:20260506T103000
DTEND;TZID=America/New_York:20260506T103000
DTSTAMP:20260424T042717
CREATED:20260322T131456Z
LAST-MODIFIED:20260322T131456Z
UID:10024467-1778063400-1778063400@www.mybergen.com
SUMMARY:Advanced Level (3.5-4.0) Pickleball Clinics at Montclair Pickleball in Fair Lawn
DESCRIPTION:
URL:https://www.mybergen.com/events/advanced-level-3-5-4-0-pickleball-clinics-at-montclair-pickleball-in-fair-lawn-5/
LOCATION:New Jersey
END:VEVENT
BEGIN:VEVENT
DTSTART;TZID=America/New_York:20260506T130000
DTEND;TZID=America/New_York:20260506T130000
DTSTAMP:20260424T042717
CREATED:20260321T172902Z
LAST-MODIFIED:20260321T172902Z
UID:10024443-1778072400-1778072400@www.mybergen.com
SUMMARY:Beginner Pickleball Clinics (Age 50+) at Montclair Pickleball in Fair Lawn
DESCRIPTION:
URL:https://www.mybergen.com/events/beginner-pickleball-clinics-age-50-at-montclair-pickleball-in-fair-lawn-17/
LOCATION:New Jersey
END:VEVENT
BEGIN:VEVENT
DTSTART;TZID=America/New_York:20260506T163000
DTEND;TZID=America/New_York:20260506T163000
DTSTAMP:20260424T042717
CREATED:20260409T132408Z
LAST-MODIFIED:20260409T132408Z
UID:10024708-1778085000-1778085000@www.mybergen.com
SUMMARY:Mother's Day\, Mom & Me Sourdough Workshop at Abma's Farm
DESCRIPTION:
URL:https://www.mybergen.com/events/mothers-day-mom-me-sourdough-workshop-at-abmas-farm/
LOCATION:Abma’s Farm\, 700 Lawlins Road\, Allendale\, NJ
END:VEVENT
BEGIN:VEVENT
DTSTART;TZID=America/New_York:20260506T180000
DTEND;TZID=America/New_York:20260506T180000
DTSTAMP:20260424T042717
CREATED:20260323T145656Z
LAST-MODIFIED:20260323T145656Z
UID:10024526-1778090400-1778090400@www.mybergen.com
SUMMARY:Advanced Beginner/Intermediate Level Pickleball Clinics at Montclair Pickleball in Fair Lawn
DESCRIPTION:
URL:https://www.mybergen.com/events/advanced-beginner-intermediate-level-pickleball-clinics-at-montclair-pickleball-in-fair-lawn-34/
LOCATION:New Jersey
END:VEVENT
BEGIN:VEVENT
DTSTART;TZID=America/New_York:20260506T181500
DTEND;TZID=America/New_York:20260506T181500
DTSTAMP:20260424T042717
CREATED:20260413T201430Z
LAST-MODIFIED:20260419T022436Z
UID:10024817-1778091300-1778091300@www.mybergen.com
SUMMARY:Casa Casino Night
DESCRIPTION:
URL:https://www.mybergen.com/events/tenafly-spring-fling/
LOCATION:Seasons\, 644 Pascack Rd.\, Township of Washington\, New Jersey\, 07676\, United States
END:VEVENT
BEGIN:VEVENT
DTSTART;TZID=America/New_York:20260506T183000
DTEND;TZID=America/New_York:20260506T183000
DTSTAMP:20260424T042717
CREATED:20260423T140555Z
LAST-MODIFIED:20260423T140555Z
UID:10027512-1778092200-1778092200@www.mybergen.com
SUMMARY:K. L. Walther Celebrates Release of THE SUMMER OF SECOND CHANCES at Barnes & Noble in Paramus
DESCRIPTION:
URL:https://www.mybergen.com/events/k-l-walther-celebrates-release-of-the-summer-of-second-chances-at-barnes-noble-in-paramus/
LOCATION:Barnes & Noble\, 187 Riverside Square\, Hackensack\, United States
END:VEVENT
BEGIN:VEVENT
DTSTART;TZID=America/New_York:20260506T190000
DTEND;TZID=America/New_York:20260506T190000
DTSTAMP:20260424T042717
CREATED:20260421T142755Z
LAST-MODIFIED:20260421T142755Z
UID:10025580-1778094000-1778094000@www.mybergen.com
SUMMARY:"Peregrine Falcons: Fierce and Fast" Talk at Fort Lee Historic Park
DESCRIPTION:
URL:https://www.mybergen.com/events/peregrine-falcons-fierce-and-fast-talk-at-fort-lee-historic-park/
LOCATION:Fort Lee Historic Park\, Hudson Terrace\, Fort Lee\, New Jersey\, United States
END:VEVENT
BEGIN:VEVENT
DTSTART;TZID=America/New_York:20260506T193000
DTEND;TZID=America/New_York:20260506T193000
DTSTAMP:20260424T042717
CREATED:20260421T141549Z
LAST-MODIFIED:20260421T141549Z
UID:10025550-1778095800-1778095800@www.mybergen.com
SUMMARY:Memories of Murder (2003) at Barrymore Film Center in Fort Lee
DESCRIPTION:
URL:https://www.mybergen.com/events/memories-of-murder-2003-at-barrymore-film-center-in-fort-lee/
LOCATION:Barrymore Film Center\, 153 Main Street\, Fort Lee\, New Jersey
END:VEVENT
BEGIN:VEVENT
DTSTART;TZID=America/New_York:20260506T200000
DTEND;TZID=America/New_York:20260506T200000
DTSTAMP:20260424T042717
CREATED:20260409T124833Z
LAST-MODIFIED:20260409T124833Z
UID:10024671-1778097600-1778097600@www.mybergen.com
SUMMARY:Jim Breuer at Bergen Performing Arts Center
DESCRIPTION:
URL:https://www.mybergen.com/events/jim-breuer-at-bergen-performing-arts-center/
LOCATION:Bergen Performing Arts Center\, 30 N. Van Brunt Street\, Englewood\, NJ
END:VEVENT
BEGIN:VEVENT
DTSTART;TZID=America/New_York:20260507T090000
DTEND;TZID=America/New_York:20260507T090000
DTSTAMP:20260424T042717
CREATED:20260323T145858Z
LAST-MODIFIED:20260323T145858Z
UID:10024532-1778144400-1778144400@www.mybergen.com
SUMMARY:Advanced Beginner/Intermediate Level Pickleball Clinics at Montclair Pickleball in Fair Lawn
DESCRIPTION:
URL:https://www.mybergen.com/events/advanced-beginner-intermediate-level-pickleball-clinics-at-montclair-pickleball-in-fair-lawn-40/
LOCATION:New Jersey
END:VEVENT
BEGIN:VEVENT
DTSTART;TZID=America/New_York:20260507T090000
DTEND;TZID=America/New_York:20260507T090000
DTSTAMP:20260424T042717
CREATED:20260413T201233Z
LAST-MODIFIED:20260413T201233Z
UID:10024814-1778144400-1778144400@www.mybergen.com
SUMMARY:Hackensack Chamber Monthly Morning Networking
DESCRIPTION:
URL:https://www.mybergen.com/events/hackensack-chamber-monthly-morning-networking/
LOCATION:New Jersey
END:VEVENT
BEGIN:VEVENT
DTSTART;TZID=America/New_York:20260507T100000
DTEND;TZID=America/New_York:20260507T100000
DTSTAMP:20260424T042717
CREATED:20260409T132810Z
LAST-MODIFIED:20260409T132810Z
UID:10024718-1778148000-1778148000@www.mybergen.com
SUMMARY:Garden Volunteer Days at Garretson Forge & Farm in Fair Lawn
DESCRIPTION:
URL:https://www.mybergen.com/events/garden-volunteer-days-at-garretson-forge-farm-in-fair-lawn-60/
LOCATION:The Hermitage\, 335 N. Franklin Turnpike\, Ho-Ho-Kus\, NJ
END:VEVENT
BEGIN:VEVENT
DTSTART;TZID=America/New_York:20260507T140000
DTEND;TZID=America/New_York:20260507T140000
DTSTAMP:20260424T042717
CREATED:20260325T143329Z
LAST-MODIFIED:20260325T143329Z
UID:10024559-1778162400-1778162400@www.mybergen.com
SUMMARY:13th Annual Academy Awards Film Festival at  Englewood Library Featuring "F1"
DESCRIPTION:
URL:https://www.mybergen.com/events/13th-annual-academy-awards-film-festival-at-englewood-library-featuring-f1/
LOCATION:Englewood Library\, 31 Engle Street\, Englewood\, United States
END:VEVENT
END:VCALENDAR