BEGIN:VCALENDAR
VERSION:2.0
PRODID:-//Mybergen.com - ECPv6.15.20//NONSGML v1.0//EN
CALSCALE:GREGORIAN
METHOD:PUBLISH
X-WR-CALNAME:Mybergen.com
X-ORIGINAL-URL:https://www.mybergen.com
X-WR-CALDESC:Events for Mybergen.com
REFRESH-INTERVAL;VALUE=DURATION:PT1H
X-Robots-Tag:noindex
X-PUBLISHED-TTL:PT1H
BEGIN:VTIMEZONE
TZID:America/New_York
BEGIN:DAYLIGHT
TZOFFSETFROM:-0500
TZOFFSETTO:-0400
TZNAME:EDT
DTSTART:20250309T070000
END:DAYLIGHT
BEGIN:STANDARD
TZOFFSETFROM:-0400
TZOFFSETTO:-0500
TZNAME:EST
DTSTART:20251102T060000
END:STANDARD
BEGIN:DAYLIGHT
TZOFFSETFROM:-0500
TZOFFSETTO:-0400
TZNAME:EDT
DTSTART:20260308T070000
END:DAYLIGHT
BEGIN:STANDARD
TZOFFSETFROM:-0400
TZOFFSETTO:-0500
TZNAME:EST
DTSTART:20261101T060000
END:STANDARD
BEGIN:DAYLIGHT
TZOFFSETFROM:-0500
TZOFFSETTO:-0400
TZNAME:EDT
DTSTART:20270314T070000
END:DAYLIGHT
BEGIN:STANDARD
TZOFFSETFROM:-0400
TZOFFSETTO:-0500
TZNAME:EST
DTSTART:20271107T060000
END:STANDARD
END:VTIMEZONE
BEGIN:VEVENT
DTSTART;TZID=America/New_York:20260415T080000
DTEND;TZID=America/New_York:20260523T170000
DTSTAMP:20260422T052747
CREATED:20260416T003518Z
LAST-MODIFIED:20260416T003518Z
UID:10025086-1776240000-1779555600@www.mybergen.com
SUMMARY:Nature Photography Show at the Haworth Library
DESCRIPTION:Nature Photography Show happening now through May 23rd\, 2026.  Opening on April 18th\, 2026 from 11:30am-1:30pm.  
URL:https://www.mybergen.com/events/nature-photography-show-at-the-haworth-library/
LOCATION:New Jersey
ATTACH;FMTTYPE=image/jpeg:https://www.mybergen.com/wp-content/uploads/2026/04/PeacefulNatureCynthiaSorokaDunnFlyer.jpg
END:VEVENT
BEGIN:VEVENT
DTSTART;TZID=America/New_York:20260421T090000
DTEND;TZID=America/New_York:20260424T120000
DTSTAMP:20260422T052747
CREATED:20260412T114115Z
LAST-MODIFIED:20260412T114115Z
UID:10024780-1776762000-1777032000@www.mybergen.com
SUMMARY:Lorrimer Sanctuary Spring Break
DESCRIPTION:An epic camp filled with thrilling activities\, arts and crafts\, and endless fun! Join us for an exciting Spring Break at Lorrimer Sanctuary! Get ready for a week filled with fun\, adventure\, and learning in the great outdoors! Fun activities include nature art\, bug hunts\, and more!\n \n\nSessions available for kindergarten-4th grade. Please be sure to pack a lunch! This program takes place mostly outdoors\, and participants must dress appropriately for all weather conditions.
URL:https://www.mybergen.com/events/lorrimer-sanctuary-spring-break/
LOCATION:New Jersey
CATEGORIES:Event
ATTACH;FMTTYPE=image/jpeg:https://www.mybergen.com/wp-content/uploads/2026/04/Screenshot_11-4-2026_103945_www.eventbrite.com_.jpeg
END:VEVENT
BEGIN:VEVENT
DTSTART;TZID=America/New_York:20260422T090000
DTEND;TZID=America/New_York:20260422T090000
DTSTAMP:20260422T052747
CREATED:20260322T132158Z
LAST-MODIFIED:20260322T132158Z
UID:10024483-1776848400-1776848400@www.mybergen.com
SUMMARY:High Intermediate Level (3.0-3.5) Pickleball Clinics at Montclair Pickleball in Fair Lawn
DESCRIPTION:
URL:https://www.mybergen.com/events/high-intermediate-level-3-0-3-5-pickleball-clinics-at-montclair-pickleball-in-fair-lawn-9/
LOCATION:New Jersey
END:VEVENT
BEGIN:VEVENT
DTSTART;TZID=America/New_York:20260422T100000
DTEND;TZID=America/New_York:20260422T100000
DTSTAMP:20260422T052747
CREATED:20260318T184020Z
LAST-MODIFIED:20260318T184020Z
UID:10024289-1776852000-1776852000@www.mybergen.com
SUMMARY:Earth Day Nature Walk at DeKorte Park in Lyndhurst
DESCRIPTION:
URL:https://www.mybergen.com/events/earth-day-nature-walk-at-dekorte-park-in-lyndhurst/
LOCATION:DeKorte Park\, 2 DeKorte Plaza\, Lyndhurst\, New Jersey\, United States
END:VEVENT
BEGIN:VEVENT
DTSTART;TZID=America/New_York:20260422T103000
DTEND;TZID=America/New_York:20260422T103000
DTSTAMP:20260422T052747
CREATED:20260322T131455Z
LAST-MODIFIED:20260322T131455Z
UID:10024465-1776853800-1776853800@www.mybergen.com
SUMMARY:Advanced Level (3.5-4.0) Pickleball Clinics at Montclair Pickleball in Fair Lawn
DESCRIPTION:
URL:https://www.mybergen.com/events/advanced-level-3-5-4-0-pickleball-clinics-at-montclair-pickleball-in-fair-lawn-3/
LOCATION:New Jersey
END:VEVENT
BEGIN:VEVENT
DTSTART;TZID=America/New_York:20260422T130000
DTEND;TZID=America/New_York:20260422T130000
DTSTAMP:20260422T052747
CREATED:20260321T172802Z
LAST-MODIFIED:20260321T172802Z
UID:10024441-1776862800-1776862800@www.mybergen.com
SUMMARY:Beginner Pickleball Clinics (Age 50+) at Montclair Pickleball in Fair Lawn
DESCRIPTION:
URL:https://www.mybergen.com/events/beginner-pickleball-clinics-age-50-at-montclair-pickleball-in-fair-lawn-15/
LOCATION:New Jersey
END:VEVENT
BEGIN:VEVENT
DTSTART;TZID=America/New_York:20260422T160000
DTEND;TZID=America/New_York:20260422T160000
DTSTAMP:20260422T052747
CREATED:20260413T200513Z
LAST-MODIFIED:20260413T200513Z
UID:10024793-1776873600-1776873600@www.mybergen.com
SUMMARY:Earth Day Workshop for Kids at Stew Leonard's Paramus
DESCRIPTION:
URL:https://www.mybergen.com/events/earth-day-workshop-for-kids-at-stew-leonards-paramus/
LOCATION:New Jersey
END:VEVENT
BEGIN:VEVENT
DTSTART;TZID=America/New_York:20260422T173000
DTEND;TZID=America/New_York:20260422T193000
DTSTAMP:20260422T052747
CREATED:20260331T200237Z
LAST-MODIFIED:20260331T200237Z
UID:10024623-1776879000-1776886200@www.mybergen.com
SUMMARY:Paint & Sip for a Cause at Juniper Village at Paramus
DESCRIPTION:Join us at Blackjack Mulligan’s in Garfield\, NJ on Wednesday\, April 22 at 5:30 PM as Juniper Village at Paramus partners with The Spotted Canva to raise money for a wonderful cause! Create your own masterpiece through this guided art experience. Tickets include: \n\nall painting supplies\nfood and drinks\ndonation to Alzheimer’s New Jersey\n\nThis event will not only be impactful\, but enjoyable for all who attend! Spots are limited\, so guests are kindly asked to RSVP by scanning the QR code on the flyer or visiting www.thespottedcanvas.com. Juniper Village at Paramus is located at 186 Paramus Road\, Paramus\, NJ 07652. 
URL:https://www.mybergen.com/events/paint-sip-for-a-cause-at-juniper-village-at-paramus/
LOCATION:Juniper Village at Paramus\, 186 Paramus Road\, Paramus\, 07652\, United States
ATTACH;FMTTYPE=image/jpeg:https://www.mybergen.com/wp-content/uploads/2026/03/Paint-and-Sip-for-Alzheimers.jpg
END:VEVENT
BEGIN:VEVENT
DTSTART;TZID=America/New_York:20260422T180000
DTEND;TZID=America/New_York:20260422T180000
DTSTAMP:20260422T052747
CREATED:20260319T143004Z
LAST-MODIFIED:20260319T143004Z
UID:10024347-1776880800-1776880800@www.mybergen.com
SUMMARY:PIP Sip 'n Paint at State Line Café in Alpine
DESCRIPTION:
URL:https://www.mybergen.com/events/pip-sip-n-paint-at-state-line-cafe-in-alpine/
LOCATION:New Jersey
END:VEVENT
BEGIN:VEVENT
DTSTART;TZID=America/New_York:20260422T180000
DTEND;TZID=America/New_York:20260422T180000
DTSTAMP:20260422T052747
CREATED:20260323T145654Z
LAST-MODIFIED:20260323T145654Z
UID:10024524-1776880800-1776880800@www.mybergen.com
SUMMARY:Advanced Beginner/Intermediate Level Pickleball Clinics at Montclair Pickleball in Fair Lawn
DESCRIPTION:
URL:https://www.mybergen.com/events/advanced-beginner-intermediate-level-pickleball-clinics-at-montclair-pickleball-in-fair-lawn-32/
LOCATION:New Jersey
END:VEVENT
BEGIN:VEVENT
DTSTART;TZID=America/New_York:20260422T190000
DTEND;TZID=America/New_York:20260422T190000
DTSTAMP:20260422T052747
CREATED:20260402T154613Z
LAST-MODIFIED:20260402T154613Z
UID:10024640-1776884400-1776884400@www.mybergen.com
SUMMARY:"Take Better Photos with Your Phone" Program at Englewood Library
DESCRIPTION:
URL:https://www.mybergen.com/events/take-better-photos-with-your-phone-program-at-englewood-library/
LOCATION:Englewood Library\, 31 Engle Street\, Englewood\, United States
END:VEVENT
BEGIN:VEVENT
DTSTART;TZID=America/New_York:20260422T193000
DTEND;TZID=America/New_York:20260422T193000
DTSTAMP:20260422T052747
CREATED:20260318T182701Z
LAST-MODIFIED:20260318T182701Z
UID:10024245-1776886200-1776886200@www.mybergen.com
SUMMARY:Paths of Glory (1957) at Barrymore Film Center in Fort Lee
DESCRIPTION:
URL:https://www.mybergen.com/events/paths-of-glory-1957-at-barrymore-film-center-in-fort-lee/
LOCATION:Barrymore Film Center\, 153 Main Street\, Fort Lee\, New Jersey
END:VEVENT
BEGIN:VEVENT
DTSTART;TZID=America/New_York:20260422T193000
DTEND;TZID=America/New_York:20260422T193000
DTSTAMP:20260422T052747
CREATED:20260321T161436Z
LAST-MODIFIED:20260321T161436Z
UID:10024411-1776886200-1776886200@www.mybergen.com
SUMMARY:Beginner Pickleball Clinics at Montclair Pickleball in Fair Lawn
DESCRIPTION:
URL:https://www.mybergen.com/events/beginner-pickleball-clinics-at-montclair-pickleball-in-fair-lawn-189/
LOCATION:New Jersey
END:VEVENT
BEGIN:VEVENT
DTSTART;TZID=America/New_York:20260422T193000
DTEND;TZID=America/New_York:20260422T193000
DTSTAMP:20260422T052747
CREATED:20260325T143437Z
LAST-MODIFIED:20260325T143437Z
UID:10024568-1776886200-1776886200@www.mybergen.com
SUMMARY:Pixar Trivia at Blue Moon in Wyckoff
DESCRIPTION:
URL:https://www.mybergen.com/events/pixar-trivia-at-blue-moon-in-wyckoff/
LOCATION:New Jersey
END:VEVENT
END:VCALENDAR