BEGIN:VCALENDAR
VERSION:2.0
PRODID:-//Mybergen.com - ECPv6.15.20//NONSGML v1.0//EN
CALSCALE:GREGORIAN
METHOD:PUBLISH
X-WR-CALNAME:Mybergen.com
X-ORIGINAL-URL:https://www.mybergen.com
X-WR-CALDESC:Events for Mybergen.com
REFRESH-INTERVAL;VALUE=DURATION:PT1H
X-Robots-Tag:noindex
X-PUBLISHED-TTL:PT1H
BEGIN:VTIMEZONE
TZID:America/New_York
BEGIN:DAYLIGHT
TZOFFSETFROM:-0500
TZOFFSETTO:-0400
TZNAME:EDT
DTSTART:20240310T070000
END:DAYLIGHT
BEGIN:STANDARD
TZOFFSETFROM:-0400
TZOFFSETTO:-0500
TZNAME:EST
DTSTART:20241103T060000
END:STANDARD
BEGIN:DAYLIGHT
TZOFFSETFROM:-0500
TZOFFSETTO:-0400
TZNAME:EDT
DTSTART:20250309T070000
END:DAYLIGHT
BEGIN:STANDARD
TZOFFSETFROM:-0400
TZOFFSETTO:-0500
TZNAME:EST
DTSTART:20251102T060000
END:STANDARD
BEGIN:DAYLIGHT
TZOFFSETFROM:-0500
TZOFFSETTO:-0400
TZNAME:EDT
DTSTART:20260308T070000
END:DAYLIGHT
BEGIN:STANDARD
TZOFFSETFROM:-0400
TZOFFSETTO:-0500
TZNAME:EST
DTSTART:20261101T060000
END:STANDARD
BEGIN:DAYLIGHT
TZOFFSETFROM:-0500
TZOFFSETTO:-0400
TZNAME:EDT
DTSTART:20270314T070000
END:DAYLIGHT
BEGIN:STANDARD
TZOFFSETFROM:-0400
TZOFFSETTO:-0500
TZNAME:EST
DTSTART:20271107T060000
END:STANDARD
END:VTIMEZONE
BEGIN:VEVENT
DTSTART;TZID=America/New_York:20250515T180000
DTEND;TZID=America/New_York:20260515T000000
DTSTAMP:20260424T080840
CREATED:20260423T140219Z
LAST-MODIFIED:20260423T140219Z
UID:10027498-1747332000-1778803200@www.mybergen.com
SUMMARY:Lions Club Spring Carnival in Franklin Lakes (6pm-10pm)
DESCRIPTION:
URL:https://www.mybergen.com/events/lions-club-spring-carnival-in-franklin-lakes-6pm-10pm/
END:VEVENT
BEGIN:VEVENT
DTSTART;TZID=America/New_York:20260415T080000
DTEND;TZID=America/New_York:20260523T170000
DTSTAMP:20260424T080840
CREATED:20260416T003518Z
LAST-MODIFIED:20260416T003518Z
UID:10025086-1776240000-1779555600@www.mybergen.com
SUMMARY:Nature Photography Show at the Haworth Library
DESCRIPTION:Nature Photography Show happening now through May 23rd\, 2026.  Opening on April 18th\, 2026 from 11:30am-1:30pm.  
URL:https://www.mybergen.com/events/nature-photography-show-at-the-haworth-library/
ATTACH;FMTTYPE=image/jpeg:https://www.mybergen.com/wp-content/uploads/2026/04/PeacefulNatureCynthiaSorokaDunnFlyer.jpg
END:VEVENT
BEGIN:VEVENT
DTSTART;TZID=America/New_York:20260418T080000
DTEND;TZID=America/New_York:20260418T080000
DTSTAMP:20260424T080840
CREATED:20260318T184018Z
LAST-MODIFIED:20260318T184018Z
UID:10024286-1776499200-1776499200@www.mybergen.com
SUMMARY:New Meadowlands Market
DESCRIPTION:
URL:https://www.mybergen.com/events/new-meadowlands-market-11/
LOCATION:MetLife Stadium\, 1 MetLife Stadium Dr\, East Rutherford\, NJ\, United States
END:VEVENT
BEGIN:VEVENT
DTSTART;TZID=America/New_York:20260418T090000
DTEND;TZID=America/New_York:20260418T090000
DTSTAMP:20260424T080840
CREATED:20260318T183011Z
LAST-MODIFIED:20260318T183011Z
UID:10024261-1776502800-1776502800@www.mybergen.com
SUMMARY:Yoga for the Soul at Bergen Town Center
DESCRIPTION:
URL:https://www.mybergen.com/events/yoga-for-the-soul-at-bergen-town-center-21/
LOCATION:Bergen Town Center\, Bergen Town Center\, Paramus\, NJ 076520\, Paramus\, NJ\, 076520\, United States
END:VEVENT
BEGIN:VEVENT
DTSTART;TZID=America/New_York:20260418T090000
DTEND;TZID=America/New_York:20260418T090000
DTSTAMP:20260424T080840
CREATED:20260319T143002Z
LAST-MODIFIED:20260319T143002Z
UID:10024344-1776502800-1776502800@www.mybergen.com
SUMMARY:Hooked on the Hudson Annual Fishing Contest
DESCRIPTION:
URL:https://www.mybergen.com/events/hooked-on-the-hudson-annual-fishing-contest/
LOCATION:Ross Dock Picnic Area\, Hudson Drive\, Fort Lee\, New Jersey\, United States
END:VEVENT
BEGIN:VEVENT
DTSTART;TZID=America/New_York:20260418T100000
DTEND;TZID=America/New_York:20260418T100000
DTSTAMP:20260424T080840
CREATED:20260317T180743Z
LAST-MODIFIED:20260317T180743Z
UID:10024214-1776506400-1776506400@www.mybergen.com
SUMMARY:Nature Story Time at Tenafly Nature Center
DESCRIPTION:
URL:https://www.mybergen.com/events/nature-story-time-at-tenafly-nature-center-18/
LOCATION:Tenafly Nature Center\, 313 Hudson Avenue\, Tenafly\, NJ
END:VEVENT
BEGIN:VEVENT
DTSTART;TZID=America/New_York:20260418T100000
DTEND;TZID=America/New_York:20260418T100000
DTSTAMP:20260424T080840
CREATED:20260318T184214Z
LAST-MODIFIED:20260318T184214Z
UID:10024291-1776506400-1776506400@www.mybergen.com
SUMMARY:Spectrum for Living - Michael B. Carpenter 5K\, Walk & Doggie Dash at Overpeck Park
DESCRIPTION:
URL:https://www.mybergen.com/events/spectrum-for-living-michael-b-carpenter-5k-walk-doggie-dash-at-overpeck-park/
LOCATION:Overpeck Park\, Challenger Road\, Ridgefield Park\, New Jersey\, United States
END:VEVENT
BEGIN:VEVENT
DTSTART;TZID=America/New_York:20260418T100000
DTEND;TZID=America/New_York:20260418T100000
DTSTAMP:20260424T080840
CREATED:20260319T142702Z
LAST-MODIFIED:20260319T142702Z
UID:10024336-1776506400-1776506400@www.mybergen.com
SUMMARY:Volunteer Open House & Season Kickoff at NJ Botanical Garden in Ringwood
DESCRIPTION:
URL:https://www.mybergen.com/events/volunteer-open-house-season-kickoff-at-nj-botanical-garden-in-ringwood/
LOCATION:NJ Botanical Garden\, Morris Road\, Ringwood\, NJ
END:VEVENT
BEGIN:VEVENT
DTSTART;TZID=America/New_York:20260418T100000
DTEND;TZID=America/New_York:20260418T100000
DTSTAMP:20260424T080840
CREATED:20260319T142702Z
LAST-MODIFIED:20260404T150507Z
UID:10024337-1776506400-1776506400@www.mybergen.com
SUMMARY:Lilac Garden Workshop at NJ Botanical Garden in Ringwood
DESCRIPTION:Lilacs are a favorite spring bloom\, known for their fragrance and clusters of colorful flowers that signal the start of the season. \nThe New Jersey Botanical Garden (NJBG) will host a free Lilac Garden Workshop\, taking place during NJBG’s Open House\, on Saturday\, April 18\, from 10:00 am-12:00 pm.   \nBring a trowel\, clippers\, kneeling pad\, gloves\, and a drink and meet in the Carriage House. Visit NJBG.org to find more information. The New Jersey Botanical Garden is located on Morris Road in Ringwood\, New Jersey.  \n 
URL:https://www.mybergen.com/events/lilac-garden-workshop-at-nj-botanical-garden-in-ringwood-2/
LOCATION:NJ Botanical Garden\, Morris Road\, Ringwood\, NJ
ATTACH;FMTTYPE=image/jpeg:https://www.mybergen.com/wp-content/uploads/2021/10/Lilac.jpg
END:VEVENT
BEGIN:VEVENT
DTSTART;TZID=America/New_York:20260418T100000
DTEND;TZID=America/New_York:20260418T100000
DTSTAMP:20260424T080840
CREATED:20260409T132322Z
LAST-MODIFIED:20260409T132322Z
UID:10024706-1776506400-1776506400@www.mybergen.com
SUMMARY:Earth Day Pollinator Planting at Abma's Farm
DESCRIPTION:
URL:https://www.mybergen.com/events/earth-day-pollinator-planting-at-abmas-farm/
LOCATION:Abma’s Farm\, 700 Lawlins Road\, Allendale\, NJ
END:VEVENT
BEGIN:VEVENT
DTSTART;TZID=America/New_York:20260418T103000
DTEND;TZID=America/New_York:20260418T103000
DTSTAMP:20260424T080840
CREATED:20260329T212957Z
LAST-MODIFIED:20260330T114559Z
UID:10024603-1776508200-1776508200@www.mybergen.com
SUMMARY:Open Cockpit Day at NJ Aviation Hall of Fame in Teterboro
DESCRIPTION:This popular event at the Aviation Hall of Fame gives visitors the opportunity to sit in the cockpit of a very rare Lockheed Bushmaster plane\, a U.S. Coast Guard Rescue Helicopter\, and a M*A*S*H Bell 47 helicopter made famous during the Korean War; and see the cabin and cockpit of the world’s only surviving Martin 202A Airliner. \nThe event also includes displays featuring a Bell AH-1 Cobra helicopter\, an OV-1A Mohawk Observation/Attack Aircraft\, a General Aviation Trainer (G.A.T-1) and a Glider. \nYoung astronauts won’t want to miss the working display of the International Space Station (ISS) with uniforms and items used by many astronauts like Buzz Aldrin and Scott and Mark Kelly\, just to name a few. \nAnd before you leave\, be sure to sit inside the Aviation Hall of Fame’s Official Airport Rescue Firefighter Truck! \nFind more information about Open Cockpit Day here. The NJ Aviation Hall of Fame is located at 400 Fred Wehran Drive in Teterboro\, New Jersey.
URL:https://www.mybergen.com/events/nj-hall-of-fame-open-cockpit-day/
ATTACH;FMTTYPE=image/jpeg:https://www.mybergen.com/wp-content/uploads/2025/05/Aviation3.jpg
END:VEVENT
BEGIN:VEVENT
DTSTART;TZID=America/New_York:20260418T110000
DTEND;TZID=America/New_York:20260418T110000
DTSTAMP:20260424T080840
CREATED:20260330T214038Z
LAST-MODIFIED:20260401T211551Z
UID:10024613-1776510000-1776510000@www.mybergen.com
SUMMARY:Ridgewood Y Healthy Kids Day
DESCRIPTION:Healthy Kids Day\, the YMCA’s national initiative and largest single-day event dedicated to the youth development and the health and well-being of kids and families\, is returning to the Ridgewood Y on Saturday\, April 18 from 11:00 am-1:00 pm. \nFor more than 30 years\, the Ridgewood Y has hosted this free\, community-wide celebration to kick off the warmer months. The event encourages children to stay active\, engaged\, and healthy both physically and mentally throughout the summer and beyond. \nFamilies are invited to take part in a kid-friendly festival featuring a variety of activities\, including face painting\, games and physical activities\, story time with the Ridgewood Library\, touch-a-truck with the Ridgewood Police and Fire Departments\, Camp Bernie critter meet and greet\, seed planting\, sensory tables\, crafts\, and information on youth programs\, summer camp\, and swim lessons. \nThe event is free\, but sign-up is recommended. Reserve your spot here. The Ridgewood YMCA is located at 12 Oak Street in Ridgewood\, New Jersey.
URL:https://www.mybergen.com/events/ridgewood-y-healthy-kids-day/
LOCATION:Ridgewood YMCA\, 112 Oak Street\, Ridgewood\, NJ
ATTACH;FMTTYPE=image/jpeg:https://www.mybergen.com/wp-content/uploads/2024/03/Kids-Running-2-e1767970309386.jpg
END:VEVENT
BEGIN:VEVENT
DTSTART;TZID=America/New_York:20260418T130000
DTEND;TZID=America/New_York:20260418T130000
DTSTAMP:20260424T080840
CREATED:20260319T142800Z
LAST-MODIFIED:20260319T142800Z
UID:10024339-1776517200-1776517200@www.mybergen.com
SUMMARY:Early Spring Wildflower Walk at NJ Botanical Garden in Ringwood
DESCRIPTION:
URL:https://www.mybergen.com/events/early-spring-wildflower-walk-at-nj-botanical-garden-in-ringwood-2/
LOCATION:NJ Botanical Garden\, Morris Road\, Ringwood\, NJ
END:VEVENT
BEGIN:VEVENT
DTSTART;TZID=America/New_York:20260418T130000
DTEND;TZID=America/New_York:20260418T130000
DTSTAMP:20260424T080840
CREATED:20260407T130530Z
LAST-MODIFIED:20260407T133353Z
UID:10024650-1776517200-1776517200@www.mybergen.com
SUMMARY:Mahwah Holi Festival
DESCRIPTION:Celebrate spring with color\, music\, and community at the Mahwah Holi Festival. Known as the festival of colors\, Holi is a tradition that brings people together through music\, dancing\, and colorful powder tosses. \nThe celebration takes place on Saturday\, April 18\, from 1:00 pm to 3:00 pm at Riverside Park in Mahwah. Admission is free\, and complimentary color powder will be available for participants. Wear white so the colors really stand out. The event also features food\, dance\, music\, and plenty of colorful photo ops. \nRiverside Park is located at Reich Avenue and Brakeshoe Place in Mahwah\, New Jersey. Find more information and rsvp here.
URL:https://www.mybergen.com/events/holi-festival-in-mahwah/
LOCATION:Riverside Park\, 516 River Road\, North Arlington\, New Jersey\, United States
ATTACH;FMTTYPE=image/jpeg:https://www.mybergen.com/wp-content/uploads/2026/03/Holi-Festival-e1775476181336.jpg
END:VEVENT
BEGIN:VEVENT
DTSTART;TZID=America/New_York:20260418T140000
DTEND;TZID=America/New_York:20260418T163000
DTSTAMP:20260424T080840
CREATED:20260330T214801Z
LAST-MODIFIED:20260330T214801Z
UID:10024606-1776520800-1776529800@www.mybergen.com
SUMMARY:Bound/ Unbound: A Queer Quest for Big Love '26
DESCRIPTION:Bound/Unbound is a reimagined riff on Charles L. Mee’s BIG LOVE\, exploring the complexities of love\, dysfunctional relationships\, and the ferocity forged by heartache through a non-binary lens. \nOriginally produced in 2000 as a modern adaptation of THE SUPPLIANTS by Aeschylus\, the story of fifty brides who flee to Italy to escape marrying their cousins is expanded in this devised piece to invite queer stories & relationships\, and non-binary gender identity & expression. How do we look at the “politics of love and gender” in a more expansive and nuanced way? How does this challenge preconceived notions of love\, commitment\, and the freedom to choose who and how we love?
URL:https://www.mybergen.com/events/bound-unbound-a-queer-quest-for-big-love-26/
LOCATION:Life Hall Studio Theatre 1200\, Life Hall Studio Theatre 1200 Red Hawk Deck Montclair State University\, Montclair\, NJ\, 07043\, United States
CATEGORIES:Event
ATTACH;FMTTYPE=image/png:https://www.mybergen.com/wp-content/uploads/2026/03/bound-unbound_1755717910-1.png
ORGANIZER;CN="Montclair State University":MAILTO:Phillipsam@montclair.edu
END:VEVENT
BEGIN:VEVENT
DTSTART;TZID=America/New_York:20260418T180000
DTEND;TZID=America/New_York:20260418T180000
DTSTAMP:20260424T080841
CREATED:20260321T160004Z
LAST-MODIFIED:20260321T160004Z
UID:10024370-1776535200-1776535200@www.mybergen.com
SUMMARY:Doubles for Couples Night at Montclair Pickleball in Montclair
DESCRIPTION:
URL:https://www.mybergen.com/events/doubles-for-couples-night-at-montclair-pickleball-in-montclair/
END:VEVENT
BEGIN:VEVENT
DTSTART;TZID=America/New_York:20260418T190000
DTEND;TZID=America/New_York:20260418T190000
DTSTAMP:20260424T080841
CREATED:20260313T162650Z
LAST-MODIFIED:20260313T162650Z
UID:10024176-1776538800-1776538800@www.mybergen.com
SUMMARY:Lil Mo Mozzarella at Bananas Comedy Club
DESCRIPTION:
URL:https://www.mybergen.com/events/lil-mo-mozzarella-at-bananas-comedy-club-4/
LOCATION:Bananas Comedy Club\, 283 Rt 17 South\, Hasbrouck Heights\, United States
END:VEVENT
BEGIN:VEVENT
DTSTART;TZID=America/New_York:20260418T190000
DTEND;TZID=America/New_York:20260418T190000
DTSTAMP:20260424T080841
CREATED:20260318T183811Z
LAST-MODIFIED:20260318T183811Z
UID:10024280-1776538800-1776538800@www.mybergen.com
SUMMARY:Angel  Farewell Tour at Debonair Music Hall in Teaneck
DESCRIPTION:
URL:https://www.mybergen.com/events/angel-farewell-tour-at-debonair-music-hall-in-teaneck/
LOCATION:Debonair Music Hall\, 1409 Queen Anne Road\, Teaneck\, New Jersey
END:VEVENT
BEGIN:VEVENT
DTSTART;TZID=America/New_York:20260418T190000
DTEND;TZID=America/New_York:20260418T190000
DTSTAMP:20260424T080841
CREATED:20260402T154614Z
LAST-MODIFIED:20260402T154614Z
UID:10024641-1776538800-1776538800@www.mybergen.com
SUMMARY:Concert with Guitarist Tal Naccarato at Englewood Library
DESCRIPTION:
URL:https://www.mybergen.com/events/concert-with-guitarist-tal-naccarato-at-englewood-library/
LOCATION:Englewood Library\, 31 Engle Street\, Englewood\, United States
END:VEVENT
BEGIN:VEVENT
DTSTART;TZID=America/New_York:20260418T190000
DTEND;TZID=America/New_York:20260418T220000
DTSTAMP:20260424T080841
CREATED:20260408T115040Z
LAST-MODIFIED:20260408T115040Z
UID:10024664-1776538800-1776549600@www.mybergen.com
SUMMARY:Kirtan Flow into Dance Journey and Yoga Nidra
DESCRIPTION:Doors open at 7:00 PM \nLed by Jordan Loder and Zeni Pepper \nJoin us for an unforgettable evening of devotional sound\, ecstatic movement\, and deep rest. The night begins with live kirtan led by international artist Jordan Loder\, whose devotional chanting is known for its raw vulnerability\, heartfelt presence\, and contemporary expression of timeless bhakti traditions. Jordan has shared concerts\, festivals\, retreats\, and sacred gatherings around the world\, creating spaces of connection through call-and-response mantra\, silence\, and song. \nThis special evening will flow from Kirtan into Dance Journey and back into Kirtan\, carrying us into a closing Yoga Nidra with Sound Bath. Compassionate invocations gently open the heart. Rhythmic waves of chant uplift and unify. Moments of stillness invite you inward\, where separation softens and the ever-present Self is revealed. Jordan’s approach is grounded\, sincere\, and refreshingly free of pretense. \nWith quiet humility\, gentle humor\, and deep devotion\, he offers a powerful and accessible experience for all. He has toured and collaborated within the global kirtan community alongside beloved artists including Snatam Kaur\, Deva Premal & Miten\, GuruGanesha\, Simrit\, Ajeet\, The Landis Brothers\, Hans Christian\, Stephen Bross\, Matt Pszonak\, and Adam Bauer. Deeply influenced by the teachings of Ramana Maharshi\, Jordan weaves ancient Hindu and Buddhist mantras centered on forgiveness\, gratitude\, and compassion. \nLearn more: www.JordanLoder.com \nDance Journey & Yoga Nidra \nThese powerful dance sessions are a rich opportunity to move the body through space and time on a journey through the cosmos. The sonic landscape draws from indigenous rhythms from around the world\, the sounds of nature\, the sacred elements\, jazz\, classical music\, and the occasional nod to the spirit of classic rock and roll. Spoken-word samples from spiritual teachers are woven throughout\, infusing the experience with intention\, insight\, and joy. The journey concludes with a 15-minute sound bath savasana to help release tension\, integrate the experience\, and settle into stillness.   A Yoga Nidra guided meditation then soothes the mind into a deep state of peace and happiness. What to Expect • Opening community connection — arrive\, ground\, and connect \n• Live kirtan concert — call-and-response chanting to uplift and unify \n• Ecstatic Dance Journey — a liberating movement experience through sound and rhythm \n• Yoga Nidra with closing sound bath — guided rest and sound healing for deep integration \n• Nourishment — complimentary water\, chai\, and light snacks Evening Flow \n• 7:00–7:15 PM — Doors open for arrival and mingling \n• 7:15 PM — Live Kirtan Concert \n• 8:00 PM — Dance Journey\, followed by free-flow ecstatic dance and transcendent mantras \n• 9:15 PM — Yoga Nidra Guided Meditation with Closing Sound Bath What to Wear / Bring \n• Comfortable\, layered clothing for warmth and movement \n• A refillable water bottle \n• Bare feet\, socks\, or indoor-only dance shoes \n• An open heart and willingness to explore balance within Community Agreements To keep the space safe\, respectful\, and expansive: Dance with yourself first — if dancing with others\, all contact must be consensual No alcohol — we honor clear presence and embodied awareness No talking on the dance floor — let movement and body language speak Grounded feet — no outdoor shoes on the dance floor Be yourself — all emotions\, expressions\, and energies are welcome Energy Exchange • Early Bird $39 until 4/17 • Regular $49 (Bringing Friends $40 each) • Access / sliding scale tickets $29 • Studio members get 15% off Come sing\, move\, release\, and rest with us in community. Reserve your spot now.  
URL:https://www.mybergen.com/events/kirtan-flow-into-dance-journey-and-yoga-nidra/
LOCATION:Pure Bliss Yoga – Edgewater\, 725 River Road Ste 54\, Edgewater\, NJ\, 07020\, United States
CATEGORIES:Event
ATTACH;FMTTYPE=image/jpeg:https://www.mybergen.com/wp-content/uploads/2026/04/Kirtan-Flow-into-Dance-Journey-and-Yoga-Nidra.jpg
ORGANIZER;CN="Pure Bliss Yoga":MAILTO:info@pureblissyoga.com
END:VEVENT
BEGIN:VEVENT
DTSTART;TZID=America/New_York:20260418T200000
DTEND;TZID=America/New_York:20260418T200000
DTSTAMP:20260424T080841
CREATED:20260313T162541Z
LAST-MODIFIED:20260313T162541Z
UID:10024169-1776542400-1776542400@www.mybergen.com
SUMMARY:Tracy Morgan at Bergen Performing Arts Center
DESCRIPTION:
URL:https://www.mybergen.com/events/tracy-morgan-at-bergen-performing-arts-center/
LOCATION:Bergen Performing Arts Center\, 30 N. Van Brunt Street\, Englewood\, NJ
END:VEVENT
BEGIN:VEVENT
DTSTART;TZID=America/New_York:20260418T200000
DTEND;TZID=America/New_York:20260418T200000
DTSTAMP:20260424T080841
CREATED:20260326T152848Z
LAST-MODIFIED:20260326T152848Z
UID:10024579-1776542400-1776542400@www.mybergen.com
SUMMARY:RCNJ Theater Presents Nine: The Musical at Berrie Center in Mahwah
DESCRIPTION:
URL:https://www.mybergen.com/events/rcnj-theater-presents-nine-the-musical-at-berrie-center-in-mahwah-6/
END:VEVENT
BEGIN:VEVENT
DTSTART;TZID=America/New_York:20260418T200000
DTEND;TZID=America/New_York:20260418T200000
DTSTAMP:20260424T080841
CREATED:20260407T130534Z
LAST-MODIFIED:20260407T132709Z
UID:10024652-1776542400-1776542400@www.mybergen.com
SUMMARY:Howdy Stranger Scripted: SNL-Style Sketch Comedy Show in Hackensack
DESCRIPTION:North Jersey’s top-rated improv troupe\, Howdy Stranger\, is stepping outside its usual format for a special return to the Hackensack Performing Arts Center (HACPAC). The group will take the stage on Friday\, April 17\, and Saturday\, April 18\, at 8:00 pm for its annual production\, Scripted. \nKnown for its award-winning\, off-the-cuff comedy\, Howdy Stranger takes a different approach with Scripted\, delivering a fast-paced\, polished show inspired by the style of Saturday Night Live. This year’s production features 90 minutes of all-new\, original material written and performed by the core ensemble: Chris Fitzgerald\, Ryan Huban\, Dreena Moran\, and JJ Lynn. \n“Creating Scripted is an intensely collaborative process\,” says founder Ryan Huban. “A sketch might start as a simple pitch for a vampire dating show\, but as we brainstorm and challenge one another\, it evolves into something completely different and much funnier. We spend months finding the strongest ideas to ensure we’re delivering a show our fans will truly connect with. In the end\, it’s all about the laughter.” \n\n\n\n\n\n\n\n\nFrom sharp parodies of everyday relationships to offbeat\, character-driven sketches\, Scripted delivers a fast-moving mix of clever humor and physical comedy. The production has become a fan favorite in the Bergen County arts community\, with past audience members hailing it as an “unforgettable evening of comedy” and “funnier than SNL.” \nFind more information and purchase tickets here. The Hackensack Performing Arts Center is located at 102 State Street in Hackensack\, New Jersey.
URL:https://www.mybergen.com/events/hacpac-presents-howdy-stranger-scripted-snl-style-sketch-comedy-show-in-hackensack-2/
LOCATION:Hackensack Performing Arts Center\, 102 State Street\, Hackensack\, NJ
ATTACH;FMTTYPE=image/jpeg:https://www.mybergen.com/wp-content/uploads/2026/04/Scripted-Sat-hacpac-e1775568399295.jpg
END:VEVENT
BEGIN:VEVENT
DTSTART;TZID=America/New_York:20260418T200000
DTEND;TZID=America/New_York:20260418T200000
DTSTAMP:20260424T080841
CREATED:20260417T144648Z
LAST-MODIFIED:20260417T221139Z
UID:10025522-1776542400-1776542400@www.mybergen.com
SUMMARY:Live Music at Mason Jar in Mahwah with Dave Kopec Electric Band
DESCRIPTION:
URL:https://www.mybergen.com/events/live-music-at-mason-jar-in-mahwah-with-3/
LOCATION:Mason Jar\, 219 Ramapo Valley Road\, Mahwah\, New Jersey\, United States
END:VEVENT
BEGIN:VEVENT
DTSTART;TZID=America/New_York:20260418T200000
DTEND;TZID=America/New_York:20260418T230000
DTSTAMP:20260424T080841
CREATED:20260408T115225Z
LAST-MODIFIED:20260408T115225Z
UID:10024665-1776542400-1776553200@www.mybergen.com
SUMMARY:Dan Neville Band at Brvsh Cul7ur3 in Teaneck
DESCRIPTION:Dan Neville is an award winning vibraphonist\, composer\, performer\, educator and arranger\, currently based in NYC\, a resident of North New Jersey. Dan Neville is a recent recipient of the 2025 Fellowship grant for Music Composition from the New Jersey State Council on the Arts. Dan Neville is the recent winner (1st place in the Jazz category) of the inaugural Springfest Vibraphone competition (May 2025)\, presented by the Vibraphone project and supported by Malletech\, Marimba One\, and Artifact percussion. \nWalk in cover charges will be higher than purchasing ticket online in advance Plus $20 food/drink minimum per person per set  
URL:https://www.mybergen.com/events/dan-neville-band-at-brvsh-cul7ur3-in-teaneck/
LOCATION:BRVSH CUL7UR3\, 482 Cedar Lane\, Teaneck\, NJ\, 07666\, United States
ATTACH;FMTTYPE=image/jpeg:https://www.mybergen.com/wp-content/uploads/2026/04/Dan-Neville-Band.jpg
ORGANIZER;CN="Brvsh Cul7ur3":MAILTO:info@brvshcul7ur3.com
END:VEVENT
BEGIN:VEVENT
DTSTART;TZID=America/New_York:20260418T210000
DTEND;TZID=America/New_York:20260418T210000
DTSTAMP:20260424T080841
CREATED:20260417T144635Z
LAST-MODIFIED:20260417T144635Z
UID:10025511-1776546000-1776546000@www.mybergen.com
SUMMARY:Live Music at Tommy Fox's in Bergenfield with Driftwood
DESCRIPTION:
URL:https://www.mybergen.com/events/live-music-at-tommy-foxs-in-bergenfield-with-driftwood/
END:VEVENT
BEGIN:VEVENT
DTSTART;TZID=America/New_York:20260418T210000
DTEND;TZID=America/New_York:20260418T210000
DTSTAMP:20260424T080841
CREATED:20260417T144646Z
LAST-MODIFIED:20260417T144646Z
UID:10025520-1776546000-1776546000@www.mybergen.com
SUMMARY:Live Music at Shannon Rose Pub in Ramsey with 8th Grade Science
DESCRIPTION:
URL:https://www.mybergen.com/events/live-music-at-shannon-rose-pub-in-ramsey-with-8th-grade-science/
END:VEVENT
BEGIN:VEVENT
DTSTART;TZID=America/New_York:20260418T213000
DTEND;TZID=America/New_York:20260418T213000
DTSTAMP:20260424T080841
CREATED:20260313T162650Z
LAST-MODIFIED:20260313T162650Z
UID:10024177-1776547800-1776547800@www.mybergen.com
SUMMARY:Lil Mo Mozzarella at Bananas Comedy Club
DESCRIPTION:
URL:https://www.mybergen.com/events/lil-mo-mozzarella-at-bananas-comedy-club-5/
LOCATION:Bananas Comedy Club\, 283 Rt 17 South\, Hasbrouck Heights\, United States
END:VEVENT
END:VCALENDAR